Workbook
Name eurofxref_hist: cambi_giornalieri!$A$1:$AQ$6566
Name MSCI_GERMANY: dati!$C$1:$C$297
Name MSCI_GERMANY_1: dati!$E$1:$E$297
Name MSCI_USA: dati!$A$1:$B$297
Name MSCI_USA_1: dati!$D$1:$D$297
Name XD9U.MI: XD9U!$A$1:$B$2326

Sheet dati
A1: Date | B1: MSCI USA EUR | C1: MSCI GERMANY EUR | D1: MSCI USA USD | E1: MSCI GERMANY USD | F1: controlliamo se funziona il cambio Germany | H1: controlliamo se funziona il cambio USA
A2: 1998-12 | B2: 100 | C2: 100 | D2: 100 | E2: 100 | F2: =C2*cambi_mensili!G2 -> 117.89 | G2: 100 | H2: =B2*cambi_mensili!G2 -> 117.89 | I2: 100
A3: 1999-01 | B3: 107.83574 | C3: 105.11002 | D3: 104.29096 | E3: 101.65484 | F3: =C3*cambi_mensili!G3 -> 119.65725 | G3: =F3/F$2*100 -> 101.49907 | H3: =B3*cambi_mensili!G3 -> 122.76021 | I3: =H3/H$2*100 -> 104.13115
A4: 1999-02 | B4: 108.41079 | C4: 99.762066 | D4: 101.34805 | E4: 93.26277 | F4: =C4*cambi_mensili!G4 -> 109.91784 | G4: =F4/F$2*100 -> 93.237632 | H4: =B4*cambi_mensili!G4 -> 119.44701 | I4: =H4/H$2*100 -> 101.32073
A5: 1999-03 | B5: 114.78364 | C5: 98.689626 | D5: 105.53155 | E5: 90.734784 | F5: =C5*cambi_mensili!G5 -> 106.0124 | G5: =F5/F$2*100 -> 89.924842 | H5: =B5*cambi_mensili!G5 -> 123.30059 | I5: =H5/H$2*100 -> 104.58953
A6: 1999-04 | B6: 121.33543 | C6: 107.2477 | D6: 109.31813 | E6: 96.625675 | F6: =C6*cambi_mensili!G6 -> 113.65038 | G6: =F6/F$2*100 -> 96.403751 | H6: =B6*cambi_mensili!G6 -> 128.57915 | I6: =H6/H$2*100 -> 109.06706
A7: 1999-05 | B7: 120.19257 | C7: 102.1849 | D7: 106.74287 | E7: 90.750287 | F7: =C7*cambi_mensili!G7 -> 106.84453 | G7: =F7/F$2*100 -> 90.630701 | H7: =B7*cambi_mensili!G7 -> 125.67335 | I7: =H7/H$2*100 -> 106.60221
A8: 1999-06 | B8: 128.04653 | C8: 109.07647 | D8: 112.45304 | E8: 95.793155 | F8: =C8*cambi_mensili!G8 -> 112.65418 | G8: =F8/F$2*100 -> 95.558725 | H8: =B8*cambi_mensili!G8 -> 132.24646 | I8: =H8/H$2*100 -> 112.17784
A9: 1999-07 | B9: 119.34647 | C9: 103.41946 | D9: 108.77629 | E9: 94.259891 | F9: =C9*cambi_mensili!G9 -> 110.59677 | G9: =F9/F$2*100 -> 93.81353 | H9: =B9*cambi_mensili!G9 -> 127.62911 | I9: =H9/H$2*100 -> 108.26119
A10: 1999-08 | B10: 120.12836 | C10: 106.60573 | D10: 108.0567 | E10: 95.892957 | F10: =C10*cambi_mensili!G10 -> 112.71424 | G10: =F10/F$2*100 -> 95.609671 | H10: =B10*cambi_mensili!G10 -> 127.01171 | I10: =H10/H$2*100 -> 107.73748
A11: 1999-09 | B11: 115.575 | C11: 104.31079 | D11: 104.8172 | E11: 94.601465 | F11: =C11*cambi_mensili!G11 -> 111.24745 | G11: =F11/F$2*100 -> 94.36547 | H11: =B11*cambi_mensili!G11 -> 123.26074 | I11: =H11/H$2*100 -> 104.55572
A12: 1999-10 | B12: 124.72731 | C12: 111.41188 | D12: 111.64116 | E12: 99.722769 | F12: =C12*cambi_mensili!G12 -> 116.45884 | G12: =F12/F$2*100 -> 98.786024 | H12: =B12*cambi_mensili!G12 -> 130.37745 | I12: =H12/H$2*100 -> 110.59246
A13: 1999-11 | B13: 132.95127 | C13: 119.52645 | D13: 114.00352 | E13: 102.49196 | F13: =C13*cambi_mensili!G13 -> 120.68585 | G13: =F13/F$2*100 -> 102.37158 | H13: =B13*cambi_mensili!G13 -> 134.24089 | I13: =H13/H$2*100 -> 113.86962
A14: 1999-12 | B14: 142.83153 | C14: 140.63163 | D14: 121.92223 | E14: 120.04438 | F14: =C14*cambi_mensili!G14 -> 141.27854 | G14: =F14/F$2*100 -> 119.83929 | H14: =B14*cambi_mensili!G14 -> 143.48855 | I14: =H14/H$2*100 -> 121.71393
... A297: 2023-07 | B297: 535.42553 | C297: 267.86927 | D297: 502.73231 | E297: 251.51311 | F297: =C297*cambi_mensili!G297 -> 295.2723 | G297: =F297/F$2*100 -> 250.46424 | H297: =B297*cambi_mensili!G297 -> 590.19956 | I297: =H297/H$2*100 -> 500.63581

Sheet cambi_giornalieri
A1: Date | B1: USD | C1: JPY | D1: BGN | E1: CYP | F1: CZK | G1: DKK | H1: EEK | I1: GBP | J1: HUF | K1: LTL | L1: LVL | M1: MTL | N1: PLN | O1: ROL | P1: RON | Q1: SEK | R1: SIT | S1: SKK | T1: CHF | U1: ISK | V1: NOK | W1: HRK | X1: RUB | Y1: TRL | Z1: TRY | AA1: AUD | AB1: BRL | AC1: CAD | AD1: CNY | AE1: HKD | AF1: IDR | AG1: ILS | AH1: INR | AI1: KRW | AJ1: MXN | AK1: MYR | AL1: NZD | AM1: PHP | AN1: SGD | AO1: THB | AP1: ZAR
A2: 36164 | B2: 1.1789 | C2: 133.73 | E2: 0.58231 | F2: 35.107 | G2: 7.4501 | H2: 15.6466 | I2: 0.7111 | J2: 251.48 | K2: 4.717 | L2: 0.6668 | M2: 0.4432 | N2: 4.0712 | O2: 13111 | Q2: 9.4696 | R2: 189.045 | S2: 42.991 | T2: 1.6168 | U2: 81.48 | V2: 8.855 | Y2: 372274 | AA2: 1.91 | AC2: 1.8004 | AE2: 9.1332 | AI2: 1398.59 | AL2: 2.2229 | AN2: 1.9554 | AP2: 6.9358
A3: 36165 | B3: 1.179 | C3: 130.96 | E3: 0.5823 | F3: 34.917 | G3: 7.4495 | H3: 15.6466 | I3: 0.7122 | J3: 250.8 | K3: 4.7174 | L3: 0.6657 | M3: 0.4432 | N3: 4.0245 | O3: 13168 | Q3: 9.4025 | R3: 188.775 | S3: 42.848 | T3: 1.6123 | U3: 81.53 | V3: 8.7745 | Y3: 372816 | AA3: 1.8944 | AC3: 1.7965 | AE3: 9.1341 | AI3: 1373.01 | AL3: 2.2011 | AN3: 1.9655 | AP3: 6.7975
A4: 36166 | B4: 1.1743 | C4: 131.42 | E4: 0.582 | F4: 34.85 | G4: 7.4452 | H4: 15.6466 | I4: 0.7076 | J4: 250.67 | K4: 4.6994 | L4: 0.6649 | M4: 0.442 | N4: 4.0065 | O4: 13168 | Q4: 9.305 | R4: 188.7 | S4: 42.778 | T4: 1.6116 | U4: 81.54 | V4: 8.7335 | Y4: 372188 | AA4: 1.882 | AC4: 1.7711 | AE4: 9.101 | AI4: 1359.54 | AL4: 2.189 | AN4: 1.9699 | AP4: 6.7307
A5: 36167 | B5: 1.1632 | C5: 129.43 | E5: 0.58187 | F5: 34.886 | G5: 7.4431 | H5: 15.6466 | I5: 0.70585 | J5: 250.09 | K5: 4.6548 | L5: 0.6627 | M5: 0.4413 | N5: 4.0165 | O5: 13092 | Q5: 9.18 | R5: 188.8 | S5: 42.765 | T5: 1.6165 | U5: 81.06 | V5: 8.6295 | Y5: 370147 | AA5: 1.8474 | AC5: 1.7602 | AE5: 9.0131 | AI5: 1337.16 | AL5: 2.1531 | AN5: 1.9436 | AP5: 6.8283
A6: 36168 | B6: 1.1659 | C6: 130.09 | E6: 0.58187 | F6: 34.938 | G6: 7.4433 | H6: 15.6466 | I6: 0.7094 | J6: 250.15 | K6: 4.6643 | L6: 0.6654 | M6: 0.4419 | N6: 4.0363 | O6: 13143 | Q6: 9.165 | R6: 188.84 | S6: 42.56 | T6: 1.6138 | U6: 80.99 | V6: 8.59 | Y6: 371830 | AA6: 1.8406 | AC6: 1.7643 | AE6: 9.0302 | AI6: 1366.73 | AL6: 2.1557 | AN6: 1.9537 | AP6: 6.7855
A7: 36171 | B7: 1.1569 | C7: 126.33 | E7: 0.58167 | F7: 35.173 | G7: 7.4433 | H7: 15.6466 | I7: 0.7044 | J7: 249.7 | K7: 4.6296 | L7: 0.6586 | M7: 0.4405 | N7: 4.032 | O7: 12980 | Q7: 9.0985 | R7: 188.9655 | S7: 42.509 | T7: 1.6104 | U7: 80.55 | V7: 8.5585 | Y7: 372471 | AA7: 1.8134 | AC7: 1.7463 | AE7: 8.9655 | AI7: 1356.7 | AL7: 2.1257 | AN7: 1.9358 | AP7: 6.791
A8: 36172 | B8: 1.152 | C8: 129.63 | E8: 0.5814 | F8: 35.25 | G8: 7.443 | H8: 15.6466 | I8: 0.7066 | J8: 249.2 | K8: 4.6088 | L8: 0.6601 | M8: 0.4403 | N8: 4.033 | O8: 12912 | Q8: 9.0955 | R8: 189.5352 | S8: 42.49 | T8: 1.6072 | U8: 80.59 | V8: 8.61 | Y8: 372105 | AA8: 1.809 | AC8: 1.7392 | AE8: 8.9246 | AI8: 1353.43 | AL8: 2.121 | AN8: 1.9343 | AP8: 6.9581
A9: 36173 | B9: 1.1744 | C9: 131.89 | E9: 0.5819 | F9: 36.113 | G9: 7.4432 | H9: 15.6466 | I9: 0.7084 | J9: 255.01 | K9: 4.6986 | L9: 0.6676 | M9: 0.4435 | N9: 4.2033 | O9: 13149 | Q9: 9.14 | R9: 191.2016 | S9: 42.794 | T9: 1.5931 | U9: 81.24 | V9: 8.747 | Y9: 376350 | AA9: 1.862 | AC9: 1.8123 | AE9: 9.1008 | AI9: 1377.93 | AL9: 2.1744 | AN9: 1.9815 | AP9: 7.2543
A10: 36174 | B10: 1.1653 | C10: 132.74 | E10: 0.5819 | F10: 35.698 | G10: 7.4437 | H10: 15.6466 | I10: 0.7062 | J10: 253.84 | K10: 4.6636 | L10: 0.6659 | M10: 0.4414 | N10: 4.1335 | O10: 13134 | Q10: 9.135 | R10: 188.9441 | S10: 42.757 | T10: 1.5934 | U10: 80.93 | V10: 8.7245 | Y10: 375101 | AA10: 1.8353 | AC10: 1.7707 | AE10: 9.0288 | AI10: 1382.23 | AL10: 2.157 | AN10: 1.9615 | AP10: 7.1316
A11: 36175 | B11: 1.1626 | C11: 131.74 | E11: 0.58187 | F11: 35.86 | G11: 7.4441 | H11: 15.6466 | I11: 0.7039 | J11: 253.34 | K11: 4.6516 | L11: 0.6617 | M11: 0.4421 | N11: 4.2 | O11: 13164 | Q11: 9.157 | R11: 187.1333 | S11: 42.738 | T11: 1.5984 | U11: 80.7 | V11: 8.715 | Y11: 374193 | AA11: 1.8388 | AC11: 1.7797 | AE11: 9.0102 | AI11: 1375.76 | AL11: 2.1582 | AN11: 1.957 | AP11: 7.2197
A12: 36178 | B12: 1.1612 | C12: 132.9 | E12: 0.58163 | F12: 35.615 | G12: 7.4431 | H12: 15.6466 | I12: 0.7013 | J12: 250.78 | K12: 4.6457 | L12: 0.6625 | M12: 0.4413 | N12: 4.0667 | O12: 13263 | Q12: 9.093 | R12: 189.3639 | S12: 42.72 | T12: 1.6004 | U12: 80.62 | V12: 8.6575 | Y12: 382036 | AA12: 1.8292 | AC12: 1.7717 | AE12: 8.9944 | AI12: 1371.26 | AL12: 2.1671 | AN12: 1.9549 | AP12: 6.9596
A13: 36179 | B13: 1.1616 | C13: 132.14 | E13: 0.58176 | F13: 35.745 | G13: 7.438 | H13: 15.6466 | I13: 0.7 | J13: 250.64 | K13: 4.646 | L13: 0.661 | M13: 0.4412 | N13: 4.0973 | O13: 13335 | Q13: 9.0045 | R13: 189.4432 | S13: 42.737 | T13: 1.6001 | U13: 80.52 | V13: 8.63 | Y13: 382052 | AA13: 1.8295 | AC13: 1.7739 | AE13: 8.9944 | AI13: 1364.47 | AL13: 2.1614 | AN13: 1.9521 | AP13: 7.0161
... A399: 36725 | B399: 0.9353 | C399: 100.93 | E399: 0.57395 | F399: 35.667 | G399: 7.4557 | H399: 15.6466 | I399: 0.6241 | J399: 260.12 | K399: 3.7417 | L399: 0.5629 | M399: 0.4078 | N399: 4.0297 | O399: 20202 | Q399: 8.387 | R399: 207.6454 | S399: 42.554 | T399: 1.5502 | U399: 74.14 | V399: 8.1895 | Y399: 588276 | AA399: 1.6025 | AC399: 1.3849 | AE399: 7.2953 | AI399: 1041.94 | AL399: 2.041 | AN399: 1.6349 | AP399: 6.4676
A400: 36726 | B400: 0.9216 | C400: 99.6 | D400: 1.9469 | E400: 0.57346 | F400: 35.632 | G400: 7.4535 | H400: 15.6466 | I400: 0.6156 | J400: 260.16 | K400: 3.6826 | L400: 0.5564 | M400: 0.4051 | N400: 4.0048 | O400: 19919 | Q400: 8.399 | R400: 207.5889 | S400: 42.51 | T400: 1.5473 | U400: 73.39 | V400: 8.1735 | Y400: 583156 | AA400: 1.592 | AC400: 1.3595 | AE400: 7.1799 | AI400: 1024.17 | AL400: 2.0239 | AN400: 1.6087 | AP400: 6.4321
A401: 36727 | B401: 0.922 | C401: 99.74 | D401: 1.9468 | E401: 0.57336 | F401: 35.78 | G401: 7.4543 | H401: 15.6466 | I401: 0.6165 | J401: 260.23 | K401: 3.6822 | L401: 0.5564 | M401: 0.4053 | N401: 4.0103 | O401: 19968 | Q401: 8.409 | R401: 207.8352 | S401: 42.505 | T401: 1.5488 | U401: 73.12 | V401: 8.189 | Y401: 583629 | AA401: 1.5951 | AC401: 1.3625 | AE401: 7.1777 | AI401: 1023.24 | AL401: 2.0124 | AN401: 1.6077 | AP401: 6.4182
A402: 36728 | B402: 0.9363 | C402: 101.53 | D402: 1.9465 | E402: 0.57399 | F402: 35.595 | G402: 7.455 | H402: 15.6466 | I402: 0.6185 | J402: 260.3 | K402: 3.7413 | L402: 0.5628 | M402: 0.4072 | N402: 4.0198 | O402: 20295 | Q402: 8.388 | R402: 207.8603 | S402: 42.533 | T402: 1.5511 | U402: 73.6 | V402: 8.1835 | Y402: 589293 | AA402: 1.5945 | AC402: 1.3783 | AE402: 7.2933 | AI402: 1040.91 | AL402: 2.0138 | AN402: 1.6342 | AP402: 6.4495
A403: 36731 | B403: 0.9332 | C403: 101.64 | D403: 1.9464 | E403: 0.57395 | F403: 35.57 | G403: 7.4559 | H403: 15.6466 | I403: 0.6151 | J403: 260.31 | K403: 3.7308 | L403: 0.562 | M403: 0.4065 | N403: 4.0148 | O403: 20258 | Q403: 8.422 | R403: 207.8613 | S403: 42.494 | T403: 1.5555 | U403: 73.49 | V403: 8.1915 | Y403: 588915 | AA403: 1.5905 | AC403: 1.37 | AE403: 7.2722 | AI403: 1039.13 | AL403: 2.0195 | AN403: 1.6281 | AP403: 6.4489
A404: 36732 | B404: 0.941 | C404: 102.78 | D404: 1.9462 | E404: 0.57425 | F404: 35.66 | G404: 7.4548 | H404: 15.6466 | I404: 0.6201 | J404: 260.3 | K404: 3.7633 | L404: 0.5668 | M404: 0.408 | N404: 4.0393 | O404: 20453 | Q404: 8.388 | R404: 207.9904 | S404: 42.472 | T404: 1.5538 | U404: 73.67 | V404: 8.168 | Y404: 592322 | AA404: 1.6072 | AC404: 1.3803 | AE404: 7.3368 | AI404: 1049.69 | AL404: 2.0375 | AN404: 1.6424 | AP404: 6.5443
A405: 36733 | B405: 0.939 | C405: 102.43 | D405: 1.9461 | E405: 0.57422 | F405: 35.663 | G405: 7.4545 | H405: 15.6466 | I405: 0.6189 | J405: 260.31 | K405: 3.759 | L405: 0.5662 | M405: 0.4075 | N405: 4.0356 | O405: 20442 | Q405: 8.394 | R405: 207.2782 | S405: 42.544 | T405: 1.5519 | U405: 73.68 | V405: 8.1825 | Y405: 592372 | AA405: 1.5909 | AC405: 1.3772 | AE405: 7.3265 | AI405: 1047.88 | AL405: 2.0353 | AN405: 1.6366 | AP405: 6.5291
A406: 36734 | B406: 0.9389 | C406: 102.26 | D406: 1.9462 | E406: 0.57418 | F406: 35.59 | G406: 7.4565 | H406: 15.6466 | I406: 0.6198 | J406: 260.47 | K406: 3.7568 | L406: 0.5656 | M406: 0.4076 | N406: 4.0274 | O406: 20497 | Q406: 8.4415 | R406: 208.2732 | S406: 42.538 | T406: 1.5531 | U406: 73.03 | V406: 8.195 | Y406: 592096 | AA406: 1.5898 | AC406: 1.3773 | AE406: 7.3215 | AI406: 1046.46 | AL406: 2.0387 | AN406: 1.6281 | AP406: 6.5103
A407: 36735 | B407: 0.9276 | C407: 101.29 | D407: 1.9461 | E407: 0.57362 | F407: 35.563 | G407: 7.4556 | H407: 15.6466 | I407: 0.615 | J407: 260.45 | K407: 3.712 | L407: 0.5602 | M407: 0.4057 | N407: 4.0138 | O407: 20284 | Q407: 8.4585 | R407: 208.3529 | S407: 42.35 | T407: 1.5486 | U407: 72.69 | V407: 8.1835 | Y407: 587980 | AA407: 1.5752 | AC407: 1.3663 | AE407: 7.2344 | AI407: 1036.07 | AL407: 2.0225 | AN407: 1.6078 | AP407: 6.4351
A408: 36738 | B408: 0.9243 | C408: 101.04 | D408: 1.9462 | E408: 0.57353 | F408: 35.424 | G408: 7.4569 | H408: 15.6466 | I408: 0.6179 | J408: 260.51 | K408: 3.7032 | L408: 0.5598 | M408: 0.4056 | N408: 4.011 | O408: 20238 | Q408: 8.495 | R408: 208.4178 | S408: 42.434 | T408: 1.5477 | U408: 72.67 | V408: 8.199 | Y408: 588419 | AA408: 1.5986 | AC408: 1.3702 | AE408: 7.2155 | AI408: 1033.61 | AL408: 2.0386 | AN408: 1.6034 | AP408: 6.439
A409: 36739 | B409: 0.9264 | C409: 101.56 | D409: 1.9461 | E409: 0.57359 | F409: 35.421 | G409: 7.4575 | H409: 15.6466 | I409: 0.6172 | J409: 260.45 | K409: 3.7068 | L409: 0.5606 | M409: 0.4059 | N409: 4.0352 | O409: 20315 | Q409: 8.474 | R409: 208.3626 | S409: 42.505 | T409: 1.546 | U409: 72.51 | V409: 8.1985 | Y409: 588607 | AA409: 1.5965 | AC409: 1.3794 | AE409: 7.2251 | AI409: 1033.69 | AL409: 2.0356 | AN409: 1.605 | AP409: 6.4473
A410: 36740 | B410: 0.9142 | C410: 99.8 | D410: 1.9462 | E410: 0.57313 | F410: 35.39 | G410: 7.4568 | H410: 15.6466 | I410: 0.6143 | J410: 260.51 | K410: 3.658 | L410: 0.5553 | M410: 0.4041 | N410: 3.996 | O410: 20080 | Q410: 8.4575 | R410: 208.4765 | S410: 42.425 | T410: 1.5449 | U410: 71.93 | V410: 8.18 | Y410: 583991 | AA410: 1.5701 | AC410: 1.3544 | AE410: 7.1301 | AI410: 1020.03 | AL410: 2.0177 | AN410: 1.5796 | AP410: 6.4122
A411: 36741 | B411: 0.9028 | C411: 97.85 | D411: 1.9463 | E411: 0.57284 | F411: 35.342 | G411: 7.458 | H411: 15.6466 | I411: 0.607 | J411: 260.55 | K411: 3.6172 | L411: 0.5498 | M411: 0.4017 | N411: 3.979 | O411: 19872 | Q411: 8.439 | R411: 206.9572 | S411: 42.395 | T411: 1.5425 | U411: 72.34 | V411: 8.1585 | Y411: 580347 | AA411: 1.549 | AC411: 1.3372 | AE411: 7.0503 | AI411: 1007.88 | AL411: 1.9949 | AN411: 1.5608 | AP411: 6.3263
... A1538: 38352 | B1538: 1.3621 | C1538: 139.65 | D1538: 1.9559 | E1538: 0.58 | F1538: 30.464 | G1538: 7.4388 | H1538: 15.6466 | I1538: 0.70505 | J1538: 245.97 | K1538: 3.4528 | L1538: 0.6979 | M1538: 0.4343 | N1538: 4.0845 | O1538: 39390 | Q1538: 9.0206 | R1538: 239.76 | S1538: 38.745 | T1538: 1.5429 | U1538: 83.6 | V1538: 8.2365 | Y1538: 1836200 | AA1538: 1.7459 | AC1538: 1.6416 | AE1538: 10.5881 | AI1538: 1410.05 | AL1538: 1.8871 | AN1538: 2.2262 | AP1538: 7.6897
A1539: 38355 | B1539: 1.3507 | C1539: 138.84 | D1539: 1.9559 | E1539: 0.58 | F1539: 30.361 | G1539: 7.4371 | H1539: 15.6466 | I1539: 0.70725 | J1539: 245.58 | K1539: 3.4528 | L1539: 0.6964 | M1539: 0.4343 | N1539: 4.0774 | O1539: 39230 | Q1539: 8.9758 | R1539: 239.78 | S1539: 38.655 | T1539: 1.5444 | U1539: 83.39 | V1539: 8.2135 | Z1539: 1.815 | AA1539: 1.7329 | AC1539: 1.6278 | AE1539: 10.5055 | AI1539: 1402.16 | AL1539: 1.8877 | AN1539: 2.2113 | AP1539: 7.5893
A1540: 38356 | B1540: 1.3365 | C1540: 138.49 | D1540: 1.9559 | E1540: 0.5801 | F1540: 30.366 | G1540: 7.4351 | H1540: 15.6466 | I1540: 0.7062 | J1540: 245.38 | K1540: 3.4528 | L1540: 0.6965 | M1540: 0.4338 | N1540: 4.0859 | O1540: 38942 | Q1540: 9.0385 | R1540: 239.78 | S1540: 38.57 | T1540: 1.5477 | U1540: 83.39 | V1540: 8.246 | Z1540: 1.807 | AA1540: 1.73 | AC1540: 1.6254 | AE1540: 10.4042 | AI1540: 1387.96 | AL1540: 1.8855 | AN1540: 2.1961 | AP1540: 7.7314
A1541: 38357 | B1541: 1.3224 | C1541: 138.09 | D1541: 1.9558 | E1541: 0.5806 | F1541: 30.429 | G1541: 7.4396 | H1541: 15.6466 | I1541: 0.70485 | J1541: 246.17 | K1541: 3.4528 | L1541: 0.6965 | M1541: 0.4332 | N1541: 4.1204 | O1541: 38666 | Q1541: 9.0373 | R1541: 239.77 | S1541: 38.625 | T1541: 1.5528 | U1541: 83.24 | V1541: 8.2835 | Z1541: 1.8329 | AA1541: 1.7354 | AC1541: 1.6269 | AE1541: 10.301 | AI1541: 1383.76 | AL1541: 1.8963 | AN1541: 2.1823 | AP1541: 7.8085
A1542: 38358 | B1542: 1.3183 | C1542: 138.3 | D1542: 1.9558 | E1542: 0.5804 | F1542: 30.438 | G1542: 7.44 | H1542: 15.6466 | I1542: 0.7039 | J1542: 247.93 | K1542: 3.4527 | L1542: 0.697 | M1542: 0.433 | N1542: 4.1192 | O1542: 38775 | Q1542: 9.0339 | R1542: 239.78 | S1542: 38.62 | T1542: 1.5498 | U1542: 83.15 | V1542: 8.2535 | Z1542: 1.845 | AA1542: 1.7314 | AC1542: 1.6224 | AE1542: 10.2754 | AI1542: 1395.95 | AL1542: 1.8909 | AN1542: 2.1766 | AP1542: 8.0519
A1543: 38359 | B1543: 1.32 | C1543: 138.06 | D1543: 1.9558 | E1543: 0.5807 | F1543: 30.303 | G1543: 7.4399 | H1543: 15.6466 | I1543: 0.7028 | J1543: 248.58 | K1543: 3.4528 | L1543: 0.6968 | M1543: 0.4329 | N1543: 4.0912 | O1543: 39003 | Q1543: 9.0298 | R1543: 239.77 | S1543: 38.608 | T1543: 1.5488 | U1543: 83.36 | V1543: 8.221 | Z1543: 1.825 | AA1543: 1.7301 | AC1543: 1.6226 | AE1543: 10.2822 | AI1543: 1387.58 | AL1543: 1.8811 | AN1543: 2.1721 | AP1543: 8.0036
A1544: 38362 | B1544: 1.3103 | C1544: 136.83 | D1544: 1.9559 | E1544: 0.5809 | F1544: 30.245 | G1544: 7.4403 | H1544: 15.6466 | I1544: 0.6978 | J1544: 247.8 | K1544: 3.4528 | L1544: 0.6969 | M1544: 0.4321 | N1544: 4.0763 | O1544: 38671 | Q1544: 9.043 | R1544: 239.78 | S1544: 38.528 | T1544: 1.5469 | U1544: 82.99 | V1544: 8.227 | Z1544: 1.8155 | AA1544: 1.7256 | AC1544: 1.6041 | AE1544: 10.2144 | AI1544: 1380.66 | AL1544: 1.8865 | AN1544: 2.1573 | AP1544: 7.8438
A1545: 38363 | B1545: 1.3143 | C1545: 136.7 | D1545: 1.9559 | E1545: 0.5811 | F1545: 30.264 | G1545: 7.4397 | H1545: 15.6466 | I1545: 0.7001 | J1545: 246.4 | K1545: 3.4528 | L1545: 0.6966 | M1545: 0.4325 | N1545: 4.0666 | O1545: 38304 | Q1545: 9.028 | R1545: 239.79 | S1545: 38.632 | T1545: 1.547 | U1545: 82.91 | V1545: 8.2045 | Z1545: 1.8142 | AA1545: 1.726 | AC1545: 1.5992 | AE1545: 10.2479 | AI1545: 1373.57 | AL1545: 1.8854 | AN1545: 2.1594 | AP1545: 7.8371
A1546: 38364 | B1546: 1.3139 | C1546: 135.47 | D1546: 1.9559 | E1546: 0.5813 | F1546: 30.485 | G1546: 7.4405 | H1546: 15.6466 | I1546: 0.6999 | J1546: 247.75 | K1546: 3.4528 | L1546: 0.6964 | M1546: 0.4324 | N1546: 4.0725 | O1546: 38027 | Q1546: 9.055 | R1546: 239.77 | S1546: 38.7 | T1546: 1.5488 | U1546: 82.7 | V1546: 8.194 | Z1546: 1.8098 | AA1546: 1.7326 | AC1546: 1.5997 | AE1546: 10.2435 | AI1546: 1369.08 | AL1546: 1.887 | AN1546: 2.1546 | AP1546: 7.9278
A1547: 38365 | B1547: 1.3232 | C1547: 135.71 | D1547: 1.9559 | E1547: 0.5816 | F1547: 30.389 | G1547: 7.4404 | H1547: 15.6466 | I1547: 0.703 | J1547: 246.91 | K1547: 3.4528 | L1547: 0.6965 | M1547: 0.433 | N1547: 4.0717 | O1547: 38132 | Q1547: 9.0481 | R1547: 239.77 | S1547: 38.595 | T1547: 1.5479 | U1547: 82.5 | V1547: 8.186 | Z1547: 1.7968 | AA1547: 1.7283 | AC1547: 1.5917 | AE1547: 10.3132 | AI1547: 1371.7 | AL1547: 1.8759 | AN1547: 2.1557 | AP1547: 7.923
A1548: 38366 | B1548: 1.3091 | C1548: 134.32 | D1548: 1.9559 | E1548: 0.5818 | F1548: 30.365 | G1548: 7.4398 | H1548: 15.6466 | I1548: 0.7006 | J1548: 246.98 | K1548: 3.4528 | L1548: 0.6964 | M1548: 0.4324 | N1548: 4.0626 | O1548: 37792 | Q1548: 9.0483 | R1548: 239.77 | S1548: 38.58 | T1548: 1.5491 | U1548: 82.17 | V1548: 8.175 | Z1548: 1.7708 | AA1548: 1.7242 | AC1548: 1.5859 | AE1548: 10.2051 | AI1548: 1366.05 | AL1548: 1.873 | AN1548: 2.1444 | AP1548: 7.9051
A1549: 38369 | B1549: 1.3085 | C1549: 133.52 | D1549: 1.9559 | E1549: 0.582 | F1549: 30.375 | G1549: 7.4408 | H1549: 15.6466 | I1549: 0.7031 | J1549: 246.08 | K1549: 3.4528 | L1549: 0.696 | M1549: 0.4327 | N1549: 4.0675 | O1549: 37433 | Q1549: 9.0432 | R1549: 239.77 | S1549: 38.608 | T1549: 1.545 | U1549: 81.8 | V1549: 8.195 | Z1549: 1.7497 | AA1549: 1.7243 | AC1549: 1.5883 | AE1549: 10.2027 | AI1549: 1355.34 | AL1549: 1.8727 | AN1549: 2.138 | AP1549: 7.8939
A1550: 38370 | B1550: 1.306 | C1550: 134.08 | D1550: 1.9559 | E1550: 0.582 | F1550: 30.378 | G1550: 7.4403 | H1550: 15.6466 | I1550: 0.6978 | J1550: 246.44 | K1550: 3.4528 | L1550: 0.696 | M1550: 0.432 | N1550: 4.0774 | O1550: 37450 | Q1550: 9.035 | R1550: 239.75 | S1550: 38.64 | T1550: 1.5433 | U1550: 81.42 | V1550: 8.161 | Z1550: 1.7464 | AA1550: 1.7285 | AC1550: 1.5969 | AE1550: 10.1853 | AI1550: 1352.89 | AL1550: 1.8764 | AN1550: 2.1367 | AP1550: 7.9029
... A1600: 38442 | B1600: 1.2964 | C1600: 138.44 | D1600: 1.9559 | E1600: 0.5846 | F1600: 29.955 | G1600: 7.4495 | H1600: 15.6466 | I1600: 0.6885 | J1600: 247.2 | K1600: 3.4528 | L1600: 0.696 | M1600: 0.4306 | N1600: 4.0807 | O1600: 36767 | Q1600: 9.143 | R1600: 239.73 | S1600: 38.672 | T1600: 1.5486 | U1600: 78.64 | V1600: 8.206 | Z1600: 1.7572 | AA1600: 1.6763 | AC1600: 1.5737 | AE1600: 10.111 | AI1600: 1316.49 | AL1600: 1.8237 | AN1600: 2.1377 | AP1600: 8.0898
...

Sheet cambi_mensili
A1: Date | B1: USD | C1: GBP | D1: Data | F1: Data | G1: 1 EUR vale quanti USD | H1: 1 EUR vale quanti GBP | I1: 1 USD vale quanti GBP
A2: 36164 | B2: 1.1789 | C2: 0.7111 | D2: =YEAR(A2)&"-"&IF(MONTH(A2)<10,"0"&MONTH(A2),MONTH(A2)) -> 1999-01 | F2: 1998-12 | G2: =B2 -> 1.1789 | H2: =C2 -> 0.7111 | I2: =1/G2*H2 -> 0.60318941
A3: 36165 | B3: 1.179 | C3: 0.7122 | D3: =YEAR(A3)&"-"&IF(MONTH(A3)<10,"0"&MONTH(A3),MONTH(A3)) -> 1999-01 | F3: 1999-01 | G3: =_xlfn.XLOOKUP($F3,$D:$D,B:B,"xxx",0,-1) -> 1.1384 | H3: =_xlfn.XLOOKUP($F3,$D:$D,C:C,"xxx",0,-1) -> 0.691 | I3: =1/G3*H3 -> 0.60699227
A4: 36166 | B4: 1.1743 | C4: 0.7076 | D4: =YEAR(A4)&"-"&IF(MONTH(A4)<10,"0"&MONTH(A4),MONTH(A4)) -> 1999-01 | F4: 1999-02 | G4: =_xlfn.XLOOKUP(F4,D:D,B:B,"xxx",0,-1) -> 1.1018 | H4: =_xlfn.XLOOKUP($F4,$D:$D,C:C,"xxx",0,-1) -> 0.6873 | I4: =1/G4*H4 -> 0.62379742
A5: 36167 | B5: 1.1632 | C5: 0.70585 | D5: =YEAR(A5)&"-"&IF(MONTH(A5)<10,"0"&MONTH(A5),MONTH(A5)) -> 1999-01 | F5: 1999-03 | G5: =_xlfn.XLOOKUP(F5,D:D,B:B,"xxx",0,-1) -> 1.0742 | H5: =_xlfn.XLOOKUP($F5,$D:$D,C:C,"xxx",0,-1) -> 0.6663 | I5: =1/G5*H5 -> 0.62027555
A6: 36168 | B6: 1.1659 | C6: 0.7094 | D6: =YEAR(A6)&"-"&IF(MONTH(A6)<10,"0"&MONTH(A6),MONTH(A6)) -> 1999-01 | F6: 1999-04 | G6: =_xlfn.XLOOKUP(F6,D:D,B:B,"xxx",0,-1) -> 1.0597 | H6: =_xlfn.XLOOKUP($F6,$D:$D,C:C,"xxx",0,-1) -> 0.6571 | I6: =1/G6*H6 -> 0.62008116
A7: 36171 | B7: 1.1569 | C7: 0.7044 | D7: =YEAR(A7)&"-"&IF(MONTH(A7)<10,"0"&MONTH(A7),MONTH(A7)) -> 1999-01 | F7: 1999-05 | G7: =_xlfn.XLOOKUP(F7,D:D,B:B,"xxx",0,-1) -> 1.0456 | H7: =_xlfn.XLOOKUP($F7,$D:$D,C:C,"xxx",0,-1) -> 0.6524 | I7: =1/G7*H7 -> 0.62394797
A8: 36172 | B8: 1.152 | C8: 0.7066 | D8: =YEAR(A8)&"-"&IF(MONTH(A8)<10,"0"&MONTH(A8),MONTH(A8)) -> 1999-01 | F8: 1999-06 | G8: =_xlfn.XLOOKUP(F8,D:D,B:B,"xxx",0,-1) -> 1.0328 | H8: =_xlfn.XLOOKUP($F8,$D:$D,C:C,"xxx",0,-1) -> 0.6563 | I8: =1/G8*H8 -> 0.63545701
A9: 36173 | B9: 1.1744 | C9: 0.7084 | D9: =YEAR(A9)&"-"&IF(MONTH(A9)<10,"0"&MONTH(A9),MONTH(A9)) -> 1999-01 | F9: 1999-07 | G9: =_xlfn.XLOOKUP(F9,D:D,B:B,"xxx",0,-1) -> 1.0694 | H9: =_xlfn.XLOOKUP($F9,$D:$D,C:C,"xxx",0,-1) -> 0.6598 | I9: =1/G9*H9 -> 0.61698148
A10: 36174 | B10: 1.1653 | C10: 0.7062 | D10: =YEAR(A10)&"-"&IF(MONTH(A10)<10,"0"&MONTH(A10),MONTH(A10)) -> 1999-01 | F10: 1999-08 | G10: =_xlfn.XLOOKUP(F10,D:D,B:B,"xxx",0,-1) -> 1.0573 | H10: =_xlfn.XLOOKUP($F10,$D:$D,C:C,"xxx",0,-1) -> 0.6585 | I10: =1/G10*H10 -> 0.62281283
A11: 36175 | B11: 1.1626 | C11: 0.7039 | D11: =YEAR(A11)&"-"&IF(MONTH(A11)<10,"0"&MONTH(A11),MONTH(A11)) -> 1999-01 | F11: 1999-09 | G11: =_xlfn.XLOOKUP(F11,D:D,B:B,"xxx",0,-1) -> 1.0665 | H11: =_xlfn.XLOOKUP($F11,$D:$D,C:C,"xxx",0,-1) -> 0.6475 | I11: =1/G11*H11 -> 0.60712611
A12: 36178 | B12: 1.1612 | C12: 0.7013 | D12: =YEAR(A12)&"-"&IF(MONTH(A12)<10,"0"&MONTH(A12),MONTH(A12)) -> 1999-01 | F12: 1999-10 | G12: =_xlfn.XLOOKUP(F12,D:D,B:B,"xxx",0,-1) -> 1.0453 | H12: =_xlfn.XLOOKUP($F12,$D:$D,C:C,"xxx",0,-1) -> 0.6393 | I12: =1/G12*H12 -> 0.61159476
A13: 36179 | B13: 1.1616 | C13: 0.7 | D13: =YEAR(A13)&"-"&IF(MONTH(A13)<10,"0"&MONTH(A13),MONTH(A13)) -> 1999-01 | F13: 1999-11 | G13: =_xlfn.XLOOKUP(F13,D:D,B:B,"xxx",0,-1) -> 1.0097 | H13: =_xlfn.XLOOKUP($F13,$D:$D,C:C,"xxx",0,-1) -> 0.6325 | I13: =1/G13*H13 -> 0.62642369
A14: 36180 | B14: 1.1575 | C14: 0.7014 | D14: =YEAR(A14)&"-"&IF(MONTH(A14)<10,"0"&MONTH(A14),MONTH(A14)) -> 1999-01 | F14: 1999-12 | G14: =_xlfn.XLOOKUP(F14,D:D,B:B,"xxx",0,-1) -> 1.0046 | H14: =_xlfn.XLOOKUP($F14,$D:$D,C:C,"xxx",0,-1) -> 0.6217 | I14: =1/G14*H14 -> 0.61885327
A15: 36181 | B15: 1.1572 | C15: 0.7023 | D15: =YEAR(A15)&"-"&IF(MONTH(A15)<10,"0"&MONTH(A15),MONTH(A15)) -> 1999-01 | F15: 2000-01 | G15: =_xlfn.XLOOKUP(F15,D:D,B:B,"xxx",0,-1) -> 0.9791 | H15: =_xlfn.XLOOKUP($F15,$D:$D,C:C,"xxx",0,-1) -> 0.6047 | I15: =1/G15*H15 -> 0.61760801
... A310: 36595 | B310: 0.9613 | C310: 0.6095 | D310: =YEAR(A310)&"-"&IF(MONTH(A310)<10,"0"&MONTH(A310),MONTH(A310)) -> 2000-03 | F310: 2024-08 | G310: =_xlfn.XLOOKUP(F310,D:D,B:B,"xxx",0,-1) -> 1.1084 | H310: =_xlfn.XLOOKUP($F310,$D:$D,C:C,"xxx",0,-1) -> 0.85194 | I310: =1/G310*H310 -> 0.76862144
A311: 36598 | B311: 0.9716 | C311: 0.6146 | D311: =YEAR(A311)&"-"&IF(MONTH(A311)<10,"0"&MONTH(A311),MONTH(A311)) -> 2000-03
A312: 36599 | B312: 0.962 | C312: 0.6123 | D312: =YEAR(A312)&"-"&IF(MONTH(A312)<10,"0"&MONTH(A312),MONTH(A312)) -> 2000-03
A313: 36600 | B313: 0.9647 | C313: 0.614 | D313: =YEAR(A313)&"-"&IF(MONTH(A313)<10,"0"&MONTH(A313),MONTH(A313)) -> 2000-03
A314: 36601 | B314: 0.9663 | C314: 0.6155 | D314: =YEAR(A314)&"-"&IF(MONTH(A314)<10,"0"&MONTH(A314),MONTH(A314)) -> 2000-03
A315: 36602 | B315: 0.9672 | C315: 0.6146 | D315: =YEAR(A315)&"-"&IF(MONTH(A315)<10,"0"&MONTH(A315),MONTH(A315)) -> 2000-03
A316: 36605 | B316: 0.9715 | C316: 0.6201 | D316: =YEAR(A316)&"-"&IF(MONTH(A316)<10,"0"&MONTH(A316),MONTH(A316)) -> 2000-03
A317: 36606 | B317: 0.9701 | C317: 0.6176 | D317: =YEAR(A317)&"-"&IF(MONTH(A317)<10,"0"&MONTH(A317),MONTH(A317)) -> 2000-03
A318: 36607 | B318: 0.9603 | C318: 0.6125 | D318: =YEAR(A318)&"-"&IF(MONTH(A318)<10,"0"&MONTH(A318),MONTH(A318)) -> 2000-03
A319: 36608 | B319: 0.9656 | C319: 0.6104 | D319: =YEAR(A319)&"-"&IF(MONTH(A319)<10,"0"&MONTH(A319),MONTH(A319)) -> 2000-03
A320: 36609 | B320: 0.9715 | C320: 0.6115 | D320: =YEAR(A320)&"-"&IF(MONTH(A320)<10,"0"&MONTH(A320),MONTH(A320)) -> 2000-03
A321: 36612 | B321: 0.9712 | C321: 0.6087 | D321: =YEAR(A321)&"-"&IF(MONTH(A321)<10,"0"&MONTH(A321),MONTH(A321)) -> 2000-03
A322: 36613 | B322: 0.9647 | C322: 0.6088 | D322: =YEAR(A322)&"-"&IF(MONTH(A322)<10,"0"&MONTH(A322),MONTH(A322)) -> 2000-03
... A6566: 45524 | B6566: 1.1084 | C6566: 0.85194 | D6566: =YEAR(A6566)&"-"&IF(MONTH(A6566)<10,"0"&MONTH(A6566),MONTH(A6566)) -> 2024-08

Sheet simulazioni MSCI USA
A1: ho 1k EUR | B1: Data acquisto | C1: EUR partenza | D1: Quote | E1: Valore finale | F1: Rendimento | H1: ho 1k EUR | I1: Data acquisto | J1: USD partenza | K1: Quote | L1: Valore finale USD | M1: Valore finale EUR | N1: Rendimento
A2: compro MSCI USA EUR | B2: 1998-12 | C2: 1000 | D2: =C2/dati!$B2 -> 10 | E2: =D2*_xlfn.XLOOKUP(LEFT(B2,4)+1&RIGHT(B2,3),dati!$A:$A,dati!$B:$B) -> 1428.3153 | F2: =E2/1000-1 -> 0.42831526 | H2: la banca mi cambia in USD | I2: 1998-12 | J2: =1000*cambi_mensili!$G2 -> 1178.9 | K2: =J2/dati!$D2 -> 11.789 | L2: =K2*_xlfn.XLOOKUP(LEFT(I2,4)+1&RIGHT(I2,3),dati!$A:$A,dati!$D:$D) -> 1437.3412 | M2: =L2/_xlfn.XLOOKUP(LEFT(I2,4)+1&RIGHT(I2,3),cambi_mensili!$F:$F,cambi_mensili!$G:$G) -> 1430.7597 | N2: =M2/1000-1 -> 0.43075969 | P2: =E2-M2 -> -2.44443
A3: lo tengo 1 anno | B3: 1999-01 | C3: 1000 | D3: =C3/dati!$B3 -> 9.2733631 | E3: =D3*_xlfn.XLOOKUP(LEFT(B3,4)+1&RIGHT(B3,3),dati!$A:$A,dati!$B:$B) -> 1283.9872 | F3: =E3/1000-1 -> 0.28398717 | H3: compro MSCI USA USD | I3: 1999-01 | J3: =1000*cambi_mensili!$G3 -> 1138.4 | K3: =J3/dati!$D3 -> 10.915615 | L3: =K3*_xlfn.XLOOKUP(LEFT(I3,4)+1&RIGHT(I3,3),dati!$A:$A,dati!$D:$D) -> 1259.2307 | M3: =L3/_xlfn.XLOOKUP(LEFT(I3,4)+1&RIGHT(I3,3),cambi_mensili!$F:$F,cambi_mensili!$G:$G) -> 1286.1104 | N3: =M3/1000-1 -> 0.28611044 | P3: =E3-M3 -> -2.1232734
B4: 1999-02 | C4: 1000 | D4: =C4/dati!$B4 -> 9.2241737 | E4: =D4*_xlfn.XLOOKUP(LEFT(B4,4)+1&RIGHT(B4,3),dati!$A:$A,dati!$B:$B) -> 1266.6629 | F4: =E4/1000-1 -> 0.2666629 | H4: lo tengo 1 anno | I4: 1999-02 | J4: =1000*cambi_mensili!$G4 -> 1101.8 | K4: =J4/dati!$D4 -> 10.871447 | L4: =K4*_xlfn.XLOOKUP(LEFT(I4,4)+1&RIGHT(I4,3),dati!$A:$A,dati!$D:$D) -> 1223.9788 | M4: =L4/_xlfn.XLOOKUP(LEFT(I4,4)+1&RIGHT(I4,3),cambi_mensili!$F:$F,cambi_mensili!$G:$G) -> 1260.0152 | N4: =M4/1000-1 -> 0.26001525 | P4: =E4-M4 -> 6.6476516
B5: 1999-03 | C5: 1000 | D5: =C5/dati!$B5 -> 8.7120426 | E5: =D5*_xlfn.XLOOKUP(LEFT(B5,4)+1&RIGHT(B5,3),dati!$A:$A,dati!$B:$B) -> 1323.4638 | F5: =E5/1000-1 -> 0.3234638 | H5: la banca mi ricambia in EUR | I5: 1999-03 | J5: =1000*cambi_mensili!$G5 -> 1074.2 | K5: =J5/dati!$D5 -> 10.178946 | L5: =K5*_xlfn.XLOOKUP(LEFT(I5,4)+1&RIGHT(I5,3),dati!$A:$A,dati!$D:$D) -> 1260.0881 | M5: =L5/_xlfn.XLOOKUP(LEFT(I5,4)+1&RIGHT(I5,3),cambi_mensili!$F:$F,cambi_mensili!$G:$G) -> 1319.0496 | N5: =M5/1000-1 -> 0.31904957 | P5: =E5-M5 -> 4.4142328
B6: 1999-04 | C6: 1000 | D6: =C6/dati!$B6 -> 8.241616 | E6: =D6*_xlfn.XLOOKUP(LEFT(B6,4)+1&RIGHT(B6,3),dati!$A:$A,dati!$B:$B) -> 1271.8571 | F6: =E6/1000-1 -> 0.27185705 | I6: 1999-04 | J6: =1000*cambi_mensili!$G6 -> 1059.7 | K6: =J6/dati!$D6 -> 9.6937259 | L6: =K6*_xlfn.XLOOKUP(LEFT(I6,4)+1&RIGHT(I6,3),dati!$A:$A,dati!$D:$D) -> 1160.8969 | M6: =L6/_xlfn.XLOOKUP(LEFT(I6,4)+1&RIGHT(I6,3),cambi_mensili!$F:$F,cambi_mensili!$G:$G) -> 1277.8171 | N6: =M6/1000-1 -> 0.27781712 | P6: =E6-M6 -> -5.960071
B7: 1999-05 | C7: 1000 | D7: =C7/dati!$B7 -> 8.3199819 | E7: =D7*_xlfn.XLOOKUP(LEFT(B7,4)+1&RIGHT(B7,3),dati!$A:$A,dati!$B:$B) -> 1227.8954 | F7: =E7/1000-1 -> 0.22789539 | I7: 1999-05 | J7: =1000*cambi_mensili!$G7 -> 1045.6 | K7: =J7/dati!$D7 -> 9.7955016 | L7: =K7*_xlfn.XLOOKUP(LEFT(I7,4)+1&RIGHT(I7,3),dati!$A:$A,dati!$D:$D) -> 1141.7531 | M7: =L7/_xlfn.XLOOKUP(LEFT(I7,4)+1&RIGHT(I7,3),cambi_mensili!$F:$F,cambi_mensili!$G:$G) -> 1227.2956 | N7: =M7/1000-1 -> 0.22729558 | P7: =E7-M7 -> 0.5998145
B8: 1999-06 | C8: 1000 | D8: =C8/dati!$B8 -> 7.8096609 | E8: =D8*_xlfn.XLOOKUP(LEFT(B8,4)+1&RIGHT(B8,3),dati!$A:$A,dati!$B:$B) -> 1141.577 | F8: =E8/1000-1 -> 0.14157699 | I8: 1999-06 | J8: =1000*cambi_mensili!$G8 -> 1032.8 | K8: =J8/dati!$D8 -> 9.1842778 | L8: =K8*_xlfn.XLOOKUP(LEFT(I8,4)+1&RIGHT(I8,3),dati!$A:$A,dati!$D:$D) -> 1095.9033 | M8: =L8/_xlfn.XLOOKUP(LEFT(I8,4)+1&RIGHT(I8,3),cambi_mensili!$F:$F,cambi_mensili!$G:$G) -> 1146.8222 | N8: =M8/1000-1 -> 0.14682224 | P8: =E8-M8 -> -5.2452449
B9: 1999-07 | C9: 1000 | D9: =C9/dati!$B9 -> 8.378966 | E9: =D9*_xlfn.XLOOKUP(LEFT(B9,4)+1&RIGHT(B9,3),dati!$A:$A,dati!$B:$B) -> 1244.0384 | F9: =E9/1000-1 -> 0.24403842 | I9: 1999-07 | J9: =1000*cambi_mensili!$G9 -> 1069.4 | K9: =J9/dati!$D9 -> 9.8311866 | L9: =K9*_xlfn.XLOOKUP(LEFT(I9,4)+1&RIGHT(I9,3),dati!$A:$A,dati!$D:$D) -> 1151.8105 | M9: =L9/_xlfn.XLOOKUP(LEFT(I9,4)+1&RIGHT(I9,3),cambi_mensili!$F:$F,cambi_mensili!$G:$G) -> 1246.1436 | N9: =M9/1000-1 -> 0.24614357 | P9: =E9-M9 -> -2.1051448
B10: 1999-08 | C10: 1000 | D10: =C10/dati!$B10 -> 8.324429 | E10: =D10*_xlfn.XLOOKUP(LEFT(B10,4)+1&RIGHT(B10,3),dati!$A:$A,dati!$B:$B) -> 1354.767 | F10: =E10/1000-1 -> 0.35476703 | I10: 1999-08 | J10: =1000*cambi_mensili!$G10 -> 1057.3 | K10: =J10/dati!$D10 -> 9.7846779 | L10: =K10*_xlfn.XLOOKUP(LEFT(I10,4)+1&RIGHT(I10,3),dati!$A:$A,dati!$D:$D) -> 1205.653 | M10: =L10/_xlfn.XLOOKUP(LEFT(I10,4)+1&RIGHT(I10,3),cambi_mensili!$F:$F,cambi_mensili!$G:$G) -> 1353.7536 | N10: =M10/1000-1 -> 0.3537536 | P10: =E10-M10 -> 1.0134294
B11: 1999-09 | C11: 1000 | D11: =C11/dati!$B11 -> 8.6523899 | E11: =D11*_xlfn.XLOOKUP(LEFT(B11,4)+1&RIGHT(B11,3),dati!$A:$A,dati!$B:$B) -> 1341.1492 | F11: =E11/1000-1 -> 0.34114916 | I11: 1999-09 | J11: =1000*cambi_mensili!$G11 -> 1066.5 | K11: =J11/dati!$D11 -> 10.174856 | L11: =K11*_xlfn.XLOOKUP(LEFT(I11,4)+1&RIGHT(I11,3),dati!$A:$A,dati!$D:$D) -> 1185.2196 | M11: =L11/_xlfn.XLOOKUP(LEFT(I11,4)+1&RIGHT(I11,3),cambi_mensili!$F:$F,cambi_mensili!$G:$G) -> 1352.2186 | N11: =M11/1000-1 -> 0.35221861 | P11: =E11-M11 -> -11.069457
B12: 1999-10 | C12: 1000 | D12: =C12/dati!$B12 -> 8.0174906 | E12: =D12*_xlfn.XLOOKUP(LEFT(B12,4)+1&RIGHT(B12,3),dati!$A:$A,dati!$B:$B) -> 1284.2743 | F12: =E12/1000-1 -> 0.28427427 | I12: 1999-10 | J12: =1000*cambi_mensili!$G12 -> 1045.3 | K12: =J12/dati!$D12 -> 9.3630341 | L12: =K12*_xlfn.XLOOKUP(LEFT(I12,4)+1&RIGHT(I12,3),dati!$A:$A,dati!$D:$D) -> 1082.5957 | M12: =L12/_xlfn.XLOOKUP(LEFT(I12,4)+1&RIGHT(I12,3),cambi_mensili!$F:$F,cambi_mensili!$G:$G) -> 1286.2014 | N12: =M12/1000-1 -> 0.2862014 | P12: =E12-M12 -> -1.9271254
B13: 1999-11 | C13: 1000 | D13: =C13/dati!$B13 -> 7.521553 | E13: =D13*_xlfn.XLOOKUP(LEFT(B13,4)+1&RIGHT(B13,3),dati!$A:$A,dati!$B:$B) -> 1080.167 | F13: =E13/1000-1 -> 0.080167005 | I13: 1999-11 | J13: =1000*cambi_mensili!$G13 -> 1009.7 | K13: =J13/dati!$D13 -> 8.8567442 | L13: =K13*_xlfn.XLOOKUP(LEFT(I13,4)+1&RIGHT(I13,3),dati!$A:$A,dati!$D:$D) -> 942.90013 | M13: =L13/_xlfn.XLOOKUP(LEFT(I13,4)+1&RIGHT(I13,3),cambi_mensili!$F:$F,cambi_mensili!$G:$G) -> 1085.7901 | N13: =M13/1000-1 -> 0.085790114 | P13: =E13-M13 -> -5.6231091
B14: 1999-12 | C14: 1000 | D14: =C14/dati!$B14 -> 7.0012555 | E14: =D14*_xlfn.XLOOKUP(LEFT(B14,4)+1&RIGHT(B14,3),dati!$A:$A,dati!$B:$B) -> 930.52248 | F14: =E14/1000-1 -> -0.069477521 | I14: 1999-12 | J14: =1000*cambi_mensili!$G14 -> 1004.6 | K14: =J14/dati!$D14 -> 8.2396786 | L14: =K14*_xlfn.XLOOKUP(LEFT(I14,4)+1&RIGHT(I14,3),dati!$A:$A,dati!$D:$D) -> 875.58207 | M14: =L14/_xlfn.XLOOKUP(LEFT(I14,4)+1&RIGHT(I14,3),cambi_mensili!$F:$F,cambi_mensili!$G:$G) -> 940.98019 | N14: =M14/1000-1 -> -0.059019808 | P14: =E14-M14 -> -10.457713
B15: 2000-01 | C15: 1000 | D15: =C15/dati!$B15 -> 7.2223176 | E15: =D15*_xlfn.XLOOKUP(LEFT(B15,4)+1&RIGHT(B15,3),dati!$A:$A,dati!$B:$B) -> 1004.2557 | F15: =E15/1000-1 -> 0.0042557428 | I15: 2000-01 | J15: =1000*cambi_mensili!$G15 -> 979.1 | K15: =J15/dati!$D15 -> 8.4873078 | L15: =K15*_xlfn.XLOOKUP(LEFT(I15,4)+1&RIGHT(I15,3),dati!$A:$A,dati!$D:$D) -> 934.62356 | M15: =L15/_xlfn.XLOOKUP(LEFT(I15,4)+1&RIGHT(I15,3),cambi_mensili!$F:$F,cambi_mensili!$G:$G) -> 1005.7286 | N15: =M15/1000-1 -> 0.0057285684 | P15: =E15-M15 -> -1.4728256
B16: 2000-02 | C16: 1000 | D16: =C16/dati!$B16 -> 7.282264 | E16: =D16*_xlfn.XLOOKUP(LEFT(B16,4)+1&RIGHT(B16,3),dati!$A:$A,dati!$B:$B) -> 932.11875 | F16: =E16/1000-1 -> -0.067881252 | I16: 2000-02 | J16: =1000*cambi_mensili!$G16 -> 971.4 | K16: =J16/dati!$D16 -> 8.6280283 | L16: =K16*_xlfn.XLOOKUP(LEFT(I16,4)+1&RIGHT(I16,3),dati!$A:$A,dati!$D:$D) -> 864.87786 | M16: =L16/_xlfn.XLOOKUP(LEFT(I16,4)+1&RIGHT(I16,3),cambi_mensili!$F:$F,cambi_mensili!$G:$G) -> 935.20529 | N16: =M16/1000-1 -> -0.064794706 | P16: =E16-M16 -> -3.0865458
B17: 2000-03 | C17: 1000 | D17: =C17/dati!$B17 -> 6.5827585 | E17: =D17*_xlfn.XLOOKUP(LEFT(B17,4)+1&RIGHT(B17,3),dati!$A:$A,dati!$B:$B) -> 820.4026 | F17: =E17/1000-1 -> -0.1795974 | I17: 2000-03 | J17: =1000*cambi_mensili!$G17 -> 955.3 | K17: =J17/dati!$D17 -> 7.7168794 | L17: =K17*_xlfn.XLOOKUP(LEFT(I17,4)+1&RIGHT(I17,3),dati!$A:$A,dati!$D:$D) -> 724.02325 | M17: =L17/_xlfn.XLOOKUP(LEFT(I17,4)+1&RIGHT(I17,3),cambi_mensili!$F:$F,cambi_mensili!$G:$G) -> 819.7727 | N17: =M17/1000-1 -> -0.1802273 | P17: =E17-M17 -> 0.62989157
... B285: 2022-07 | C285: 1000 | D285: =C285/dati!$B285 -> 1.9445557 | E285: =D285*_xlfn.XLOOKUP(LEFT(B285,4)+1&RIGHT(B285,3),dati!$A:$A,dati!$B:$B) -> 1041.1648 | F285: =E285/1000-1 -> 0.041164759 | I285: 2022-07 | J285: =1000*cambi_mensili!$G285 -> 1019.8 | K285: =J285/dati!$D285 -> 2.2837304 | L285: =K285*_xlfn.XLOOKUP(LEFT(I285,4)+1&RIGHT(I285,3),dati!$A:$A,dati!$D:$D) -> 1148.1051 | M285: =L285/_xlfn.XLOOKUP(LEFT(I285,4)+1&RIGHT(I285,3),cambi_mensili!$F:$F,cambi_mensili!$G:$G) -> 1041.5541 | N285: =M285/1000-1 -> 0.041554093 | P285: =E285-M285 -> -0.38933438

Sheet simulazioni MSCI Germany
A1: ho 1k EUR | B1: Data acquisto | C1: EUR partenza | D1: Quote | E1: Valore finale | F1: Rendimento | H1: ho 1k EUR | I1: Data acquisto | J1: USD partenza | K1: Quote | L1: Valore finale USD | M1: Valore finale EUR | N1: Rendimento
A2: compro MSCI Germany EUR | B2: 1998-12 | C2: 1000 | D2: =C2/dati!$C2 -> 10 | E2: =D2*_xlfn.XLOOKUP(LEFT(B2,4)+1&RIGHT(B2,3),dati!$A:$A,dati!$C:$C) -> 1406.3163 | F2: =E2/1000-1 -> 0.40631632 | H2: la banca mi cambia in USD | I2: 1998-12 | J2: =1000*cambi_mensili!$G2 -> 1178.9 | K2: =J2/dati!$E2 -> 11.789 | L2: =K2*_xlfn.XLOOKUP(LEFT(I2,4)+1&RIGHT(I2,3),dati!$A:$A,dati!$E:$E) -> 1415.2032 | M2: =L2/_xlfn.XLOOKUP(LEFT(I2,4)+1&RIGHT(I2,3),cambi_mensili!$F:$F,cambi_mensili!$G:$G) -> 1408.7231 | N2: =M2/1000-1 -> 0.4087231 | P2: =E2-M2 -> -2.4067809
A3: lo tengo 1 anno | B3: 1999-01 | C3: 1000 | D3: =C3/dati!$C3 -> 9.5138404 | E3: =D3*_xlfn.XLOOKUP(LEFT(B3,4)+1&RIGHT(B3,3),dati!$A:$A,dati!$C:$C) -> 1323.0964 | F3: =E3/1000-1 -> 0.32309643 | H3: compro MSCI Germany USD | I3: 1999-01 | J3: =1000*cambi_mensili!$G3 -> 1138.4 | K3: =J3/dati!$E3 -> 11.198679 | L3: =K3*_xlfn.XLOOKUP(LEFT(I3,4)+1&RIGHT(I3,3),dati!$A:$A,dati!$E:$E) -> 1297.5859 | M3: =L3/_xlfn.XLOOKUP(LEFT(I3,4)+1&RIGHT(I3,3),cambi_mensili!$F:$F,cambi_mensili!$G:$G) -> 1325.2844 | N3: =M3/1000-1 -> 0.32528438 | P3: =E3-M3 -> -2.1879466
B4: 1999-02 | C4: 1000 | D4: =C4/dati!$C4 -> 10.02385 | E4: =D4*_xlfn.XLOOKUP(LEFT(B4,4)+1&RIGHT(B4,3),dati!$A:$A,dati!$C:$C) -> 1564.5782 | F4: =E4/1000-1 -> 0.56457821 | H4: lo tengo 1 anno | I4: 1999-02 | J4: =1000*cambi_mensili!$G4 -> 1101.8 | K4: =J4/dati!$E4 -> 11.813932 | L4: =K4*_xlfn.XLOOKUP(LEFT(I4,4)+1&RIGHT(I4,3),dati!$A:$A,dati!$E:$E) -> 1511.855 | M4: =L4/_xlfn.XLOOKUP(LEFT(I4,4)+1&RIGHT(I4,3),cambi_mensili!$F:$F,cambi_mensili!$G:$G) -> 1556.3671 | N4: =M4/1000-1 -> 0.55636705 | P4: =E4-M4 -> 8.2111594
B5: 1999-03 | C5: 1000 | D5: =C5/dati!$C5 -> 10.132777 | E5: =D5*_xlfn.XLOOKUP(LEFT(B5,4)+1&RIGHT(B5,3),dati!$A:$A,dati!$C:$C) -> 1565.6726 | F5: =E5/1000-1 -> 0.56567264 | H5: la banca mi ricambia in EUR | I5: 1999-03 | J5: =1000*cambi_mensili!$G5 -> 1074.2 | K5: =J5/dati!$E5 -> 11.8389 | L5: =K5*_xlfn.XLOOKUP(LEFT(I5,4)+1&RIGHT(I5,3),dati!$A:$A,dati!$E:$E) -> 1490.6984 | M5: =L5/_xlfn.XLOOKUP(LEFT(I5,4)+1&RIGHT(I5,3),cambi_mensili!$F:$F,cambi_mensili!$G:$G) -> 1560.4506 | N5: =M5/1000-1 -> 0.56045055 | P5: =E5-M5 -> 5.2220873
B6: 1999-04 | C6: 1000 | D6: =C6/dati!$C6 -> 9.3242097 | E6: =D6*_xlfn.XLOOKUP(LEFT(B6,4)+1&RIGHT(B6,3),dati!$A:$A,dati!$C:$C) -> 1381.9497 | F6: =E6/1000-1 -> 0.38194971 | I6: 1999-04 | J6: =1000*cambi_mensili!$G6 -> 1059.7 | K6: =J6/dati!$E6 -> 10.967064 | L6: =K6*_xlfn.XLOOKUP(LEFT(I6,4)+1&RIGHT(I6,3),dati!$A:$A,dati!$E:$E) -> 1261.3847 | M6: =L6/_xlfn.XLOOKUP(LEFT(I6,4)+1&RIGHT(I6,3),cambi_mensili!$F:$F,cambi_mensili!$G:$G) -> 1388.4257 | N6: =M6/1000-1 -> 0.38842569 | P6: =E6-M6 -> -6.475978
B7: 1999-05 | C7: 1000 | D7: =C7/dati!$C7 -> 9.7861815 | E7: =D7*_xlfn.XLOOKUP(LEFT(B7,4)+1&RIGHT(B7,3),dati!$A:$A,dati!$C:$C) -> 1380.8433 | F7: =E7/1000-1 -> 0.38084332 | I7: 1999-05 | J7: =1000*cambi_mensili!$G7 -> 1045.6 | K7: =J7/dati!$E7 -> 11.521727 | L7: =K7*_xlfn.XLOOKUP(LEFT(I7,4)+1&RIGHT(I7,3),dati!$A:$A,dati!$E:$E) -> 1283.971 | M7: =L7/_xlfn.XLOOKUP(LEFT(I7,4)+1&RIGHT(I7,3),cambi_mensili!$F:$F,cambi_mensili!$G:$G) -> 1380.1688 | N7: =M7/1000-1 -> 0.38016879 | P7: =E7-M7 -> 0.67452801
B8: 1999-06 | C8: 1000 | D8: =C8/dati!$C8 -> 9.1678799 | E8: =D8*_xlfn.XLOOKUP(LEFT(B8,4)+1&RIGHT(B8,3),dati!$A:$A,dati!$C:$C) -> 1247.8961 | F8: =E8/1000-1 -> 0.24789609 | I8: 1999-06 | J8: =1000*cambi_mensili!$G8 -> 1032.8 | K8: =J8/dati!$E8 -> 10.781564 | L8: =K8*_xlfn.XLOOKUP(LEFT(I8,4)+1&RIGHT(I8,3),dati!$A:$A,dati!$E:$E) -> 1197.9687 | M8: =L8/_xlfn.XLOOKUP(LEFT(I8,4)+1&RIGHT(I8,3),cambi_mensili!$F:$F,cambi_mensili!$G:$G) -> 1253.6298 | N8: =M8/1000-1 -> 0.25362984 | P8: =E8-M8 -> -5.733753
B9: 1999-07 | C9: 1000 | D9: =C9/dati!$C9 -> 9.6693601 | E9: =D9*_xlfn.XLOOKUP(LEFT(B9,4)+1&RIGHT(B9,3),dati!$A:$A,dati!$C:$C) -> 1356.3938 | F9: =E9/1000-1 -> 0.35639383 | I9: 1999-07 | J9: =1000*cambi_mensili!$G9 -> 1069.4 | K9: =J9/dati!$E9 -> 11.345228 | L9: =K9*_xlfn.XLOOKUP(LEFT(I9,4)+1&RIGHT(I9,3),dati!$A:$A,dati!$E:$E) -> 1255.8363 | M9: =L9/_xlfn.XLOOKUP(LEFT(I9,4)+1&RIGHT(I9,3),cambi_mensili!$F:$F,cambi_mensili!$G:$G) -> 1358.6891 | N9: =M9/1000-1 -> 0.3586891 | P9: =E9-M9 -> -2.2952711
B10: 1999-08 | C10: 1000 | D10: =C10/dati!$C10 -> 9.3803586 | E10: =D10*_xlfn.XLOOKUP(LEFT(B10,4)+1&RIGHT(B10,3),dati!$A:$A,dati!$C:$C) -> 1308.3544 | F10: =E10/1000-1 -> 0.30835438 | I10: 1999-08 | J10: =1000*cambi_mensili!$G10 -> 1057.3 | K10: =J10/dati!$E10 -> 11.025836 | L10: =K10*_xlfn.XLOOKUP(LEFT(I10,4)+1&RIGHT(I10,3),dati!$A:$A,dati!$E:$E) -> 1164.3488 | M10: =L10/_xlfn.XLOOKUP(LEFT(I10,4)+1&RIGHT(I10,3),cambi_mensili!$F:$F,cambi_mensili!$G:$G) -> 1307.3757 | N10: =M10/1000-1 -> 0.30737567 | P10: =E10-M10 -> 0.97871056
B11: 1999-09 | C11: 1000 | D11: =C11/dati!$C11 -> 9.5867364 | E11: =D11*_xlfn.XLOOKUP(LEFT(B11,4)+1&RIGHT(B11,3),dati!$A:$A,dati!$C:$C) -> 1276.7309 | F11: =E11/1000-1 -> 0.27673085 | I11: 1999-09 | J11: =1000*cambi_mensili!$G11 -> 1066.5 | K11: =J11/dati!$E11 -> 11.27361 | L11: =K11*_xlfn.XLOOKUP(LEFT(I11,4)+1&RIGHT(I11,3),dati!$A:$A,dati!$E:$E) -> 1128.2909 | M11: =L11/_xlfn.XLOOKUP(LEFT(I11,4)+1&RIGHT(I11,3),cambi_mensili!$F:$F,cambi_mensili!$G:$G) -> 1287.2686 | N11: =M11/1000-1 -> 0.28726862 | P11: =E11-M11 -> -10.537767
B12: 1999-10 | C12: 1000 | D12: =C12/dati!$C12 -> 8.9757031 | E12: =D12*_xlfn.XLOOKUP(LEFT(B12,4)+1&RIGHT(B12,3),dati!$A:$A,dati!$C:$C) -> 1253.527 | F12: =E12/1000-1 -> 0.25352696 | I12: 1999-10 | J12: =1000*cambi_mensili!$G12 -> 1045.3 | K12: =J12/dati!$E12 -> 10.482059 | L12: =K12*_xlfn.XLOOKUP(LEFT(I12,4)+1&RIGHT(I12,3),dati!$A:$A,dati!$E:$E) -> 1056.6769 | M12: =L12/_xlfn.XLOOKUP(LEFT(I12,4)+1&RIGHT(I12,3),cambi_mensili!$F:$F,cambi_mensili!$G:$G) -> 1255.4079 | N12: =M12/1000-1 -> 0.25540795 | P12: =E12-M12 -> -1.8809873
B13: 1999-11 | C13: 1000 | D13: =C13/dati!$C13 -> 8.3663493 | E13: =D13*_xlfn.XLOOKUP(LEFT(B13,4)+1&RIGHT(B13,3),dati!$A:$A,dati!$C:$C) -> 1054.0737 | F13: =E13/1000-1 -> 0.0540737 | I13: 1999-11 | J13: =1000*cambi_mensili!$G13 -> 1009.7 | K13: =J13/dati!$E13 -> 9.8515049 | L13: =K13*_xlfn.XLOOKUP(LEFT(I13,4)+1&RIGHT(I13,3),dati!$A:$A,dati!$E:$E) -> 920.12275 | M13: =L13/_xlfn.XLOOKUP(LEFT(I13,4)+1&RIGHT(I13,3),cambi_mensili!$F:$F,cambi_mensili!$G:$G) -> 1059.561 | N13: =M13/1000-1 -> 0.059560973 | P13: =E13-M13 -> -5.4872732
B14: 1999-12 | C14: 1000 | D14: =C14/dati!$C14 -> 7.1107758 | E14: =D14*_xlfn.XLOOKUP(LEFT(B14,4)+1&RIGHT(B14,3),dati!$A:$A,dati!$C:$C) -> 901.20711 | F14: =E14/1000-1 -> -0.098792889 | I14: 1999-12 | J14: =1000*cambi_mensili!$G14 -> 1004.6 | K14: =J14/dati!$E14 -> 8.3685715 | L14: =K14*_xlfn.XLOOKUP(LEFT(I14,4)+1&RIGHT(I14,3),dati!$A:$A,dati!$E:$E) -> 847.99755 | M14: =L14/_xlfn.XLOOKUP(LEFT(I14,4)+1&RIGHT(I14,3),cambi_mensili!$F:$F,cambi_mensili!$G:$G) -> 911.33536 | N14: =M14/1000-1 -> -0.088664638 | P14: =E14-M14 -> -10.128251
B15: 2000-01 | C15: 1000 | D15: =C15/dati!$C15 -> 7.1905873 | E15: =D15*_xlfn.XLOOKUP(LEFT(B15,4)+1&RIGHT(B15,3),dati!$A:$A,dati!$C:$C) -> 954.37281 | F15: =E15/1000-1 -> -0.045627187 | I15: 2000-01 | J15: =1000*cambi_mensili!$G15 -> 979.1 | K15: =J15/dati!$E15 -> 8.45002 | L15: =K15*_xlfn.XLOOKUP(LEFT(I15,4)+1&RIGHT(I15,3),dati!$A:$A,dati!$E:$E) -> 888.19937 | M15: =L15/_xlfn.XLOOKUP(LEFT(I15,4)+1&RIGHT(I15,3),cambi_mensili!$F:$F,cambi_mensili!$G:$G) -> 955.77248 | N15: =M15/1000-1 -> -0.044227519 | P15: =E15-M15 -> -1.3996681
B16: 2000-02 | C16: 1000 | D16: =C16/dati!$C16 -> 6.4067428 | E16: =D16*_xlfn.XLOOKUP(LEFT(B16,4)+1&RIGHT(B16,3),dati!$A:$A,dati!$C:$C) -> 789.99653 | F16: =E16/1000-1 -> -0.21000347 | I16: 2000-02 | J16: =1000*cambi_mensili!$G16 -> 971.4 | K16: =J16/dati!$E16 -> 7.5907105 | L16: =K16*_xlfn.XLOOKUP(LEFT(I16,4)+1&RIGHT(I16,3),dati!$A:$A,dati!$E:$E) -> 733.008 | M16: =L16/_xlfn.XLOOKUP(LEFT(I16,4)+1&RIGHT(I16,3),cambi_mensili!$F:$F,cambi_mensili!$G:$G) -> 792.61246 | N16: =M16/1000-1 -> -0.20738754 | P16: =E16-M16 -> -2.6159333
B17: 2000-03 | C17: 1000 | D17: =C17/dati!$C17 -> 6.4718365 | E17: =D17*_xlfn.XLOOKUP(LEFT(B17,4)+1&RIGHT(B17,3),dati!$A:$A,dati!$C:$C) -> 743.24175 | F17: =E17/1000-1 -> -0.25675825 | I17: 2000-03 | J17: =1000*cambi_mensili!$G17 -> 955.3 | K17: =J17/dati!$E17 -> 7.586847 | L17: =K17*_xlfn.XLOOKUP(LEFT(I17,4)+1&RIGHT(I17,3),dati!$A:$A,dati!$E:$E) -> 655.92712 | M17: =L17/_xlfn.XLOOKUP(LEFT(I17,4)+1&RIGHT(I17,3),cambi_mensili!$F:$F,cambi_mensili!$G:$G) -> 742.6711 | N17: =M17/1000-1 -> -0.2573289 | P17: =E17-M17 -> 0.57064875
... B285: 2022-07 | C285: 1000 | D285: =C285/dati!$C285 -> 4.4625906 | E285: =D285*_xlfn.XLOOKUP(LEFT(B285,4)+1&RIGHT(B285,3),dati!$A:$A,dati!$C:$C) -> 1195.3909 | F285: =E285/1000-1 -> 0.1953909 | I285: 2022-07 | J285: =1000*cambi_mensili!$G285 -> 1019.8 | K285: =J285/dati!$E285 -> 5.2409679 | L285: =K285*_xlfn.XLOOKUP(LEFT(I285,4)+1&RIGHT(I285,3),dati!$A:$A,dati!$E:$E) -> 1318.1721 | M285: =L285/_xlfn.XLOOKUP(LEFT(I285,4)+1&RIGHT(I285,3),cambi_mensili!$F:$F,cambi_mensili!$G:$G) -> 1195.8379 | N285: =M285/1000-1 -> 0.1958379 | P285: =E285-M285 -> -0.44700588

Sheet simulazioni MSCI USA conto GBP
A1: ho 1k GBP | B1: Data acquisto | C1: EUR partenza | D1: Quote | E1: Valore finale EUR | F1: Valore finale GBP | G1: Rendimento | I1: ho 1k GBP | J1: Data acquisto | K1: USD partenza | L1: Quote | M1: Valore finale USD | N1: Valore finale GBP | O1: Rendimento
A2: la banca mi cambia in EUR | B2: 1998-12 | C2: =1000/cambi_mensili!H2 -> 1406.272 | D2: =C2/dati!$B2 -> 14.06272 | E2: =D2*_xlfn.XLOOKUP(LEFT(B2,4)+1&RIGHT(B2,3),dati!$A:$A,dati!$B:$B) -> 2008.5997 | F2: =E2*_xlfn.XLOOKUP(LEFT(B2,4)+1&RIGHT(B2,3),cambi_mensili!$F:$F,cambi_mensili!$H:$H) -> 1248.7464 | G2: =F2/1000-1 -> 0.24874645 | I2: la banca mi cambia in USD | J2: 1998-12 | K2: =1000/cambi_mensili!I2 -> 1657.854 | L2: =K2/dati!$D2 -> 16.57854 | M2: =L2*_xlfn.XLOOKUP(LEFT(J2,4)+1&RIGHT(J2,3),dati!$A:$A,dati!$D:$D) -> 2021.2926 | N2: =M2*_xlfn.XLOOKUP(LEFT(J2,4)+1&RIGHT(J2,3),cambi_mensili!$F:$F,cambi_mensili!$I:$I) -> 1250.8836 | O2: =N2/1000-1 -> 0.25088356 | Q2: =F2-N2 -> -2.1371146
A3: compro MSCI USA EUR | B3: 1999-01 | C3: =1000/cambi_mensili!H3 -> 1447.178 | D3: =C3/dati!$B3 -> 13.420207 | E3: =D3*_xlfn.XLOOKUP(LEFT(B3,4)+1&RIGHT(B3,3),dati!$A:$A,dati!$B:$B) -> 1858.158 | F3: =E3*_xlfn.XLOOKUP(LEFT(B3,4)+1&RIGHT(B3,3),cambi_mensili!$F:$F,cambi_mensili!$H:$H) -> 1123.6281 | G3: =F3/1000-1 -> 0.12362814 | I3: compro MSCI USA USD | J3: 1999-01 | K3: =1000/cambi_mensili!I3 -> 1647.4674 | L3: =K3/dati!$D3 -> 15.796838 | M3: =L3*_xlfn.XLOOKUP(LEFT(J3,4)+1&RIGHT(J3,3),dati!$A:$A,dati!$D:$D) -> 1822.331 | N3: =M3*_xlfn.XLOOKUP(LEFT(J3,4)+1&RIGHT(J3,3),cambi_mensili!$F:$F,cambi_mensili!$I:$I) -> 1125.4862 | O3: =N3/1000-1 -> 0.12548623 | Q3: =F3-N3 -> -1.8580946
A4: lo tengo 1 anno | B4: 1999-02 | C4: =1000/cambi_mensili!H4 -> 1454.9687 | D4: =C4/dati!$B4 -> 13.420884 | E4: =D4*_xlfn.XLOOKUP(LEFT(B4,4)+1&RIGHT(B4,3),dati!$A:$A,dati!$B:$B) -> 1842.9549 | F4: =E4*_xlfn.XLOOKUP(LEFT(B4,4)+1&RIGHT(B4,3),cambi_mensili!$F:$F,cambi_mensili!$H:$H) -> 1130.4685 | G4: =F4/1000-1 -> 0.13046853 | I4: lo tengo 1 anno | J4: 1999-02 | K4: =1000/cambi_mensili!I4 -> 1603.0845 | L4: =K4/dati!$D4 -> 15.817616 | M4: =L4*_xlfn.XLOOKUP(LEFT(J4,4)+1&RIGHT(J4,3),dati!$A:$A,dati!$D:$D) -> 1780.8509 | N4: =M4*_xlfn.XLOOKUP(LEFT(J4,4)+1&RIGHT(J4,3),cambi_mensili!$F:$F,cambi_mensili!$I:$I) -> 1124.5356 | O4: =N4/1000-1 -> 0.12453565 | Q4: =F4-N4 -> 5.9328816
A5: la banca mi ricambia in GBP | B5: 1999-03 | C5: =1000/cambi_mensili!H5 -> 1500.8255 | D5: =C5/dati!$B5 -> 13.075255 | E5: =D5*_xlfn.XLOOKUP(LEFT(B5,4)+1&RIGHT(B5,3),dati!$A:$A,dati!$B:$B) -> 1986.2882 | F5: =E5*_xlfn.XLOOKUP(LEFT(B5,4)+1&RIGHT(B5,3),cambi_mensili!$F:$F,cambi_mensili!$H:$H) -> 1188.7935 | G5: =F5/1000-1 -> 0.18879346 | I5: la banca mi ricambia in GBP | J5: 1999-03 | K5: =1000/cambi_mensili!I5 -> 1612.1867 | L5: =K5/dati!$D5 -> 15.276822 | M5: =L5*_xlfn.XLOOKUP(LEFT(J5,4)+1&RIGHT(J5,3),dati!$A:$A,dati!$D:$D) -> 1891.1722 | N5: =M5*_xlfn.XLOOKUP(LEFT(J5,4)+1&RIGHT(J5,3),cambi_mensili!$F:$F,cambi_mensili!$I:$I) -> 1184.8284 | O5: =N5/1000-1 -> 0.18482841 | Q5: =F5-N5 -> 3.9650583
B6: 1999-04 | C6: =1000/cambi_mensili!H6 -> 1521.8384 | D6: =C6/dati!$B6 -> 12.542408 | E6: =D6*_xlfn.XLOOKUP(LEFT(B6,4)+1&RIGHT(B6,3),dati!$A:$A,dati!$B:$B) -> 1935.5609 | F6: =E6*_xlfn.XLOOKUP(LEFT(B6,4)+1&RIGHT(B6,3),cambi_mensili!$F:$F,cambi_mensili!$H:$H) -> 1121.464 | G6: =F6/1000-1 -> 0.12146397 | J6: 1999-04 | K6: =1000/cambi_mensili!I6 -> 1612.6921 | L6: =K6/dati!$D6 -> 14.752284 | M6: =L6*_xlfn.XLOOKUP(LEFT(J6,4)+1&RIGHT(J6,3),dati!$A:$A,dati!$D:$D) -> 1766.6974 | N6: =M6*_xlfn.XLOOKUP(LEFT(J6,4)+1&RIGHT(J6,3),cambi_mensili!$F:$F,cambi_mensili!$I:$I) -> 1126.7193 | O6: =N6/1000-1 -> 0.12671928 | Q6: =F6-N6 -> -5.2553114
B7: 1999-05 | C7: =1000/cambi_mensili!H7 -> 1532.802 | D7: =C7/dati!$B7 -> 12.752885 | E7: =D7*_xlfn.XLOOKUP(LEFT(B7,4)+1&RIGHT(B7,3),dati!$A:$A,dati!$B:$B) -> 1882.1205 | F7: =E7*_xlfn.XLOOKUP(LEFT(B7,4)+1&RIGHT(B7,3),cambi_mensili!$F:$F,cambi_mensili!$H:$H) -> 1171.62 | G7: =F7/1000-1 -> 0.17161999 | J7: 1999-05 | K7: =1000/cambi_mensili!I7 -> 1602.6977 | L7: =K7/dati!$D7 -> 15.014564 | M7: =L7*_xlfn.XLOOKUP(LEFT(J7,4)+1&RIGHT(J7,3),dati!$A:$A,dati!$D:$D) -> 1750.0814 | N7: =M7*_xlfn.XLOOKUP(LEFT(J7,4)+1&RIGHT(J7,3),cambi_mensili!$F:$F,cambi_mensili!$I:$I) -> 1171.0477 | O7: =N7/1000-1 -> 0.17104767 | Q7: =F7-N7 -> 0.57232453
B8: 1999-06 | C8: =1000/cambi_mensili!H8 -> 1523.6934 | D8: =C8/dati!$B8 -> 11.899529 | E8: =D8*_xlfn.XLOOKUP(LEFT(B8,4)+1&RIGHT(B8,3),dati!$A:$A,dati!$B:$B) -> 1739.4134 | F8: =E8*_xlfn.XLOOKUP(LEFT(B8,4)+1&RIGHT(B8,3),cambi_mensili!$F:$F,cambi_mensili!$H:$H) -> 1099.8311 | G8: =F8/1000-1 -> 0.099831073 | J8: 1999-06 | K8: =1000/cambi_mensili!I8 -> 1573.6706 | L8: =K8/dati!$D8 -> 13.994024 | M8: =L8*_xlfn.XLOOKUP(LEFT(J8,4)+1&RIGHT(J8,3),dati!$A:$A,dati!$D:$D) -> 1669.8207 | N8: =M8*_xlfn.XLOOKUP(LEFT(J8,4)+1&RIGHT(J8,3),cambi_mensili!$F:$F,cambi_mensili!$I:$I) -> 1104.8845 | O8: =N8/1000-1 -> 0.10488451 | Q8: =F8-N8 -> -5.0534334
B9: 1999-07 | C9: =1000/cambi_mensili!H9 -> 1515.6108 | D9: =C9/dati!$B9 -> 12.699251 | E9: =D9*_xlfn.XLOOKUP(LEFT(B9,4)+1&RIGHT(B9,3),dati!$A:$A,dati!$B:$B) -> 1885.4781 | F9: =E9*_xlfn.XLOOKUP(LEFT(B9,4)+1&RIGHT(B9,3),cambi_mensili!$F:$F,cambi_mensili!$H:$H) -> 1165.0369 | G9: =F9/1000-1 -> 0.16503689 | J9: 1999-07 | K9: =1000/cambi_mensili!I9 -> 1620.7942 | L9: =K9/dati!$D9 -> 14.900252 | M9: =L9*_xlfn.XLOOKUP(LEFT(J9,4)+1&RIGHT(J9,3),dati!$A:$A,dati!$D:$D) -> 1745.6964 | N9: =M9*_xlfn.XLOOKUP(LEFT(J9,4)+1&RIGHT(J9,3),cambi_mensili!$F:$F,cambi_mensili!$I:$I) -> 1167.0084 | O9: =N9/1000-1 -> 0.16700835 | Q9: =F9-N9 -> -1.9714595
B10: 1999-08 | C10: =1000/cambi_mensili!H10 -> 1518.6029 | D10: =C10/dati!$B10 -> 12.641502 | E10: =D10*_xlfn.XLOOKUP(LEFT(B10,4)+1&RIGHT(B10,3),dati!$A:$A,dati!$B:$B) -> 2057.3531 | F10: =E10*_xlfn.XLOOKUP(LEFT(B10,4)+1&RIGHT(B10,3),cambi_mensili!$F:$F,cambi_mensili!$H:$H) -> 1261.5689 | G10: =F10/1000-1 -> 0.26156893 | J10: 1999-08 | K10: =1000/cambi_mensili!I10 -> 1605.6188 | L10: =K10/dati!$D10 -> 14.85904 | M10: =L10*_xlfn.XLOOKUP(LEFT(J10,4)+1&RIGHT(J10,3),dati!$A:$A,dati!$D:$D) -> 1830.9081 | N10: =M10*_xlfn.XLOOKUP(LEFT(J10,4)+1&RIGHT(J10,3),cambi_mensili!$F:$F,cambi_mensili!$I:$I) -> 1260.6252 | O10: =N10/1000-1 -> 0.26062522 | Q10: =F10-N10 -> 0.94371284
B11: 1999-09 | C11: =1000/cambi_mensili!H11 -> 1544.4015 | D11: =C11/dati!$B11 -> 13.362764 | E11: =D11*_xlfn.XLOOKUP(LEFT(B11,4)+1&RIGHT(B11,3),dati!$A:$A,dati!$B:$B) -> 2071.2728 | F11: =E11*_xlfn.XLOOKUP(LEFT(B11,4)+1&RIGHT(B11,3),cambi_mensili!$F:$F,cambi_mensili!$H:$H) -> 1235.9285 | G11: =F11/1000-1 -> 0.2359285 | J11: 1999-09 | K11: =1000/cambi_mensili!I11 -> 1647.1042 | L11: =K11/dati!$D11 -> 15.714064 | M11: =L11*_xlfn.XLOOKUP(LEFT(J11,4)+1&RIGHT(J11,3),dati!$A:$A,dati!$D:$D) -> 1830.455 | N11: =M11*_xlfn.XLOOKUP(LEFT(J11,4)+1&RIGHT(J11,3),cambi_mensili!$F:$F,cambi_mensili!$I:$I) -> 1246.1295 | O11: =N11/1000-1 -> 0.24612949 | Q11: =F11-N11 -> -10.200996
B12: 1999-10 | C12: =1000/cambi_mensili!H12 -> 1564.2109 | D12: =C12/dati!$B12 -> 12.541046 | E12: =D12*_xlfn.XLOOKUP(LEFT(B12,4)+1&RIGHT(B12,3),dati!$A:$A,dati!$B:$B) -> 2008.8758 | F12: =E12*_xlfn.XLOOKUP(LEFT(B12,4)+1&RIGHT(B12,3),cambi_mensili!$F:$F,cambi_mensili!$H:$H) -> 1166.9559 | G12: =F12/1000-1 -> 0.16695593 | J12: 1999-10 | K12: =1000/cambi_mensili!I12 -> 1635.0696 | L12: =K12/dati!$D12 -> 14.64576 | M12: =L12*_xlfn.XLOOKUP(LEFT(J12,4)+1&RIGHT(J12,3),dati!$A:$A,dati!$D:$D) -> 1693.408 | N12: =M12*_xlfn.XLOOKUP(LEFT(J12,4)+1&RIGHT(J12,3),cambi_mensili!$F:$F,cambi_mensili!$I:$I) -> 1168.707 | O12: =N12/1000-1 -> 0.16870701 | Q12: =F12-N12 -> -1.7510827
B13: 1999-11 | C13: =1000/cambi_mensili!H13 -> 1581.0277 | D13: =C13/dati!$B13 -> 11.891783 | E13: =D13*_xlfn.XLOOKUP(LEFT(B13,4)+1&RIGHT(B13,3),dati!$A:$A,dati!$B:$B) -> 1707.7739 | F13: =E13*_xlfn.XLOOKUP(LEFT(B13,4)+1&RIGHT(B13,3),cambi_mensili!$F:$F,cambi_mensili!$H:$H) -> 1046.5239 | G13: =F13/1000-1 -> 0.046523858 | J13: 1999-11 | K13: =1000/cambi_mensili!I13 -> 1596.3636 | L13: =K13/dati!$D13 -> 14.002758 | M13: =L13*_xlfn.XLOOKUP(LEFT(J13,4)+1&RIGHT(J13,3),dati!$A:$A,dati!$D:$D) -> 1490.7512 | N13: =M13*_xlfn.XLOOKUP(LEFT(J13,4)+1&RIGHT(J13,3),cambi_mensili!$F:$F,cambi_mensili!$I:$I) -> 1051.9718 | O13: =N13/1000-1 -> 0.051971829 | Q13: =F13-N13 -> -5.4479704
B14: 1999-12 | C14: =1000/cambi_mensili!H14 -> 1608.4928 | D14: =C14/dati!$B14 -> 11.261469 | E14: =D14*_xlfn.XLOOKUP(LEFT(B14,4)+1&RIGHT(B14,3),dati!$A:$A,dati!$B:$B) -> 1496.7387 | F14: =E14*_xlfn.XLOOKUP(LEFT(B14,4)+1&RIGHT(B14,3),cambi_mensili!$F:$F,cambi_mensili!$H:$H) -> 934.11465 | G14: =F14/1000-1 -> -0.065885348 | J14: 1999-12 | K14: =1000/cambi_mensili!I14 -> 1615.8919 | L14: =K14/dati!$D14 -> 13.253464 | M14: =L14*_xlfn.XLOOKUP(LEFT(J14,4)+1&RIGHT(J14,3),dati!$A:$A,dati!$D:$D) -> 1408.3675 | N14: =M14*_xlfn.XLOOKUP(LEFT(J14,4)+1&RIGHT(J14,3),cambi_mensili!$F:$F,cambi_mensili!$I:$I) -> 944.61274 | O14: =N14/1000-1 -> -0.055387265 | Q14: =F14-N14 -> -10.498083
B15: 2000-01 | C15: =1000/cambi_mensili!H15 -> 1653.7126 | D15: =C15/dati!$B15 -> 11.943637 | E15: =D15*_xlfn.XLOOKUP(LEFT(B15,4)+1&RIGHT(B15,3),dati!$A:$A,dati!$B:$B) -> 1660.7504 | F15: =E15*_xlfn.XLOOKUP(LEFT(B15,4)+1&RIGHT(B15,3),cambi_mensili!$F:$F,cambi_mensili!$H:$H) -> 1057.3998 | G15: =F15/1000-1 -> 0.057399754 | J15: 2000-01 | K15: =1000/cambi_mensili!I15 -> 1619.15 | L15: =K15/dati!$D15 -> 14.035568 | M15: =L15*_xlfn.XLOOKUP(LEFT(J15,4)+1&RIGHT(J15,3),dati!$A:$A,dati!$D:$D) -> 1545.5987 | N15: =M15*_xlfn.XLOOKUP(LEFT(J15,4)+1&RIGHT(J15,3),cambi_mensili!$F:$F,cambi_mensili!$I:$I) -> 1058.9505 | O15: =N15/1000-1 -> 0.05895052 | Q15: =F15-N15 -> -1.5507658
B16: 2000-02 | C16: =1000/cambi_mensili!H16 -> 1630.2576 | D16: =C16/dati!$B16 -> 11.871966 | E16: =D16*_xlfn.XLOOKUP(LEFT(B16,4)+1&RIGHT(B16,3),dati!$A:$A,dati!$B:$B) -> 1519.5937 | F16: =E16*_xlfn.XLOOKUP(LEFT(B16,4)+1&RIGHT(B16,3),cambi_mensili!$F:$F,cambi_mensili!$H:$H) -> 970.56447 | G16: =F16/1000-1 -> -0.029435533 | J16: 2000-02 | K16: =1000/cambi_mensili!I16 -> 1583.6322 | L16: =K16/dati!$D16 -> 14.065909 | M16: =L16*_xlfn.XLOOKUP(LEFT(J16,4)+1&RIGHT(J16,3),dati!$A:$A,dati!$D:$D) -> 1409.9737 | N16: =M16*_xlfn.XLOOKUP(LEFT(J16,4)+1&RIGHT(J16,3),cambi_mensili!$F:$F,cambi_mensili!$I:$I) -> 973.77832 | O16: =N16/1000-1 -> -0.026221681 | Q16: =F16-N16 -> -3.213852
B17: 2000-03 | C17: =1000/cambi_mensili!H17 -> 1670.8438 | D17: =C17/dati!$B17 -> 10.998761 | E17: =D17*_xlfn.XLOOKUP(LEFT(B17,4)+1&RIGHT(B17,3),dati!$A:$A,dati!$B:$B) -> 1370.7646 | F17: =E17*_xlfn.XLOOKUP(LEFT(B17,4)+1&RIGHT(B17,3),cambi_mensili!$F:$F,cambi_mensili!$H:$H) -> 848.77742 | G17: =F17/1000-1 -> -0.15122258 | J17: 2000-03 | K17: =1000/cambi_mensili!I17 -> 1596.1571 | L17: =K17/dati!$D17 -> 12.8937 | M17: =L17*_xlfn.XLOOKUP(LEFT(J17,4)+1&RIGHT(J17,3),dati!$A:$A,dati!$D:$D) -> 1209.7297 | N17: =M17*_xlfn.XLOOKUP(LEFT(J17,4)+1&RIGHT(J17,3),cambi_mensili!$F:$F,cambi_mensili!$I:$I) -> 848.12574 | O17: =N17/1000-1 -> -0.15187426 | Q17: =F17-N17 -> 0.6516773
... B285: 2022-07 | C285: =1000/cambi_mensili!H285 -> 1190.6179 | D285: =C285/dati!$B285 -> 2.3152229 | E285: =D285*_xlfn.XLOOKUP(LEFT(B285,4)+1&RIGHT(B285,3),dati!$A:$A,dati!$B:$B) -> 1239.6294 | F285: =E285*_xlfn.XLOOKUP(LEFT(B285,4)+1&RIGHT(B285,3),cambi_mensili!$F:$F,cambi_mensili!$H:$H) -> 1063.1682 | G285: =F285/1000-1 -> 0.063168181 | J285: 2022-07 | K285: =1000/cambi_mensili!I285 -> 1214.1922 | L285: =K285/dati!$D285 -> 2.7190504 | M285: =L285*_xlfn.XLOOKUP(LEFT(J285,4)+1&RIGHT(J285,3),dati!$A:$A,dati!$D:$D) -> 1366.9545 | N285: =M285*_xlfn.XLOOKUP(LEFT(J285,4)+1&RIGHT(J285,3),cambi_mensili!$F:$F,cambi_mensili!$I:$I) -> 1063.5657 | O285: =N285/1000-1 -> 0.063565744 | Q285: =F285-N285 -> -0.39756236

Sheet XD9U
A1: Date | B1: XD9U.MI EUR | E1: Date | F1: XD9U.L USD | I1: Data | J1: XD9U.MI EUR | K1: XD9U.L USD | L1: controllo se il cambio funziona
A2: 41904 | B2: 39.195 | C2: =YEAR(A2)&"-"&IF(MONTH(A2)<10,"0"&MONTH(A2),MONTH(A2)) -> 2014-09 | E2: 41904 | F2: 50.18 | G2: =YEAR(E2)&"-"&IF(MONTH(E2)<10,"0"&MONTH(E2),MONTH(E2)) -> 2014-09 | I2: 2014-09 | J2: =_xlfn.XLOOKUP($I2,$C:$C,B:B,"xxx",0,-1) -> 39.11 | K2: =_xlfn.XLOOKUP($I2,$G:$G,F:F,"xxx",0,-1) -> 49.880001 | L2: =J2*_xlfn.XLOOKUP(I2,cambi_mensili!F:F,cambi_mensili!G:G) -> 49.212113
A3: 41905 | B3: 39.195 | C3: =YEAR(A3)&"-"&IF(MONTH(A3)<10,"0"&MONTH(A3),MONTH(A3)) -> 2014-09 | E3: 41905 | F3: 50.009998 | G3: =YEAR(E3)&"-"&IF(MONTH(E3)<10,"0"&MONTH(E3),MONTH(E3)) -> 2014-09 | I3: 2014-10 | J3: =_xlfn.XLOOKUP($I3,$C:$C,B:B,"xxx",0,-1) -> 39.46 | K3: =_xlfn.XLOOKUP($I3,$G:$G,F:F,"xxx",0,-1) -> 50.654999 | L3: =J3*_xlfn.XLOOKUP(I3,cambi_mensili!F:F,cambi_mensili!G:G) -> 49.419704
A4: 41906 | B4: 39.195 | C4: =YEAR(A4)&"-"&IF(MONTH(A4)<10,"0"&MONTH(A4),MONTH(A4)) -> 2014-09 | E4: 41906 | F4: 50.055 | G4: =YEAR(E4)&"-"&IF(MONTH(E4)<10,"0"&MONTH(E4),MONTH(E4)) -> 2014-09 | I4: 2014-11 | J4: =_xlfn.XLOOKUP($I4,$C:$C,B:B,"xxx",0,-1) -> 42.015 | K4: =_xlfn.XLOOKUP($I4,$G:$G,F:F,"xxx",0,-1) -> 52.235001 | L4: =J4*_xlfn.XLOOKUP(I4,cambi_mensili!F:F,cambi_mensili!G:G) -> 52.447325
A5: 41907 | B5: 39.45 | C5: =YEAR(A5)&"-"&IF(MONTH(A5)<10,"0"&MONTH(A5),MONTH(A5)) -> 2014-09 | E5: 41907 | F5: 49.654999 | G5: =YEAR(E5)&"-"&IF(MONTH(E5)<10,"0"&MONTH(E5),MONTH(E5)) -> 2014-09 | I5: 2014-12 | J5: =_xlfn.XLOOKUP($I5,$C:$C,B:B,"xxx",0,-1) -> 43.295 | K5: =_xlfn.XLOOKUP($I5,$G:$G,F:F,"xxx",0,-1) -> 52.544998 | L5: =J5*_xlfn.XLOOKUP(I5,cambi_mensili!F:F,cambi_mensili!G:G) -> 52.564459
A6: 41908 | B6: 39.45 | C6: =YEAR(A6)&"-"&IF(MONTH(A6)<10,"0"&MONTH(A6),MONTH(A6)) -> 2014-09 | E6: 41908 | F6: 49.555 | G6: =YEAR(E6)&"-"&IF(MONTH(E6)<10,"0"&MONTH(E6),MONTH(E6)) -> 2014-09 | I6: 2015-01 | J6: =_xlfn.XLOOKUP($I6,$C:$C,B:B,"xxx",0,-1) -> 46.145 | K6: =_xlfn.XLOOKUP($I6,$G:$G,F:F,"xxx",0,-1) -> 50.700001 | L6: =J6*_xlfn.XLOOKUP(I6,cambi_mensili!F:F,cambi_mensili!G:G) -> 52.166923
A7: 41911 | B7: 39.11 | C7: =YEAR(A7)&"-"&IF(MONTH(A7)<10,"0"&MONTH(A7),MONTH(A7)) -> 2014-09 | E7: 41911 | F7: 49.755001 | G7: =YEAR(E7)&"-"&IF(MONTH(E7)<10,"0"&MONTH(E7),MONTH(E7)) -> 2014-09 | I7: 2015-02 | J7: =_xlfn.XLOOKUP($I7,$C:$C,B:B,"xxx",0,-1) -> 47.165 | K7: =_xlfn.XLOOKUP($I7,$G:$G,F:F,"xxx",0,-1) -> 53.465 | L7: =J7*_xlfn.XLOOKUP(I7,cambi_mensili!F:F,cambi_mensili!G:G) -> 53.01346
A8: 41912 | B8: 39.11 | C8: =YEAR(A8)&"-"&IF(MONTH(A8)<10,"0"&MONTH(A8),MONTH(A8)) -> 2014-09 | E8: 41912 | F8: 49.880001 | G8: =YEAR(E8)&"-"&IF(MONTH(E8)<10,"0"&MONTH(E8),MONTH(E8)) -> 2014-09 | I8: 2015-03 | J8: =_xlfn.XLOOKUP($I8,$C:$C,B:B,"xxx",0,-1) -> 47.615 | K8: =_xlfn.XLOOKUP($I8,$G:$G,F:F,"xxx",0,-1) -> 52.889999 | L8: =J8*_xlfn.XLOOKUP(I8,cambi_mensili!F:F,cambi_mensili!G:G) -> 51.228979
