Workbook
Name eurofxref_hist: cambi_giornalieri!$A$1:$AQ$6566
Name MSCI_GERMANY: dati!$C$1:$C$297
Name MSCI_GERMANY_1: dati!$E$1:$E$297
Name MSCI_USA: dati!$A$1:$B$297
Name MSCI_USA_1: dati!$D$1:$D$297
Name XD9U.MI: XD9U!$A$1:$B$2326

Sheet dati
A1: Date | B1: MSCI USA EUR | C1: MSCI GERMANY EUR | D1: MSCI USA USD | E1: MSCI GERMANY USD | F1: controlliamo se funziona il cambio Germany | H1: controlliamo se funziona il cambio USA
A2: 1998-12 | B2: 100 | C2: 100 | D2: 100 | E2: 100 | F2: =C2*cambi_mensili!G2 -> 117.89 | G2: 100 | H2: =B2*cambi_mensili!G2 -> 117.89 | I2: 100
A3: 1999-01 | B3: 107.83574 | C3: 105.11002 | D3: 104.29096 | E3: 101.65484 | F3: =C3*cambi_mensili!G3 -> 119.65725 | G3: =F3/F$2*100 -> 101.49907 | H3: =B3*cambi_mensili!G3 -> 122.76021 | I3: =H3/H$2*100 -> 104.13115
A4: 1999-02 | B4: 108.41079 | C4: 99.762066 | D4: 101.34805 | E4: 93.26277 | F4: =C4*cambi_mensili!G4 -> 109.91784 | G4: =F4/F$2*100 -> 93.237632 | H4: =B4*cambi_mensili!G4 -> 119.44701 | I4: =H4/H$2*100 -> 101.32073
A5: 1999-03 | B5: 114.78364 | C5: 98.689626 | D5: 105.53155 | E5: 90.734784 | F5: =C5*cambi_mensili!G5 -> 106.0124 | G5: =F5/F$2*100 -> 89.924842 | H5: =B5*cambi_mensili!G5 -> 123.30059 | I5: =H5/H$2*100 -> 104.58953
A6: 1999-04 | B6: 121.33543 | C6: 107.2477 | D6: 109.31813 | E6: 96.625675 | F6: =C6*cambi_mensili!G6 -> 113.65038 | G6: =F6/F$2*100 -> 96.403751 | H6: =B6*cambi_mensili!G6 -> 128.57915 | I6: =H6/H$2*100 -> 109.06706
A7: 1999-05 | B7: 120.19257 | C7: 102.1849 | D7: 106.74287 | E7: 90.750287 | F7: =C7*cambi_mensili!G7 -> 106.84453 | G7: =F7/F$2*100 -> 90.630701 | H7: =B7*cambi_mensili!G7 -> 125.67335 | I7: =H7/H$2*100 -> 106.60221
A8: 1999-06 | B8: 128.04653 | C8: 109.07647 | D8: 112.45304 | E8: 95.793155 | F8: =C8*cambi_mensili!G8 -> 112.65418 | G8: =F8/F$2*100 -> 95.558725 | H8: =B8*cambi_mensili!G8 -> 132.24646 | I8: =H8/H$2*100 -> 112.17784
A9: 1999-07 | B9: 119.34647 | C9: 103.41946 | D9: 108.77629 | E9: 94.259891 | F9: =C9*cambi_mensili!G9 -> 110.59677 | G9: =F9/F$2*100 -> 93.81353 | H9: =B9*cambi_mensili!G9 -> 127.62911 | I9: =H9/H$2*100 -> 108.26119
A10: 1999-08 | B10: 120.12836 | C10: 106.60573 | D10: 108.0567 | E10: 95.892957 | F10: =C10*cambi_mensili!G10 -> 112.71424 | G10: =F10/F$2*100 -> 95.609671 | H10: =B10*cambi_mensili!G10 -> 127.01171 | I10: =H10/H$2*100 -> 107.73748
A11: 1999-09 | B11: 115.575 | C11: 104.31079 | D11: 104.8172 | E11: 94.601465 | F11: =C11*cambi_mensili!G11 -> 111.24745 | G11: =F11/F$2*100 -> 94.36547 | H11: =B11*cambi_mensili!G11 -> 123.26074 | I11: =H11/H$2*100 -> 104.55572
A12: 1999-10 | B12: 124.72731 | C12: 111.41188 | D12: 111.64116 | E12: 99.722769 | F12: =C12*cambi_mensili!G12 -> 116.45884 | G12: =F12/F$2*100 -> 98.786024 | H12: =B12*cambi_mensili!G12 -> 130.37745 | I12: =H12/H$2*100 -> 110.59246
A13: 1999-11 | B13: 132.95127 | C13: 119.52645 | D13: 114.00352 | E13: 102.49196 | F13: =C13*cambi_mensili!G13 -> 120.68585 | G13: =F13/F$2*100 -> 102.37158 | H13: =B13*cambi_mensili!G13 -> 134.24089 | I13: =H13/H$2*100 -> 113.86962
A14: 1999-12 | B14: 142.83153 | C14: 140.63163 | D14: 121.92223 | E14: 120.04438 | F14: =C14*cambi_mensili!G14 -> 141.27854 | G14: =F14/F$2*100 -> 119.83929 | H14: =B14*cambi_mensili!G14 -> 143.48855 | I14: =H14/H$2*100 -> 121.71393
... A297: 2023-07 | B297: 535.42553 | C297: 267.86927 | D297: 502.73231 | E297: 251.51311 | F297: =C297*cambi_mensili!G297 -> 295.2723 | G297: =F297/F$2*100 -> 250.46424 | H297: =B297*cambi_mensili!G297 -> 590.19956 | I297: =H297/H$2*100 -> 500.63581

Sheet cambi_giornalieri
A1: Date | B1: USD | C1: JPY | D1: BGN | E1: CYP | F1: CZK | G1: DKK | H1: EEK | I1: GBP | J1: HUF | K1: LTL | L1: LVL | M1: MTL | N1: PLN | O1: ROL | P1: RON | Q1: SEK | R1: SIT | S1: SKK | T1: CHF | U1: ISK | V1: NOK | W1: HRK | X1: RUB | Y1: TRL | Z1: TRY | AA1: AUD | AB1: BRL | AC1: CAD | AD1: CNY | AE1: HKD | AF1: IDR | AG1: ILS | AH1: INR | AI1: KRW | AJ1: MXN | AK1: MYR | AL1: NZD | AM1: PHP | AN1: SGD | AO1: THB | AP1: ZAR
A2: 36164 | B2: 1.1789 | C2: 133.73 | E2: 0.58231 | F2: 35.107 | G2: 7.4501 | H2: 15.6466 | I2: 0.7111 | J2: 251.48 | K2: 4.717 | L2: 0.6668 | M2: 0.4432 | N2: 4.0712 | O2: 13111 | Q2: 9.4696 | R2: 189.045 | S2: 42.991 | T2: 1.6168 | U2: 81.48 | V2: 8.855 | Y2: 372274 | AA2: 1.91 | AC2: 1.8004 | AE2: 9.1332 | AI2: 1398.59 | AL2: 2.2229 | AN2: 1.9554 | AP2: 6.9358
A3: 36165 | B3: 1.179 | C3: 130.96 | E3: 0.5823 | F3: 34.917 | G3: 7.4495 | H3: 15.6466 | I3: 0.7122 | J3: 250.8 | K3: 4.7174 | L3: 0.6657 | M3: 0.4432 | N3: 4.0245 | O3: 13168 | Q3: 9.4025 | R3: 188.775 | S3: 42.848 | T3: 1.6123 | U3: 81.53 | V3: 8.7745 | Y3: 372816 | AA3: 1.8944 | AC3: 1.7965 | AE3: 9.1341 | AI3: 1373.01 | AL3: 2.2011 | AN3: 1.9655 | AP3: 6.7975
A4: 36166 | B4: 1.1743 | C4: 131.42 | E4: 0.582 | F4: 34.85 | G4: 7.4452 | H4: 15.6466 | I4: 0.7076 | J4: 250.67 | K4: 4.6994 | L4: 0.6649 | M4: 0.442 | N4: 4.0065 | O4: 13168 | Q4: 9.305 | R4: 188.7 | S4: 42.778 | T4: 1.6116 | U4: 81.54 | V4: 8.7335 | Y4: 372188 | AA4: 1.882 | AC4: 1.7711 | AE4: 9.101 | AI4: 1359.54 | AL4: 2.189 | AN4: 1.9699 | AP4: 6.7307
A5: 36167 | B5: 1.1632 | C5: 129.43 | E5: 0.58187 | F5: 34.886 | G5: 7.4431 | H5: 15.6466 | I5: 0.70585 | J5: 250.09 | K5: 4.6548 | L5: 0.6627 | M5: 0.4413 | N5: 4.0165 | O5: 13092 | Q5: 9.18 | R5: 188.8 | S5: 42.765 | T5: 1.6165 | U5: 81.06 | V5: 8.6295 | Y5: 370147 | AA5: 1.8474 | AC5: 1.7602 | AE5: 9.0131 | AI5: 1337.16 | AL5: 2.1531 | AN5: 1.9436 | AP5: 6.8283
A6: 36168 | B6: 1.1659 | C6: 130.09 | E6: 0.58187 | F6: 34.938 | G6: 7.4433 | H6: 15.6466 | I6: 0.7094 | J6: 250.15 | K6: 4.6643 | L6: 0.6654 | M6: 0.4419 | N6: 4.0363 | O6: 13143 | Q6: 9.165 | R6: 188.84 | S6: 42.56 | T6: 1.6138 | U6: 80.99 | V6: 8.59 | Y6: 371830 | AA6: 1.8406 | AC6: 1.7643 | AE6: 9.0302 | AI6: 1366.73 | AL6: 2.1557 | AN6: 1.9537 | AP6: 6.7855
A7: 36171 | B7: 1.1569 | C7: 126.33 | E7: 0.58167 | F7: 35.173 | G7: 7.4433 | H7: 15.6466 | I7: 0.7044 | J7: 249.7 | K7: 4.6296 | L7: 0.6586 | M7: 0.4405 | N7: 4.032 | O7: 12980 | Q7: 9.0985 | R7: 188.9655 | S7: 42.509 | T7: 1.6104 | U7: 80.55 | V7: 8.5585 | Y7: 372471 | AA7: 1.8134 | AC7: 1.7463 | AE7: 8.9655 | AI7: 1356.7 | AL7: 2.1257 | AN7: 1.9358 | AP7: 6.791
A8: 36172 | B8: 1.152 | C8: 129.63 | E8: 0.5814 | F8: 35.25 | G8: 7.443 | H8: 15.6466 | I8: 0.7066 | J8: 249.2 | K8: 4.6088 | L8: 0.6601 | M8: 0.4403 | N8: 4.033 | O8: 12912 | Q8: 9.0955 | R8: 189.5352 | S8: 42.49 | T8: 1.6072 | U8: 80.59 | V8: 8.61 | Y8: 372105 | AA8: 1.809 | AC8: 1.7392 | AE8: 8.9246 | AI8: 1353.43 | AL8: 2.121 | AN8: 1.9343 | AP8: 6.9581
A9: 36173 | B9: 1.1744 | C9: 131.89 | E9: 0.5819 | F9: 36.113 | G9: 7.4432 | H9: 15.6466 | I9: 0.7084 | J9: 255.01 | K9: 4.6986 | L9: 0.6676 | M9: 0.4435 | N9: 4.2033 | O9: 13149 | Q9: 9.14 | R9: 191.2016 | S9: 42.794 | T9: 1.5931 | U9: 81.24 | V9: 8.747 | Y9: 376350 | AA9: 1.862 | AC9: 1.8123 | AE9: 9.1008 | AI9: 1377.93 | AL9: 2.1744 | AN9: 1.9815 | AP9: 7.2543
A10: 36174 | B10: 1.1653 | C10: 132.74 | E10: 0.5819 | F10: 35.698 | G10: 7.4437 | H10: 15.6466 | I10: 0.7062 | J10: 253.84 | K10: 4.6636 | L10: 0.6659 | M10: 0.4414 | N10: 4.1335 | O10: 13134 | Q10: 9.135 | R10: 188.9441 | S10: 42.757 | T10: 1.5934 | U10: 80.93 | V10: 8.7245 | Y10: 375101 | AA10: 1.8353 | AC10: 1.7707 | AE10: 9.0288 | AI10: 1382.23 | AL10: 2.157 | AN10: 1.9615 | AP10: 7.1316
A11: 36175 | B11: 1.1626 | C11: 131.74 | E11: 0.58187 | F11: 35.86 | G11: 7.4441 | H11: 15.6466 | I11: 0.7039 | J11: 253.34 | K11: 4.6516 | L11: 0.6617 | M11: 0.4421 | N11: 4.2 | O11: 13164 | Q11: 9.157 | R11: 187.1333 | S11: 42.738 | T11: 1.5984 | U11: 80.7 | V11: 8.715 | Y11: 374193 | AA11: 1.8388 | AC11: 1.7797 | AE11: 9.0102 | AI11: 1375.76 | AL11: 2.1582 | AN11: 1.957 | AP11: 7.2197
A12: 36178 | B12: 1.1612 | C12: 132.9 | E12: 0.58163 | F12: 35.615 | G12: 7.4431 | H12: 15.6466 | I12: 0.7013 | J12: 250.78 | K12: 4.6457 | L12: 0.6625 | M12: 0.4413 | N12: 4.0667 | O12: 13263 | Q12: 9.093 | R12: 189.3639 | S12: 42.72 | T12: 1.6004 | U12: 80.62 | V12: 8.6575 | Y12: 382036 | AA12: 1.8292 | AC12: 1.7717 | AE12: 8.9944 | AI12: 1371.26 | AL12: 2.1671 | AN12: 1.9549 | AP12: 6.9596
A13: 36179 | B13: 1.1616 | C13: 132.14 | E13: 0.58176 | F13: 35.745 | G13: 7.438 | H13: 15.6466 | I13: 0.7 | J13: 250.64 | K13: 4.646 | L13: 0.661 | M13: 0.4412 | N13: 4.0973 | O13: 13335 | Q13: 9.0045 | R13: 189.4432 | S13: 42.737 | T13: 1.6001 | U13: 80.52 | V13: 8.63 | Y13: 382052 | AA13: 1.8295 | AC13: 1.7739 | AE13: 8.9944 | AI13: 1364.47 | AL13: 2.1614 | AN13: 1.9521 | AP13: 7.0161
... A399: 36725 | B399: 0.9353 | C399: 100.93 | E399: 0.57395 | F399: 35.667 | G399: 7.4557 | H399: 15.6466 | I399: 0.6241 | J399: 260.12 | K399: 3.7417 | L399: 0.5629 | M399: 0.4078 | N399: 4.0297 | O399: 20202 | Q399: 8.387 | R399: 207.6454 | S399: 42.554 | T399: 1.5502 | U399: 74.14 | V399: 8.1895 | Y399: 588276 | AA399: 1.6025 | AC399: 1.3849 | AE399: 7.2953 | AI399: 1041.94 | AL399: 2.041 | AN399: 1.6349 | AP399: 6.4676
A400: 36726 | B400: 0.9216 | C400: 99.6 | D400: 1.9469 | E400: 0.57346 | F400: 35.632 | G400: 7.4535 | H400: 15.6466 | I400: 0.6156 | J400: 260.16 | K400: 3.6826 | L400: 0.5564 | M400: 0.4051 | N400: 4.0048 | O400: 19919 | Q400: 8.399 | R400: 207.5889 | S400: 42.51 | T400: 1.5473 | U400: 73.39 | V400: 8.1735 | Y400: 583156 | AA400: 1.592 | AC400: 1.3595 | AE400: 7.1799 | AI400: 1024.17 | AL400: 2.0239 | AN400: 1.6087 | AP400: 6.4321
A401: 36727 | B401: 0.922 | C401: 99.74 | D401: 1.9468 | E401: 0.57336 | F401: 35.78 | G401: 7.4543 | H401: 15.6466 | I401: 0.6165 | J401: 260.23 | K401: 3.6822 | L401: 0.5564 | M401: 0.4053 | N401: 4.0103 | O401: 19968 | Q401: 8.409 | R401: 207.8352 | S401: 42.505 | T401: 1.5488 | U401: 73.12 | V401: 8.189 | Y401: 583629 | AA401: 1.5951 | AC401: 1.3625 | AE401: 7.1777 | AI401: 1023.24 | AL401: 2.0124 | AN401: 1.6077 | AP401: 6.4182
A402: 36728 | B402: 0.9363 | C402: 101.53 | D402: 1.9465 | E402: 0.57399 | F402: 35.595 | G402: 7.455 | H402: 15.6466 | I402: 0.6185 | J402: 260.3 | K402: 3.7413 | L402: 0.5628 | M402: 0.4072 | N402: 4.0198 | O402: 20295 | Q402: 8.388 | R402: 207.8603 | S402: 42.533 | T402: 1.5511 | U402: 73.6 | V402: 8.1835 | Y402: 589293 | AA402: 1.5945 | AC402: 1.3783 | AE402: 7.2933 | AI402: 1040.91 | AL402: 2.0138 | AN402: 1.6342 | AP402: 6.4495
A403: 36731 | B403: 0.9332 | C403: 101.64 | D403: 1.9464 | E403: 0.57395 | F403: 35.57 | G403: 7.4559 | H403: 15.6466 | I403: 0.6151 | J403: 260.31 | K403: 3.7308 | L403: 0.562 | M403: 0.4065 | N403: 4.0148 | O403: 20258 | Q403: 8.422 | R403: 207.8613 | S403: 42.494 | T403: 1.5555 | U403: 73.49 | V403: 8.1915 | Y403: 588915 | AA403: 1.5905 | AC403: 1.37 | AE403: 7.2722 | AI403: 1039.13 | AL403: 2.0195 | AN403: 1.6281 | AP403: 6.4489
A404: 36732 | B404: 0.941 | C404: 102.78 | D404: 1.9462 | E404: 0.57425 | F404: 35.66 | G404: 7.4548 | H404: 15.6466 | I404: 0.6201 | J404: 260.3 | K404: 3.7633 | L404: 0.5668 | M404: 0.408 | N404: 4.0393 | O404: 20453 | Q404: 8.388 | R404: 207.9904 | S404: 42.472 | T404: 1.5538 | U404: 73.67 | V404: 8.168 | Y404: 592322 | AA404: 1.6072 | AC404: 1.3803 | AE404: 7.3368 | AI404: 1049.69 | AL404: 2.0375 | AN404: 1.6424 | AP404: 6.5443
A405: 36733 | B405: 0.939 | C405: 102.43 | D405: 1.9461 | E405: 0.57422 | F405: 35.663 | G405: 7.4545 | H405: 15.6466 | I405: 0.6189 | J405: 260.31 | K405: 3.759 | L405: 0.5662 | M405: 0.4075 | N405: 4.0356 | O405: 20442 | Q405: 8.394 | R405: 207.2782 | S405: 42.544 | T405: 1.5519 | U405: 73.68 | V405: 8.1825 | Y405: 592372 | AA405: 1.5909 | AC405: 1.3772 | AE405: 7.3265 | AI405: 1047.88 | AL405: 2.0353 | AN405: 1.6366 | AP405: 6.5291
A406: 36734 | B406: 0.9389 | C406: 102.26 | D406: 1.9462 | E406: 0.57418 | F406: 35.59 | G406: 7.4565 | H406: 15.6466 | I406: 0.6198 | J406: 260.47 | K406: 3.7568 | L406: 0.5656 | M406: 0.4076 | N406: 4.0274 | O406: 20497 | Q406: 8.4415 | R406: 208.2732 | S406: 42.538 | T406: 1.5531 | U406: 73.03 | V406: 8.195 | Y406: 592096 | AA406: 1.5898 | AC406: 1.3773 | AE406: 7.3215 | AI406: 1046.46 | AL406: 2.0387 | AN406: 1.6281 | AP406: 6.5103
A407: 36735 | B407: 0.9276 | C407: 101.29 | D407: 1.9461 | E407: 0.57362 | F407: 35.563 | G407: 7.4556 | H407: 15.6466 | I407: 0.615 | J407: 260.45 | K407: 3.712 | L407: 0.5602 | M407: 0.4057 | N407: 4.0138 | O407: 20284 | Q407: 8.4585 | R407: 208.3529 | S407: 42.35 | T407: 1.5486 | U407: 72.69 | V407: 8.1835 | Y407: 587980 | AA407: 1.5752 | AC407: 1.3663 | AE407: 7.2344 | AI407: 1036.07 | AL407: 2.0225 | AN407: 1.6078 | AP407: 6.4351
A408: 36738 | B408: 0.9243 | C408: 101.04 | D408: 1.9462 | E408: 0.57353 | F408: 35.424 | G408: 7.4569 | H408: 15.6466 | I408: 0.6179 | J408: 260.51 | K408: 3.7032 | L408: 0.5598 | M408: 0.4056 | N408: 4.011 | O408: 20238 | Q408: 8.495 | R408: 208.4178 | S408: 42.434 | T408: 1.5477 | U408: 72.67 | V408: 8.199 | Y408: 588419 | AA408: 1.5986 | AC408: 1.3702 | AE408: 7.2155 | AI408: 1033.61 | AL408: 2.0386 | AN408: 1.6034 | AP408: 6.439
A409: 36739 | B409: 0.9264 | C409: 101.56 | D409: 1.9461 | E409: 0.57359 | F409: 35.421 | G409: 7.4575 | H409: 15.6466 | I409: 0.6172 | J409: 260.45 | K409: 3.7068 | L409: 0.5606 | M409: 0.4059 | N409: 4.0352 | O409: 20315 | Q409: 8.474 | R409: 208.3626 | S409: 42.505 | T409: 1.546 | U409: 72.51 | V409: 8.1985 | Y409: 588607 | AA409: 1.5965 | AC409: 1.3794 | AE409: 7.2251 | AI409: 1033.69 | AL409: 2.0356 | AN409: 1.605 | AP409: 6.4473
A410: 36740 | B410: 0.9142 | C410: 99.8 | D410: 1.9462 | E410: 0.57313 | F410: 35.39 | G410: 7.4568 | H410: 15.6466 | I410: 0.6143 | J410: 260.51 | K410: 3.658 | L410: 0.5553 | M410: 0.4041 | N410: 3.996 | O410: 20080 | Q410: 8.4575 | R410: 208.4765 | S410: 42.425 | T410: 1.5449 | U410: 71.93 | V410: 8.18 | Y410: 583991 | AA410: 1.5701 | AC410: 1.3544 | AE410: 7.1301 | AI410: 1020.03 | AL410: 2.0177 | AN410: 1.5796 | AP410: 6.4122
A411: 36741 | B411: 0.9028 | C411: 97.85 | D411: 1.9463 | E411: 0.57284 | F411: 35.342 | G411: 7.458 | H411: 15.6466 | I411: 0.607 | J411: 260.55 | K411: 3.6172 | L411: 0.5498 | M411: 0.4017 | N411: 3.979 | O411: 19872 | Q411: 8.439 | R411: 206.9572 | S411: 42.395 | T411: 1.5425 | U411: 72.34 | V411: 8.1585 | Y411: 580347 | AA411: 1.549 | AC411: 1.3372 | AE411: 7.0503 | AI411: 1007.88 | AL411: 1.9949 | AN411: 1.5608 | AP411: 6.3263
... A1538: 38352 | B1538: 1.3621 | C1538: 139.65 | D1538: 1.9559 | E1538: 0.58 | F1538: 30.464 | G1538: 7.4388 | H1538: 15.6466 | I1538: 0.70505 | J1538: 245.97 | K1538: 3.4528 | L1538: 0.6979 | M1538: 0.4343 | N1538: 4.0845 | O1538: 39390 | Q1538: 9.0206 | R1538: 239.76 | S1538: 38.745 | T1538: 1.5429 | U1538: 83.6 | V1538: 8.2365 | Y1538: 1836200 | AA1538: 1.7459 | AC1538: 1.6416 | AE1538: 10.5881 | AI1538: 1410.05 | AL1538: 1.8871 | AN1538: 2.2262 | AP1538: 7.6897
A1539: 38355 | B1539: 1.3507 | C1539: 138.84 | D1539: 1.9559 | E1539: 0.58 | F1539: 30.361 | G1539: 7.4371 | H1539: 15.6466 | I1539: 0.70725 | J1539: 245.58 | K1539: 3.4528 | L1539: 0.6964 | M1539: 0.4343 | N1539: 4.0774 | O1539: 39230 | Q1539: 8.9758 | R1539: 239.78 | S1539: 38.655 | T1539: 1.5444 | U1539: 83.39 | V1539: 8.2135 | Z1539: 1.815 | AA1539: 1.7329 | AC1539: 1.6278 | AE1539: 10.5055 | AI1539: 1402.16 | AL1539: 1.8877 | AN1539: 2.2113 | AP1539: 7.5893
A1540: 38356 | B1540: 1.3365 | C1540: 138.49 | D1540: 1.9559 | E1540: 0.5801 | F1540: 30.366 | G1540: 7.4351 | H1540: 15.6466 | I1540: 0.7062 | J1540: 245.38 | K1540: 3.4528 | L1540: 0.6965 | M1540: 0.4338 | N1540: 4.0859 | O1540: 38942 | Q1540: 9.0385 | R1540: 239.78 | S1540: 38.57 | T1540: 1.5477 | U1540: 83.39 | V1540: 8.246 | Z1540: 1.807 | AA1540: 1.73 | AC1540: 1.6254 | AE1540: 10.4042 | AI1540: 1387.96 | AL1540: 1.8855 | AN1540: 2.1961 | AP1540: 7.7314
A1541: 38357 | B1541: 1.3224 | C1541: 138.09 | D1541: 1.9558 | E1541: 0.5806 | F1541: 30.429 | G1541: 7.4396 | H1541: 15.6466 | I1541: 0.70485 | J1541: 246.17 | K1541: 3.4528 | L1541: 0.6965 | M1541: 0.4332 | N1541: 4.1204 | O1541: 38666 | Q1541: 9.0373 | R1541: 239.77 | S1541: 38.625 | T1541: 1.5528 | U1541: 83.24 | V1541: 8.2835 | Z1541: 1.8329 | AA1541: 1.7354 | AC1541: 1.6269 | AE1541: 10.301 | AI1541: 1383.76 | AL1541: 1.8963 | AN1541: 2.1823 | AP1541: 7.8085
A1542: 38358 | B1542: 1.3183 | C1542: 138.3 | D1542: 1.9558 | E1542: 0.5804 | F1542: 30.438 | G1542: 7.44 | H1542: 15.6466 | I1542: 0.7039 | J1542: 247.93 | K1542: 3.4527 | L1542: 0.697 | M1542: 0.433 | N1542: 4.1192 | O1542: 38775 | Q1542: 9.0339 | R1542: 239.78 | S1542: 38.62 | T1542: 1.5498 | U1542: 83.15 | V1542: 8.2535 | Z1542: 1.845 | AA1542: 1.7314 | AC1542: 1.6224 | AE1542: 10.2754 | AI1542: 1395.95 | AL1542: 1.8909 | AN1542: 2.1766 | AP1542: 8.0519
A1543: 38359 | B1543: 1.32 | C1543: 138.06 | D1543: 1.9558 | E1543: 0.5807 | F1543: 30.303 | G1543: 7.4399 | H1543: 15.6466 | I1543: 0.7028 | J1543: 248.58 | K1543: 3.4528 | L1543: 0.6968 | M1543: 0.4329 | N1543: 4.0912 | O1543: 39003 | Q1543: 9.0298 | R1543: 239.77 | S1543: 38.608 | T1543: 1.5488 | U1543: 83.36 | V1543: 8.221 | Z1543: 1.825 | AA1543: 1.7301 | AC1543: 1.6226 | AE1543: 10.2822 | AI1543: 1387.58 | AL1543: 1.8811 | AN1543: 2.1721 | AP1543: 8.0036
A1544: 38362 | B1544: 1.3103 | C1544: 136.83 | D1544: 1.9559 | E1544: 0.5809 | F1544: 30.245 | G1544: 7.4403 | H1544: 15.6466 | I1544: 0.6978 | J1544: 247.8 | K1544: 3.4528 | L1544: 0.6969 | M1544: 0.4321 | N1544: 4.0763 | O1544: 38671 | Q1544: 9.043 | R1544: 239.78 | S1544: 38.528 | T1544: 1.5469 | U1544: 82.99 | V1544: 8.227 | Z1544: 1.8155 | AA1544: 1.7256 | AC1544: 1.6041 | AE1544: 10.2144 | AI1544: 1380.66 | AL1544: 1.8865 | AN1544: 2.1573 | AP1544: 7.8438
A1545: 38363 | B1545: 1.3143 | C1545: 136.7 | D1545: 1.9559 | E1545: 0.5811 | F1545: 30.264 | G1545: 7.4397 | H1545: 15.6466 | I1545: 0.7001 | J1545: 246.4 | K1545: 3.4528 | L1545: 0.6966 | M1545: 0.4325 | N1545: 4.0666 | O1545: 38304 | Q1545: 9.028 | R1545: 239.79 | S1545: 38.632 | T1545: 1.547 | U1545: 82.91 | V1545: 8.2045 | Z1545: 1.8142 | AA1545: 1.726 | AC1545: 1.5992 | AE1545: 10.2479 | AI1545: 1373.57 | AL1545: 1.8854 | AN1545: 2.1594 | AP1545: 7.8371
A1546: 38364 | B1546: 1.3139 | C1546: 135.47 | D1546: 1.9559 | E1546: 0.5813 | F1546: 30.485 | G1546: 7.4405 | H1546: 15.6466 | I1546: 0.6999 | J1546: 247.75 | K1546: 3.4528 | L1546: 0.6964 | M1546: 0.4324 | N1546: 4.0725 | O1546: 38027 | Q1546: 9.055 | R1546: 239.77 | S1546: 38.7 | T1546: 1.5488 | U1546: 82.7 | V1546: 8.194 | Z1546: 1.8098 | AA1546: 1.7326 | AC1546: 1.5997 | AE1546: 10.2435 | AI1546: 1369.08 | AL1546: 1.887 | AN1546: 2.1546 | AP1546: 7.9278
A1547: 38365 | B1547: 1.3232 | C1547: 135.71 | D1547: 1.9559 | E1547: 0.5816 | F1547: 30.389 | G1547: 7.4404 | H1547: 15.6466 | I1547: 0.703 | J1547: 246.91 | K1547: 3.4528 | L1547: 0.6965 | M1547: 0.433 | N1547: 4.0717 | O1547: 38132 | Q1547: 9.0481 | R1547: 239.77 | S1547: 38.595 | T1547: 1.5479 | U1547: 82.5 | V1547: 8.186 | Z1547: 1.7968 | AA1547: 1.7283 | AC1547: 1.5917 | AE1547: 10.3132 | AI1547: 1371.7 | AL1547: 1.8759 | AN1547: 2.1557 | AP1547: 7.923
A1548: 38366 | B1548: 1.3091 | C1548: 134.32 | D1548: 1.9559 | E1548: 0.5818 | F1548: 30.365 | G1548: 7.4398 | H1548: 15.6466 | I1548: 0.7006 | J1548: 246.98 | K1548: 3.4528 | L1548: 0.6964 | M1548: 0.4324 | N1548: 4.0626 | O1548: 37792 | Q1548: 9.0483 | R1548: 239.77 | S1548: 38.58 | T1548: 1.5491 | U1548: 82.17 | V1548: 8.175 | Z1548: 1.7708 | AA1548: 1.7242 | AC1548: 1.5859 | AE1548: 10.2051 | AI1548: 1366.05 | AL1548: 1.873 | AN1548: 2.1444 | AP1548: 7.9051
A1549: 38369 | B1549: 1.3085 | C1549: 133.52 | D1549: 1.9559 | E1549: 0.582 | F1549: 30.375 | G1549: 7.4408 | H1549: 15.6466 | I1549: 0.7031 | J1549: 246.08 | K1549: 3.4528 | L1549: 0.696 | M1549: 0.4327 | N1549: 4.0675 | O1549: 37433 | Q1549: 9.0432 | R1549: 239.77 | S1549: 38.608 | T1549: 1.545 | U1549: 81.8 | V1549: 8.195 | Z1549: 1.7497 | AA1549: 1.7243 | AC1549: 1.5883 | AE1549: 10.2027 | AI1549: 1355.34 | AL1549: 1.8727 | AN1549: 2.138 | AP1549: 7.8939
A1550: 38370 | B1550: 1.306 | C1550: 134.08 | D1550: 1.9559 | E1550: 0.582 | F1550: 30.378 | G1550: 7.4403 | H1550: 15.6466 | I1550: 0.6978 | J1550: 246.44 | K1550: 3.4528 | L1550: 0.696 | M1550: 0.432 | N1550: 4.0774 | O1550: 37450 | Q1550: 9.035 | R1550: 239.75 | S1550: 38.64 | T1550: 1.5433 | U1550: 81.42 | V1550: 8.161 | Z1550: 1.7464 | AA1550: 1.7285 | AC1550: 1.5969 | AE1550: 10.1853 | AI1550: 1352.89 | AL1550: 1.8764 | AN1550: 2.1367 | AP1550: 7.9029
... A1600: 38442 | B1600: 1.2964 | C1600: 138.44 | D1600: 1.9559 | E1600: 0.5846 | F1600: 29.955 | G1600: 7.4495 | H1600: 15.6466 | I1600: 0.6885 | J1600: 247.2 | K1600: 3.4528 | L1600: 0.696 | M1600: 0.4306 | N1600: 4.0807 | O1600: 36767 | Q1600: 9.143 | R1600: 239.73 | S1600: 38.672 | T1600: 1.5486 | U1600: 78.64 | V1600: 8.206 | Z1600: 1.7572 | AA1600: 1.6763 | AC1600: 1.5737 | AE1600: 10.111 | AI1600: 1316.49 | AL1600: 1.8237 | AN1600: 2.1377 | AP1600: 8.0898
A1601: 38443 | B1601: 1.2959 | C1601: 139.07 | D1601: 1.9558 | E1601: 0.584 | F1601: 30.031 | G1601: 7.4502 | H1601: 15.6466 | I1601: 0.68665 | J1601: 247.25 | K1601: 3.4528 | L1601: 0.696 | M1601: 0.4304 | N1601: 4.0876 | O1601: 36627 | Q1601: 9.1687 | R1601: 239.7 | S1601: 38.75 | T1601: 1.5527 | U1601: 78.59 | V1601: 8.195 | W1601: 7.422 | X1601: 36.115 | Z1601: 1.7521 | AA1601: 1.6803 | AC1601: 1.5736 | AD1601: 10.7255 | AE1601: 10.1063 | AF1601: 12272.17 | AI1601: 1306.01 | AK1601: 4.9243 | AL1601: 1.8239 | AM1601: 70.944 | AN1601: 2.1449 | AO1601: 50.745 | AP1601: 8.0119
A1602: 38446 | B1602: 1.2883 | C1602: 139.18 | D1602: 1.9441 | E1602: 0.5846 | F1602: 30.02 | G1602: 7.4502 | H1602: 15.6466 | I1602: 0.687 | J1602: 247.36 | K1602: 3.4528 | L1602: 0.6961 | M1602: 0.4302 | N1602: 4.1113 | O1602: 36498 | Q1602: 9.1818 | R1602: 239.68 | S1602: 38.885 | T1602: 1.5535 | U1602: 78.43 | V1602: 8.198 | W1602: 7.425 | X1602: 35.938 | Z1602: 1.7564 | AA1602: 1.6777 | AC1602: 1.5691 | AD1602: 10.6626 | AE1602: 10.048 | AF1602: 12219.53 | AI1602: 1305.6 | AK1602: 4.8954 | AL1602: 1.8214 | AM1602: 70.631 | AN1602: 2.1456 | AO1602: 50.939 | AP1602: 7.9968
A1603: 38447 | B1603: 1.281 | C1603: 139.16 | D1603: 1.9558 | E1603: 0.5846 | F1603: 29.995 | G1603: 7.45 | H1603: 15.6466 | I1603: 0.6841 | J1603: 247.44 | K1603: 3.4528 | L1603: 0.6961 | M1603: 0.4299 | N1603: 4.1297 | O1603: 36449 | Q1603: 9.1765 | R1603: 239.7 | S1603: 38.935 | T1603: 1.5541 | U1603: 78.32 | V1603: 8.164 | W1603: 7.419 | X1603: 35.79 | Z1603: 1.7515 | AA1603: 1.6758 | AC1603: 1.5683 | AD1603: 10.6022 | AE1603: 9.9914 | AF1603: 12163.1 | AI1603: 1303.42 | AK1603: 4.8677 | AL1603: 1.8188 | AM1603: 70.231 | AN1603: 2.1329 | AO1603: 50.79 | AP1603: 7.9995
A1604: 38448 | B1604: 1.286 | C1604: 139.75 | D1604: 1.9558 | E1604: 0.5842 | F1604: 29.956 | G1604: 7.45 | H1604: 15.6466 | I1604: 0.68505 | J1604: 247.23 | K1604: 3.4528 | L1604: 0.6961 | M1604: 0.4298 | N1604: 4.1273 | O1604: 36492 | Q1604: 9.1612 | R1604: 239.68 | S1604: 38.915 | T1604: 1.5508 | U1604: 78.76 | V1604: 8.167 | W1604: 7.415 | X1604: 35.845 | Z1604: 1.7462 | AA1604: 1.6804 | AC1604: 1.5708 | AD1604: 10.6436 | AE1604: 10.0302 | AF1604: 12191.28 | AI1604: 1303.23 | AK1604: 4.8867 | AL1604: 1.8092 | AM1604: 70.376 | AN1604: 2.1378 | AO1604: 50.872 | AP1604: 7.8774
A1605: 38449 | B1605: 1.2923 | C1605: 139.84 | D1605: 1.9559 | E1605: 0.5833 | F1605: 29.958 | G1605: 7.4493 | H1605: 15.6466 | I1605: 0.6874 | J1605: 246.4 | K1605: 3.4528 | L1605: 0.6962 | M1605: 0.4304 | N1605: 4.1081 | O1605: 36447 | Q1605: 9.1478 | R1605: 239.7 | S1605: 38.9 | T1605: 1.5497 | U1605: 78.94 | V1605: 8.162 | W1605: 7.411 | X1605: 35.963 | Z1605: 1.7354 | AA1605: 1.6798 | AC1605: 1.5746 | AD1605: 10.6957 | AE1605: 10.079 | AF1605: 12263.93 | AI1605: 1308.45 | AK1605: 4.9106 | AL1605: 1.8057 | AM1605: 70.398 | AN1605: 2.1383 | AO1605: 51.196 | AP1605: 7.9137
A1606: 38450 | B1606: 1.2819 | C1606: 139.46 | D1606: 1.9558 | E1606: 0.583 | F1606: 29.945 | G1606: 7.4489 | H1606: 15.6466 | I1606: 0.6859 | J1606: 245.96 | K1606: 3.4528 | L1606: 0.6963 | M1606: 0.43 | N1606: 4.111 | O1606: 36447 | Q1606: 9.1597 | R1606: 239.72 | S1606: 38.825 | T1606: 1.5505 | U1606: 78.72 | V1606: 8.1635 | W1606: 7.402 | X1606: 35.725 | Z1606: 1.7335 | AA1606: 1.6717 | AC1606: 1.5749 | AD1606: 10.6096 | AE1606: 9.9979 | AF1606: 12178.05 | AI1606: 1301.38 | AK1606: 4.8711 | AL1606: 1.7976 | AM1606: 69.985 | AN1606: 2.1288 | AO1606: 50.896 | AP1606: 7.9483
A1607: 38453 | B1607: 1.2971 | C1607: 139.76 | D1607: 1.9559 | E1607: 0.5829 | F1607: 29.897 | G1607: 7.4491 | H1607: 15.6466 | I1607: 0.6864 | J1607: 245.87 | K1607: 3.4528 | L1607: 0.6961 | M1607: 0.4304 | N1607: 4.0879 | O1607: 36359 | Q1607: 9.1703 | R1607: 239.72 | S1607: 38.72 | T1607: 1.5489 | U1607: 79.51 | V1607: 8.173 | W1607: 7.395 | X1607: 36.03 | Z1607: 1.7507 | AA1607: 1.6745 | AC1607: 1.5927 | AD1607: 10.7354 | AE1607: 10.1166 | AF1607: 12309.48 | AI1607: 1316.56 | AK1607: 4.9289 | AL1607: 1.8002 | AM1607: 70.4 | AN1607: 2.1394 | AO1607: 51.365 | AP1607: 7.8754
A1608: 38454 | B1608: 1.2985 | C1608: 139.97 | D1608: 1.9559 | E1608: 0.5829 | F1608: 29.893 | G1608: 7.4502 | H1608: 15.6466 | I1608: 0.6854 | J1608: 245.93 | K1608: 3.4528 | L1608: 0.696 | M1608: 0.4303 | N1608: 4.0793 | O1608: 36176 | Q1608: 9.1578 | R1608: 239.71 | S1608: 38.66 | T1608: 1.5494 | U1608: 80.47 | V1608: 8.176 | W1608: 7.395 | X1608: 36.063 | Z1608: 1.7467 | AA1608: 1.6738 | AC1608: 1.6022 | AD1608: 10.747 | AE1608: 10.1272 | AF1608: 12318.87 | AI1608: 1315.9 | AK1608: 4.9342 | AL1608: 1.7983 | AM1608: 70.346 | AN1608: 2.1388 | AO1608: 51.511 | AP1608: 7.9634
A1609: 38455 | B1609: 1.2922 | C1609: 138.71 | D1609: 1.9559 | E1609: 0.5829 | F1609: 29.912 | G1609: 7.45 | H1609: 15.6466 | I1609: 0.68335 | J1609: 246.15 | K1609: 3.4528 | L1609: 0.696 | M1609: 0.4299 | N1609: 4.0873 | O1609: 36085 | Q1609: 9.1515 | R1609: 239.69 | S1609: 38.686 | T1609: 1.5499 | U1609: 81.6 | V1609: 8.191 | W1609: 7.391 | X1609: 35.915 | Z1609: 1.7373 | AA1609: 1.6598 | AC1609: 1.5979 | AD1609: 10.6949 | AE1609: 10.0783 | AF1609: 12253.29 | AI1609: 1306.93 | AK1609: 4.9103 | AL1609: 1.7852 | AM1609: 69.876 | AN1609: 2.1233 | AO1609: 51.042 | AP1609: 7.9176
A1610: 38456 | B1610: 1.282 | C1610: 138.64 | D1610: 1.9559 | E1610: 0.5829 | F1610: 29.963 | G1610: 7.4517 | H1610: 15.6466 | I1610: 0.68135 | J1610: 246.87 | K1610: 3.4528 | L1610: 0.6959 | M1610: 0.4294 | N1610: 4.1218 | O1610: 36252 | Q1610: 9.168 | R1610: 239.7 | S1610: 38.89 | T1610: 1.5547 | U1610: 81.17 | V1610: 8.2465 | W1610: 7.375 | X1610: 35.695 | Z1610: 1.7472 | AA1610: 1.6598 | AC1610: 1.5956 | AD1610: 10.6105 | AE1610: 9.9982 | AF1610: 12204.64 | AI1610: 1303.28 | AK1610: 4.8715 | AL1610: 1.7719 | AM1610: 69.773 | AN1610: 2.1215 | AO1610: 50.943 | AP1610: 7.9455
A1611: 38457 | B1611: 1.2868 | C1611: 139.08 | D1611: 1.9559 | E1611: 0.5828 | F1611: 30.096 | G1611: 7.4531 | H1611: 15.6466 | I1611: 0.682 | J1611: 247.75 | K1611: 3.4528 | L1611: 0.6959 | M1611: 0.4296 | N1611: 4.1425 | O1611: 36248 | Q1611: 9.1785 | R1611: 239.67 | S1611: 39.246 | T1611: 1.5532 | U1611: 80.97 | V1611: 8.232 | W1611: 7.38 | X1611: 35.865 | Z1611: 1.7776 | AA1611: 1.6717 | AC1611: 1.6 | AD1611: 10.6502 | AE1611: 10.0354 | AF1611: 12272.21 | AI1611: 1315.75 | AK1611: 4.8897 | AL1611: 1.7994 | AM1611: 70.291 | AN1611: 2.134 | AO1611: 51.075 | AP1611: 8.1191
A1612: 38460 | B1612: 1.2967 | C1612: 139.6 | D1612: 1.9559 | E1612: 0.5825 | F1612: 30.19 | G1612: 7.4536 | H1612: 15.6466 | I1612: 0.6832 | J1612: 248.47 | K1612: 3.4528 | L1612: 0.6959 | M1612: 0.43 | N1612: 4.1916 | O1612: 36138 | Q1612: 9.177 | R1612: 239.61 | S1612: 39.595 | T1612: 1.5476 | U1612: 81.78 | V1612: 8.22 | W1612: 7.382 | X1612: 36.06 | Z1612: 1.7934 | AA1612: 1.69 | AC1612: 1.6193 | AD1612: 10.7321 | AE1612: 10.1129 | AF1612: 12422.39 | AI1612: 1322.24 | AK1612: 4.9274 | AL1612: 1.8119 | AM1612: 70.897 | AN1612: 2.147 | AO1612: 51.317 | AP1612: 8.1469
... A1665: 38533 | B1665: 1.2092 | C1665: 133.95 | D1665: 1.9559 | E1665: 0.5735 | F1665: 30.03 | G1665: 7.4515 | H1665: 15.6466 | I1665: 0.6742 | J1665: 247.24 | K1665: 3.4528 | L1665: 0.6961 | M1665: 0.4293 | N1665: 4.0388 | O1665: 36030 | Q1665: 9.4259 | R1665: 239.47 | S1665: 38.414 | T1665: 1.5499 | U1665: 78.71 | V1665: 7.9155 | W1665: 7.313 | X1665: 34.637 | Z1665: 1.6194 | AA1665: 1.5885 | AC1665: 1.49 | AD1665: 10.0079 | AE1665: 9.399 | AF1665: 11804.82 | AI1665: 1239.85 | AK1665: 4.596 | AL1665: 1.7387 | AM1665: 67.685 | AN1665: 2.0377 | AO1665: 49.938 | AP1665: 8.0254
A1666: 38534 | B1666: 1.2087 | C1666: 134.24 | D1666: 1.9558 | E1666: 0.5735 | F1666: 29.99 | G1666: 7.4541 | H1666: 15.6466 | I1666: 0.679 | J1666: 246.64 | K1666: 3.4528 | L1666: 0.6962 | M1666: 0.4293 | N1666: 4.0233 | P1666: 3.603 | Q1666: 9.4866 | R1666: 239.45 | S1666: 38.315 | T1666: 1.5519 | U1666: 78.76 | V1666: 7.881 | W1666: 7.3045 | X1666: 34.63 | Z1666: 1.6163 | AA1666: 1.596 | AC1666: 1.4867 | AD1666: 10.0038 | AE1666: 9.3929 | AF1666: 11815.04 | AI1666: 1246.65 | AK1666: 4.5941 | AL1666: 1.7526 | AM1666: 67.482 | AN1666: 2.0415 | AO1666: 49.923 | AP1666: 8.0775
A1667: 38537 | B1667: 1.1894 | C1667: 132.67 | D1667: 1.956 | E1667: 0.5735 | F1667: 30.013 | G1667: 7.4524 | H1667: 15.6466 | I1667: 0.67645 | J1667: 247.15 | K1667: 3.4528 | L1667: 0.6961 | M1667: 0.4293 | N1667: 4.0168 | P1667: 3.6009 | Q1667: 9.474 | R1667: 239.45 | S1667: 38.31 | T1667: 1.5484 | U1667: 78.18 | V1667: 7.8815 | W1667: 7.325 | X1667: 34.279 | Z1667: 1.6008 | AA1667: 1.5876 | AC1667: 1.4784 | AD1667: 9.8441 | AE1667: 9.2462 | AF1667: 11733.43 | AI1667: 1235.97 | AK1667: 4.5207 | AL1667: 1.7536 | AM1667: 66.815 | AN1667: 2.0149 | AO1667: 49.296 | AP1667: 8.1584
A1668: 38538 | B1668: 1.1883 | C1668: 133.03 | D1668: 1.9559 | E1668: 0.5734 | F1668: 30.074 | G1668: 7.4528 | H1668: 15.6466 | I1668: 0.67735 | J1668: 247.2 | K1668: 3.4528 | L1668: 0.696 | M1668: 0.4293 | N1668: 4.0407 | P1668: 3.5963 | Q1668: 9.4352 | R1668: 239.44 | S1668: 38.27 | T1668: 1.5521 | U1668: 78.47 | V1668: 7.914 | W1668: 7.3248 | X1668: 34.281 | Z1668: 1.605 | AA1668: 1.6039 | AC1668: 1.4747 | AD1668: 9.835 | AE1668: 9.2377 | AF1668: 11734.46 | AI1668: 1249.97 | AK1668: 4.5165 | AL1668: 1.7628 | AM1668: 66.872 | AN1668: 2.0196 | AO1668: 49.386 | AP1668: 8.2023
A1669: 38539 | B1669: 1.1913 | C1669: 133.23 | D1669: 1.9559 | E1669: 0.5733 | F1669: 30.043 | G1669: 7.4534 | H1669: 15.6466 | I1669: 0.6785 | J1669: 247.22 | K1669: 3.4528 | L1669: 0.6959 | M1669: 0.4293 | N1669: 4.0605 | P1669: 3.5995 | Q1669: 9.3693 | R1669: 239.45 | S1669: 38.395 | T1669: 1.5545 | U1669: 78.27 | V1669: 7.914 | W1669: 7.3295 | X1669: 34.351 | Z1669: 1.6089 | AA1669: 1.605 | AC1669: 1.4803 | AD1669: 9.8598 | AE1669: 9.2603 | AF1669: 11650.91 | AI1669: 1251.64 | AK1669: 4.5279 | AL1669: 1.7629 | AM1669: 66.915 | AN1669: 2.0204 | AO1669: 49.572 | AP1669: 8.1422
A1670: 38540 | B1670: 1.1957 | C1670: 133.53 | D1670: 1.9558 | E1670: 0.5734 | F1670: 30.278 | G1670: 7.4541 | H1670: 15.6466 | I1670: 0.6851 | J1670: 248.56 | K1670: 3.4528 | L1670: 0.696 | M1670: 0.4293 | N1670: 4.1104 | P1670: 3.5904 | Q1670: 9.4287 | R1670: 239.46 | S1670: 38.954 | T1670: 1.5472 | U1670: 78.57 | V1670: 7.916 | W1670: 7.325 | X1670: 34.438 | Z1670: 1.6241 | AA1670: 1.6094 | AC1670: 1.476 | AD1670: 9.8962 | AE1670: 9.294 | AF1670: 11717.86 | AI1670: 1254.17 | AK1670: 4.5437 | AL1670: 1.7669 | AM1670: 67.127 | AN1670: 2.0272 | AO1670: 49.843 | AP1670: 8.1747
A1671: 38541 | B1671: 1.1904 | C1671: 133.84 | D1671: 1.9558 | E1671: 0.5736 | F1671: 30.248 | G1671: 7.4546 | H1671: 15.6466 | I1671: 0.6863 | J1671: 247.82 | K1671: 3.4528 | L1671: 0.6959 | M1671: 0.4293 | N1671: 4.0726 | P1671: 3.5828 | Q1671: 9.4296 | R1671: 239.48 | S1671: 38.941 | T1671: 1.553 | U1671: 78.51 | V1671: 7.8755 | W1671: 7.317 | X1671: 34.315 | Z1671: 1.605 | AA1671: 1.6089 | AC1671: 1.4607 | AD1671: 9.8523 | AE1671: 9.2551 | AF1671: 11669.49 | AI1671: 1255.75 | AK1671: 4.5235 | AL1671: 1.7725 | AM1671: 66.752 | AN1671: 2.0289 | AO1671: 50.161 | AP1671: 8.2439
A1672: 38544 | B1672: 1.2006 | C1672: 134.4 | D1672: 1.9559 | E1672: 0.5736 | F1672: 30.166 | G1672: 7.4561 | H1672: 15.6466 | I1672: 0.688 | J1672: 247.04 | K1672: 3.4528 | L1672: 0.6961 | M1672: 0.4293 | N1672: 4.085 | P1672: 3.576 | Q1672: 9.4744 | R1672: 239.48 | S1672: 38.879 | T1672: 1.5554 | U1672: 78.76 | V1672: 7.912 | W1672: 7.3101 | X1672: 34.478 | Z1672: 1.6125 | AA1672: 1.6129 | AC1672: 1.4584 | AD1672: 9.9368 | AE1672: 9.3392 | AF1672: 11720.86 | AI1672: 1252.95 | AK1672: 4.5623 | AL1672: 1.776 | AM1672: 67.51 | AN1672: 2.0381 | AO1672: 50.483 | AP1672: 8.2184
A1673: 38545 | B1673: 1.2166 | C1673: 135.33 | D1673: 1.9559 | E1673: 0.5736 | F1673: 30.211 | G1673: 7.4572 | H1673: 15.6466 | I1673: 0.68815 | J1673: 246.27 | K1673: 3.4528 | L1673: 0.6958 | M1673: 0.4293 | N1673: 4.104 | P1673: 3.5715 | Q1673: 9.456 | R1673: 239.46 | S1673: 38.78 | T1673: 1.5563 | U1673: 78.89 | V1673: 7.8965 | W1673: 7.3128 | X1673: 34.785 | Z1673: 1.6299 | AA1673: 1.6143 | AC1673: 1.4742 | AD1673: 10.0692 | AE1673: 9.4612 | AF1673: 11900.78 | AI1673: 1264.66 | AK1673: 4.6231 | AL1673: 1.7797 | AM1673: 68.19 | AN1673: 2.0537 | AO1673: 50.815 | AP1673: 8.1026
A1674: 38546 | B1674: 1.2184 | C1674: 135.67 | D1674: 1.9556 | E1674: 0.5736 | F1674: 30.286 | G1674: 7.461 | H1674: 15.6466 | I1674: 0.6899 | J1674: 247.13 | K1674: 3.4528 | L1674: 0.6962 | M1674: 0.4293 | N1674: 4.1605 | P1674: 3.5669 | Q1674: 9.3855 | R1674: 239.47 | S1674: 39.161 | T1674: 1.5588 | U1674: 78.94 | V1674: 7.8895 | W1674: 7.3068 | X1674: 34.825 | Z1674: 1.6215 | AA1674: 1.6176 | AC1674: 1.4668 | AD1674: 10.0841 | AE1674: 9.476 | AF1674: 11922.04 | AI1674: 1264.09 | AK1674: 4.6299 | AL1674: 1.7963 | AM1674: 68.413 | AN1674: 2.0561 | AO1674: 50.925 | AP1674: 7.9711
A1675: 38547 | B1675: 1.2067 | C1675: 135.24 | D1675: 1.9556 | E1675: 0.5738 | F1675: 30.245 | G1675: 7.4586 | H1675: 15.6466 | I1675: 0.68645 | J1675: 246.68 | K1675: 3.4528 | L1675: 0.696 | M1675: 0.4293 | N1675: 4.1445 | P1675: 3.5637 | Q1675: 9.3809 | R1675: 239.46 | S1675: 39.096 | T1675: 1.5581 | U1675: 78.7 | V1675: 7.922 | W1675: 7.3098 | X1675: 34.61 | Z1675: 1.6114 | AA1675: 1.6062 | AC1675: 1.4538 | AD1675: 9.9873 | AE1675: 9.3856 | AF1675: 11834.71 | AI1675: 1244.71 | AK1675: 4.587 | AL1675: 1.7875 | AM1675: 67.467 | AN1675: 2.0395 | AO1675: 50.498 | AP1675: 8.0575
A1676: 38548 | B1676: 1.2073 | C1676: 135.35 | D1676: 1.9559 | E1676: 0.5738 | F1676: 30.241 | G1676: 7.4596 | H1676: 15.6466 | I1676: 0.6862 | J1676: 246.66 | K1676: 3.4528 | L1676: 0.696 | M1676: 0.4293 | N1676: 4.1355 | P1676: 3.5659 | Q1676: 9.4148 | R1676: 239.46 | S1676: 39.14 | T1676: 1.5594 | U1676: 78.54 | V1676: 7.9695 | W1676: 7.31 | X1676: 34.605 | Z1676: 1.6078 | AA1676: 1.6087 | AC1676: 1.4651 | AD1676: 9.9922 | AE1676: 9.3848 | AF1676: 11795.32 | AI1676: 1258.61 | AK1676: 4.5855 | AL1676: 1.7907 | AM1676: 67.428 | AN1676: 2.035 | AO1676: 50.428 | AP1676: 7.9892
A1677: 38551 | B1677: 1.2054 | C1677: 135.29 | D1677: 1.956 | E1677: 0.5738 | F1677: 30.158 | G1677: 7.4604 | H1677: 15.6466 | I1677: 0.68995 | J1677: 246.48 | K1677: 3.4528 | L1677: 0.6961 | M1677: 0.4293 | N1677: 4.1141 | P1677: 3.5605 | Q1677: 9.373 | R1677: 239.48 | S1677: 38.989 | T1677: 1.5601 | U1677: 78.65 | V1677: 7.9515 | W1677: 7.303 | X1677: 34.577 | Z1677: 1.6089 | AA1677: 1.6108 | AC1677: 1.469 | AD1677: 9.9765 | AE1677: 9.3736 | AF1677: 11818.95 | AI1677: 1247.29 | AK1677: 4.5805 | AL1677: 1.7904 | AM1677: 66.99 | AN1677: 2.0354 | AO1677: 50.398 | AP1677: 8.0343
... A2050: 39080 | B2050: 1.317 | C2050: 156.93 | D2050: 1.9558 | E2050: 0.5782 | F2050: 27.485 | G2050: 7.456 | H2050: 15.6466 | I2050: 0.6715 | J2050: 251.77 | K2050: 3.4528 | L2050: 0.6972 | M2050: 0.4293 | N2050: 3.831 | P2050: 3.3835 | Q2050: 9.0404 | R2050: 239.64 | S2050: 34.435 | T2050: 1.6069 | U2050: 93.13 | V2050: 8.238 | W2050: 7.3504 | X2050: 34.68 | Z2050: 1.864 | AA2050: 1.6691 | AC2050: 1.5281 | AD2050: 10.2793 | AE2050: 10.2409 | AF2050: 11844.44 | AI2050: 1224.81 | AK2050: 4.649 | AL2050: 1.8725 | AM2050: 64.546 | AN2050: 2.0202 | AO2050: 46.77 | AP2050: 9.2124
A2051: 39084 | B2051: 1.327 | C2051: 157.76 | D2051: 1.9558 | E2051: 0.5782 | F2051: 27.525 | G2051: 7.4566 | H2051: 15.6466 | I2051: 0.6735 | J2051: 251.44 | K2051: 3.4528 | L2051: 0.6984 | M2051: 0.4293 | N2051: 3.8287 | P2051: 3.3829 | Q2051: 9.0245 | S2051: 34.383 | T2051: 1.6104 | U2051: 93.86 | V2051: 8.208 | W2051: 7.3625 | X2051: 34.876 | Z2051: 1.8758 | AA2051: 1.6694 | AC2051: 1.5452 | AD2051: 10.3574 | AE2051: 10.3273 | AF2051: 11926.41 | AI2051: 1228.34 | AK2051: 4.6843 | AL2051: 1.876 | AM2051: 64.89 | AN2051: 2.0308 | AO2051: 47.462 | AP2051: 9.2299
A2052: 39085 | B2052: 1.3231 | C2052: 157.76 | D2052: 1.9558 | E2052: 0.5782 | F2052: 27.455 | G2052: 7.4552 | H2052: 15.6466 | I2052: 0.6747 | J2052: 251.21 | K2052: 3.4528 | L2052: 0.6982 | M2052: 0.4293 | N2052: 3.827 | P2052: 3.3583 | Q2052: 9.019 | S2052: 34.321 | T2052: 1.6132 | U2052: 92.31 | V2052: 8.2385 | W2052: 7.37 | X2052: 34.807 | Z2052: 1.862 | AA2052: 1.6645 | AC2052: 1.5457 | AD2052: 10.3269 | AE2052: 10.3022 | AF2052: 11868.21 | AI2052: 1225.26 | AK2052: 4.6474 | AL2052: 1.8773 | AM2052: 64.7 | AN2052: 2.027 | AO2052: 47.043 | AP2052: 9.17
A2053: 39086 | B2053: 1.3106 | C2053: 156.11 | D2053: 1.9558 | E2053: 0.5783 | F2053: 27.605 | G2053: 7.4531 | H2053: 15.6466 | I2053: 0.6739 | J2053: 252.74 | K2053: 3.4528 | L2053: 0.6977 | M2053: 0.4293 | N2053: 3.8521 | P2053: 3.3733 | Q2053: 9.0696 | S2053: 34.4 | T2053: 1.6132 | U2053: 91.89 | V2053: 8.273 | W2053: 7.3595 | X2053: 34.558 | Z2053: 1.858 | AA2053: 1.6681 | AC2053: 1.539 | AD2053: 10.2345 | AE2053: 10.2081 | AF2053: 11808.51 | AI2053: 1220.63 | AK2053: 4.6153 | AL2053: 1.8753 | AM2053: 63.99 | AN2053: 2.0137 | AO2053: 46.625 | AP2053: 9.2244
A2054: 39087 | B2054: 1.3084 | C2054: 154.55 | D2054: 1.9558 | E2054: 0.5783 | F2054: 27.635 | G2054: 7.4532 | H2054: 15.6466 | I2054: 0.6747 | J2054: 253.63 | K2054: 3.4528 | L2054: 0.6979 | M2054: 0.4293 | N2054: 3.8731 | P2054: 3.3877 | Q2054: 9.0726 | S2054: 34.425 | T2054: 1.6097 | U2054: 92.14 | V2054: 8.283 | W2054: 7.371 | X2054: 34.523 | Z2054: 1.8762 | AA2054: 1.6697 | AC2054: 1.5374 | AD2054: 10.2117 | AE2054: 10.1914 | AF2054: 11791.96 | AI2054: 1222.57 | AK2054: 4.5958 | AL2054: 1.8885 | AM2054: 63.915 | AN2054: 2.0084 | AO2054: 46.841 | AP2054: 9.3518
A2055: 39090 | B2055: 1.3006 | C2055: 154.42 | D2055: 1.9558 | E2055: 0.5784 | F2055: 27.649 | G2055: 7.4527 | H2055: 15.6466 | I2055: 0.6731 | J2055: 253.26 | K2055: 3.4528 | L2055: 0.698 | M2055: 0.4293 | N2055: 3.8663 | P2055: 3.3872 | Q2055: 9.061 | S2055: 34.431 | T2055: 1.6097 | U2055: 92.1 | V2055: 8.264 | W2055: 7.3686 | X2055: 34.8 | Z2055: 1.878 | AA2055: 1.6675 | AC2055: 1.5282 | AD2055: 10.1668 | AE2055: 10.1364 | AF2055: 11757.42 | AI2055: 1220.09 | AK2055: 4.571 | AL2055: 1.8972 | AM2055: 63.443 | AN2055: 1.9999 | AO2055: 46.371 | AP2055: 9.42
A2056: 39091 | B2056: 1.3018 | C2056: 155.26 | D2056: 1.9558 | E2056: 0.5784 | F2056: 27.6 | G2056: 7.4538 | H2056: 15.6466 | I2056: 0.67025 | J2056: 253 | K2056: 3.4528 | L2056: 0.6979 | M2056: 0.4293 | N2056: 3.8599 | P2056: 3.3836 | Q2056: 9.096 | S2056: 34.335 | T2056: 1.6127 | U2056: 92.53 | V2056: 8.2555 | W2056: 7.3675 | X2056: 34.449 | Z2056: 1.868 | AA2056: 1.6675 | AC2056: 1.5327 | AD2056: 10.1605 | AE2056: 10.1496 | AF2056: 11761.76 | AI2056: 1221.87 | AK2056: 4.5667 | AL2056: 1.8796 | AM2056: 63.294 | AN2056: 2.0003 | AO2056: 46.754 | AP2056: 9.385
A2057: 39092 | B2057: 1.2988 | C2057: 154.99 | D2057: 1.9558 | E2057: 0.5784 | F2057: 27.735 | G2057: 7.4539 | H2057: 15.6466 | I2057: 0.6702 | J2057: 256.72 | K2057: 3.4528 | L2057: 0.698 | M2057: 0.4293 | N2057: 3.9038 | P2057: 3.4107 | Q2057: 9.1198 | S2057: 34.599 | T2057: 1.6138 | U2057: 94.6 | V2057: 8.2985 | W2057: 7.3714 | X2057: 34.413 | Z2057: 1.8918 | AA2057: 1.6664 | AC2057: 1.5301 | AD2057: 10.1399 | AE2057: 10.1277 | AF2057: 11793.1 | AI2057: 1218.08 | AK2057: 4.5659 | AL2057: 1.8851 | AM2057: 63.446 | AN2057: 1.9967 | AO2057: 46.837 | AP2057: 9.5764
A2058: 39093 | B2058: 1.2984 | C2058: 156.16 | D2058: 1.9558 | E2058: 0.5784 | F2058: 27.774 | G2058: 7.4541 | H2058: 15.6466 | I2058: 0.6654 | J2058: 255.44 | K2058: 3.4528 | L2058: 0.6979 | M2058: 0.4293 | N2058: 3.8787 | P2058: 3.4119 | Q2058: 9.1431 | S2058: 34.548 | T2058: 1.6129 | U2058: 93.3 | V2058: 8.3525 | W2058: 7.3703 | X2058: 34.428 | Z2058: 1.873 | AA2058: 1.6573 | AC2058: 1.5296 | AD2058: 10.1209 | AE2058: 10.1248 | AF2058: 11842.06 | AI2058: 1219.13 | AK2058: 4.5684 | AL2058: 1.8773 | AM2058: 63.589 | AN2058: 2.0018 | AO2058: 46.639 | AP2058: 9.4487
A2059: 39094 | B2059: 1.2893 | C2059: 155.24 | D2059: 1.9558 | E2059: 0.5784 | F2059: 27.755 | G2059: 7.4529 | H2059: 15.6466 | I2059: 0.66165 | J2059: 253.05 | K2059: 3.4528 | L2059: 0.6977 | M2059: 0.4293 | N2059: 3.8732 | P2059: 3.4069 | Q2059: 9.1115 | S2059: 34.698 | T2059: 1.6125 | U2059: 91.8 | V2059: 8.3435 | W2059: 7.3686 | X2059: 34.297 | Z2059: 1.8485 | AA2059: 1.6544 | AC2059: 1.5136 | AD2059: 10.0545 | AE2059: 10.055 | AF2059: 11771.31 | AI2059: 1212.01 | AK2059: 4.5312 | AL2059: 1.8692 | AM2059: 63.176 | AN2059: 1.9918 | AO2059: 46.337 | AP2059: 9.3538
A2060: 39097 | B2060: 1.2941 | C2060: 156 | D2060: 1.9558 | E2060: 0.5784 | F2060: 27.765 | G2060: 7.452 | H2060: 15.6466 | I2060: 0.65845 | J2060: 252.1 | K2060: 3.4528 | L2060: 0.6976 | M2060: 0.4293 | N2060: 3.8693 | P2060: 3.3916 | Q2060: 9.0829 | S2060: 34.815 | T2060: 1.6127 | U2060: 90.99 | V2060: 8.329 | W2060: 7.3642 | X2060: 34.375 | Z2060: 1.8467 | AA2060: 1.6503 | AC2060: 1.5108 | AD2060: 10.0834 | AE2060: 10.0926 | AF2060: 11795.72 | AI2060: 1214.51 | AK2060: 4.5378 | AL2060: 1.863 | AM2060: 63.204 | AN2060: 1.9952 | AO2060: 46.503 | AP2060: 9.3305
A2061: 39098 | B2061: 1.2953 | C2061: 156.27 | D2061: 1.9558 | E2061: 0.5784 | F2061: 27.763 | G2061: 7.4524 | H2061: 15.6466 | I2061: 0.6592 | J2061: 252.84 | K2061: 3.4528 | L2061: 0.6975 | M2061: 0.4293 | N2061: 3.8828 | P2061: 3.3844 | Q2061: 9.0621 | S2061: 34.767 | T2061: 1.6138 | U2061: 91.42 | V2061: 8.314 | W2061: 7.36 | X2061: 34.388 | Z2061: 1.8575 | AA2061: 1.6511 | AC2061: 1.5127 | AD2061: 10.0904 | AE2061: 10.1032 | AF2061: 11751.61 | AI2061: 1211.82 | AK2061: 4.5361 | AL2061: 1.8585 | AM2061: 63.081 | AN2061: 1.9936 | AO2061: 46.486 | AP2061: 9.367
A2062: 39099 | B2062: 1.2909 | C2062: 155.75 | D2062: 1.9558 | E2062: 0.5784 | F2062: 27.868 | G2062: 7.4524 | H2062: 15.6466 | I2062: 0.65685 | J2062: 253.95 | K2062: 3.4528 | L2062: 0.6975 | M2062: 0.4293 | N2062: 3.8931 | P2062: 3.3984 | Q2062: 9.0776 | S2062: 35.065 | T2062: 1.6143 | U2062: 90.56 | V2062: 8.348 | W2062: 7.3625 | X2062: 34.31 | Z2062: 1.8459 | AA2062: 1.6429 | AC2062: 1.5166 | AD2062: 10.0355 | AE2062: 10.0737 | AF2062: 11757.52 | AI2062: 1209.51 | AK2062: 4.5201 | AL2062: 1.8689 | AM2062: 63.06 | AN2062: 1.9857 | AO2062: 46.255 | AP2062: 9.351
... A2305: 39447 | B2305: 1.4721 | C2305: 164.93 | D2305: 1.9558 | E2305: 0.585274 | F2305: 26.628 | G2305: 7.4583 | H2305: 15.6466 | I2305: 0.73335 | J2305: 253.73 | K2305: 3.4528 | L2305: 0.6964 | M2305: 0.4293 | N2305: 3.5935 | P2305: 3.6077 | Q2305: 9.4415 | S2305: 33.583 | T2305: 1.6547 | U2305: 91.9 | V2305: 7.958 | W2305: 7.3308 | X2305: 35.986 | Z2305: 1.717 | AA2305: 1.6757 | AC2305: 1.4449 | AD2305: 10.7524 | AE2305: 11.48 | AF2305: 13826.7 | AI2305: 1377.96 | AK2305: 4.8682 | AL2305: 1.9024 | AM2305: 60.724 | AN2305: 2.1163 | AO2305: 43.8 | AP2305: 10.0298
A2306: 39449 | B2306: 1.4688 | C2306: 163.83 | D2306: 1.9558 | F2306: 26.364 | G2306: 7.4552 | H2306: 15.6466 | I2306: 0.7413 | J2306: 253.22 | K2306: 3.4528 | L2306: 0.6988 | N2306: 3.6013 | P2306: 3.583 | Q2306: 9.4257 | S2306: 33.586 | T2306: 1.6529 | U2306: 91.99 | V2306: 7.9855 | W2306: 7.3363 | X2306: 35.947 | Z2306: 1.7134 | AA2306: 1.6673 | AB2306: 2.601 | AC2306: 1.4515 | AD2306: 10.7125 | AE2306: 11.4731 | AF2306: 13777.34 | AI2306: 1376.19 | AJ2306: 16.0143 | AK2306: 4.8625 | AL2306: 1.8949 | AM2306: 60.47 | AN2306: 2.1135 | AO2306: 44.013 | AP2306: 10.0143
A2307: 39450 | B2307: 1.4753 | C2307: 160.68 | D2307: 1.9558 | F2307: 26.175 | G2307: 7.4532 | H2307: 15.6466 | I2307: 0.7448 | J2307: 253.67 | K2307: 3.4528 | L2307: 0.6987 | N2307: 3.6075 | P2307: 3.606 | Q2307: 9.4078 | S2307: 33.446 | T2307: 1.6422 | U2307: 91.66 | V2307: 7.925 | W2307: 7.3406 | X2307: 36.017 | Z2307: 1.7292 | AA2307: 1.674 | AB2307: 2.5979 | AC2307: 1.4666 | AD2307: 10.7291 | AE2307: 11.5122 | AF2307: 13893.64 | AI2307: 1382.06 | AJ2307: 16.1123 | AK2307: 4.8523 | AL2307: 1.9066 | AM2307: 60.6 | AN2307: 2.1144 | AO2307: 44.062 | AP2307: 10.085
A2308: 39451 | B2308: 1.4727 | C2308: 160.86 | D2308: 1.9558 | F2308: 26.129 | G2308: 7.4509 | H2308: 15.6466 | I2308: 0.74495 | J2308: 253.64 | K2308: 3.4528 | L2308: 0.6985 | N2308: 3.6016 | P2308: 3.5775 | Q2308: 9.3755 | S2308: 33.339 | T2308: 1.6406 | U2308: 90.45 | V2308: 7.865 | W2308: 7.3444 | X2308: 35.978 | Z2308: 1.7107 | AA2308: 1.671 | AB2308: 2.5709 | AC2308: 1.4553 | AD2308: 10.7109 | AE2308: 11.4874 | AF2308: 13894.92 | AI2308: 1382.42 | AJ2308: 16.0171 | AK2308: 4.8349 | AL2308: 1.9043 | AM2308: 60.337 | AN2308: 2.1102 | AO2308: 43.874 | AP2308: 10.0643
A2309: 39454 | B2309: 1.4723 | C2309: 160.65 | D2309: 1.9558 | F2309: 26.145 | G2309: 7.4498 | H2309: 15.6466 | I2309: 0.74625 | J2309: 255.32 | K2309: 3.4528 | L2309: 0.6984 | N2309: 3.605 | P2309: 3.5955 | Q2309: 9.3625 | S2309: 33.418 | T2309: 1.6396 | U2309: 91.01 | V2309: 7.8685 | W2309: 7.35 | X2309: 35.995 | Z2309: 1.7228 | AA2309: 1.6856 | AB2309: 2.6027 | AC2309: 1.4714 | AD2309: 10.7021 | AE2309: 11.4862 | AF2309: 13899.25 | AI2309: 1384.55 | AJ2309: 16.0863 | AK2309: 4.8314 | AL2309: 1.9228 | AM2309: 60.217 | AN2309: 2.1116 | AO2309: 43.801 | AP2309: 10.1662
A2310: 39455 | B2310: 1.4705 | C2310: 161.23 | D2310: 1.9558 | F2310: 26.125 | G2310: 7.4485 | H2310: 15.6466 | I2310: 0.7445 | J2310: 254.45 | K2310: 3.4528 | L2310: 0.6977 | N2310: 3.5944 | P2310: 3.5914 | Q2310: 9.3806 | S2310: 33.413 | T2310: 1.6428 | U2310: 91.38 | V2310: 7.8895 | W2310: 7.3476 | X2310: 35.98 | Z2310: 1.7055 | AA2310: 1.6712 | AB2310: 2.5796 | AC2310: 1.4724 | AD2310: 10.6822 | AE2310: 11.4727 | AF2310: 13896.96 | AI2310: 1381.24 | AJ2310: 15.9902 | AK2310: 4.81 | AL2310: 1.9084 | AM2310: 59.945 | AN2310: 2.1047 | AO2310: 43.772 | AP2310: 10.109
A2311: 39456 | B2311: 1.468 | C2311: 160.61 | D2311: 1.9558 | F2311: 25.98 | G2311: 7.4481 | H2311: 15.6466 | I2311: 0.74865 | J2311: 254.34 | K2311: 3.4528 | L2311: 0.6974 | N2311: 3.593 | P2311: 3.6525 | Q2311: 9.403 | S2311: 33.328 | T2311: 1.6362 | U2311: 92.4 | V2311: 7.891 | W2311: 7.35 | X2311: 35.919 | Z2311: 1.7066 | AA2311: 1.661 | AB2311: 2.5897 | AC2311: 1.4739 | AD2311: 10.6606 | AE2311: 11.4587 | AF2311: 13857.19 | AI2311: 1376.1 | AJ2311: 16.0416 | AK2311: 4.793 | AL2311: 1.8981 | AM2311: 59.546 | AN2311: 2.1016 | AO2311: 43.42 | AP2311: 10.0535
A2312: 39457 | B2312: 1.4662 | C2312: 161.08 | D2312: 1.9558 | F2312: 25.856 | G2312: 7.4478 | H2312: 15.6466 | I2312: 0.7493 | J2312: 254.17 | K2312: 3.4528 | L2312: 0.6987 | N2312: 3.597 | P2312: 3.68 | Q2312: 9.4087 | S2312: 33.314 | T2312: 1.6294 | U2312: 92.42 | V2312: 7.839 | W2312: 7.3465 | X2312: 35.899 | Z2312: 1.702 | AA2312: 1.6611 | AB2312: 2.5873 | AC2312: 1.4787 | AD2312: 10.6621 | AE2312: 11.4429 | AF2312: 13837.26 | AI2312: 1375.15 | AJ2312: 16.0556 | AK2312: 4.7918 | AL2312: 1.8926 | AM2312: 59.733 | AN2312: 2.0994 | AO2312: 43.121 | AP2312: 10.0774
A2313: 39458 | B2313: 1.4792 | C2313: 161.18 | D2313: 1.9558 | F2313: 25.908 | G2313: 7.4465 | H2313: 15.6466 | I2313: 0.7555 | J2313: 253.7 | K2313: 3.4528 | L2313: 0.699 | N2313: 3.582 | P2313: 3.6789 | Q2313: 9.398 | S2313: 33.268 | T2313: 1.6312 | U2313: 93.65 | V2313: 7.8185 | W2313: 7.35 | X2313: 36.048 | Z2313: 1.7031 | AA2313: 1.6545 | AB2313: 2.6004 | AC2313: 1.5082 | AD2313: 10.742 | AE2313: 11.5417 | AF2313: 13956.99 | AI2313: 1386.82 | AJ2313: 16.1934 | AK2313: 4.8207 | AL2313: 1.8822 | AM2313: 60.24 | AN2313: 2.1191 | AO2313: 43.725 | AP2313: 10.1
A2314: 39461 | B2314: 1.4895 | C2314: 160.55 | D2314: 1.9558 | F2314: 25.865 | G2314: 7.4453 | H2314: 15.6466 | I2314: 0.76 | J2314: 253.44 | K2314: 3.4528 | L2314: 0.699 | N2314: 3.5822 | P2314: 3.7144 | Q2314: 9.3987 | S2314: 33.277 | T2314: 1.6265 | U2314: 95.05 | V2314: 7.8275 | W2314: 7.3495 | X2314: 36.152 | Z2314: 1.7147 | AA2314: 1.6555 | AB2314: 2.5956 | AC2314: 1.5172 | AD2314: 10.8013 | AE2314: 11.6218 | AF2314: 14045.99 | AI2314: 1396.18 | AJ2314: 16.2854 | AK2314: 4.8446 | AL2314: 1.8852 | AM2314: 60.392 | AN2314: 2.1295 | AO2314: 44.18 | AP2314: 10.033
A2315: 39462 | B2315: 1.4886 | C2315: 160.02 | D2315: 1.9558 | F2315: 25.905 | G2315: 7.4451 | H2315: 15.6466 | I2315: 0.7565 | J2315: 253.68 | K2315: 3.4528 | L2315: 0.6984 | N2315: 3.5738 | P2315: 3.7049 | Q2315: 9.3965 | S2315: 33.364 | T2315: 1.6218 | U2315: 95.35 | V2315: 7.833 | W2315: 7.3449 | X2315: 36.141 | Z2315: 1.7132 | AA2315: 1.6533 | AB2315: 2.5824 | AC2315: 1.5096 | AD2315: 10.7806 | AE2315: 11.6071 | AF2315: 14037.5 | AI2315: 1392.59 | AJ2315: 16.2421 | AK2315: 4.8484 | AL2315: 1.8842 | AM2315: 60.288 | AN2315: 2.1262 | AO2315: 44.256 | AP2315: 10.063
A2316: 39463 | B2316: 1.4792 | C2316: 157.29 | D2316: 1.9558 | F2316: 26.051 | G2316: 7.4461 | H2316: 15.6466 | I2316: 0.754 | J2316: 255.18 | K2316: 3.4528 | L2316: 0.6979 | N2316: 3.6021 | P2316: 3.7155 | Q2316: 9.4194 | S2316: 33.465 | T2316: 1.6142 | U2316: 96.15 | V2316: 7.942 | W2316: 7.3424 | X2316: 36.041 | Z2316: 1.7356 | AA2316: 1.6806 | AB2316: 2.6127 | AC2316: 1.5122 | AD2316: 10.6982 | AE2316: 11.5344 | AF2316: 13971.04 | AI2316: 1390.52 | AJ2316: 16.2039 | AK2316: 4.8348 | AL2316: 1.9255 | AM2316: 60.233 | AN2316: 2.1142 | AO2316: 43.93 | AP2316: 10.2508
A2317: 39464 | B2317: 1.4691 | C2317: 157.07 | D2317: 1.9558 | F2317: 26.128 | G2317: 7.4514 | H2317: 15.6466 | I2317: 0.74615 | J2317: 255.28 | K2317: 3.4528 | L2317: 0.6985 | N2317: 3.6001 | P2317: 3.686 | Q2317: 9.4097 | S2317: 33.68 | T2317: 1.6144 | U2317: 95.57 | V2317: 7.954 | W2317: 7.338 | X2317: 35.935 | Z2317: 1.7387 | AA2317: 1.6642 | AB2317: 2.595 | AC2317: 1.5007 | AD2317: 10.6488 | AE2317: 11.4642 | AF2317: 13863.9 | AI2317: 1389.47 | AJ2317: 16.0808 | AK2317: 4.8135 | AL2317: 1.9069 | AM2317: 59.866 | AN2317: 2.108 | AO2317: 44.217 | AP2317: 10.3314
... A2547: 39791 | B2547: 1.2838 | C2547: 118.85 | D2547: 1.9558 | F2547: 25.738 | G2547: 7.4499 | H2547: 15.6466 | I2547: 0.8711 | J2547: 263.28 | K2547: 3.4528 | L2547: 0.7091 | N2547: 3.922 | P2547: 3.8913 | Q2547: 10.5063 | S2547: 30.181 | T2547: 1.5593 | U2547: 290 | V2547: 9.15 | W2547: 7.1856 | X2547: 35.9805 | Z2547: 2.034 | AA2547: 1.9596 | AB2547: 3.1845 | AC2547: 1.6171 | AD2547: 8.8242 | AE2547: 9.95 | AF2547: 14185.99 | AI2547: 1837.76 | AJ2547: 17.2928 | AK2547: 4.6441 | AL2547: 2.373 | AM2547: 62.32 | AN2547: 1.9321 | AO2547: 45.504 | AP2547: 13.0851
A2548: 39792 | B2548: 1.2925 | C2548: 119.77 | D2548: 1.9558 | F2548: 25.9 | G2548: 7.4499 | H2548: 15.6466 | I2548: 0.87325 | J2548: 263.75 | K2548: 3.4528 | L2548: 0.7092 | N2548: 3.9566 | P2548: 3.878 | Q2548: 10.567 | S2548: 30.189 | T2548: 1.5587 | V2548: 9.1285 | W2548: 7.1923 | X2548: 36.0941 | Z2548: 2.028 | AA2548: 1.9665 | AB2548: 3.2406 | AC2548: 1.6295 | AD2548: 8.8708 | AE2548: 10.0171 | AF2548: 14185.19 | AI2548: 1790.76 | AJ2548: 17.4681 | AK2548: 4.6724 | AL2548: 2.3696 | AM2548: 62.47 | AN2548: 1.9393 | AO2548: 45.748 | AP2548: 13.1916
A2549: 39793 | B2549: 1.3215 | C2549: 120.67 | D2549: 1.9558 | F2549: 25.965 | G2549: 7.4503 | H2549: 15.6466 | I2549: 0.8869 | J2549: 264.45 | K2549: 3.4528 | L2549: 0.7092 | N2549: 3.9865 | P2549: 3.9138 | Q2549: 10.58 | S2549: 30.175 | T2549: 1.5737 | V2549: 9.2065 | W2549: 7.1818 | X2549: 36.7912 | Z2549: 2.0504 | AA2549: 1.9889 | AB2549: 3.1663 | AC2549: 1.6383 | AD2549: 9.054 | AE2549: 10.2417 | AF2549: 14602.58 | AI2549: 1800.54 | AJ2549: 17.5615 | AK2549: 4.7138 | AL2549: 2.399 | AM2549: 63.13 | AN2549: 1.9704 | AO2549: 46.345 | AP2549: 13.3991
A2550: 39794 | B2550: 1.334 | C2550: 120.21 | D2550: 1.9558 | F2550: 25.99 | G2550: 7.4499 | H2550: 15.6466 | I2550: 0.89235 | J2550: 264.5 | K2550: 3.4528 | L2550: 0.7095 | N2550: 3.9592 | P2550: 3.929 | Q2550: 10.6625 | S2550: 30.17 | T2550: 1.5746 | V2550: 9.211 | W2550: 7.1805 | X2550: 37.0077 | Z2550: 2.0987 | AA2550: 2.0291 | AB2550: 3.1993 | AC2550: 1.6598 | AD2550: 9.1282 | AE2550: 10.3384 | AF2550: 15074.2 | AI2550: 1833.58 | AJ2550: 17.8723 | AK2550: 4.7791 | AL2550: 2.45 | AM2550: 64.23 | AN2550: 1.9876 | AO2550: 46.71 | AP2550: 13.5835
A2551: 39797 | B2551: 1.351 | C2551: 122.42 | D2551: 1.9558 | F2551: 26.157 | G2551: 7.4502 | H2551: 15.6466 | I2551: 0.8994 | J2551: 266.74 | K2551: 3.4528 | L2551: 0.7092 | N2551: 3.9949 | P2551: 3.94 | Q2551: 10.865 | S2551: 30.161 | T2551: 1.5789 | V2551: 9.322 | W2551: 7.1781 | X2551: 37.5615 | Z2551: 2.1172 | AA2551: 2.0246 | AB2551: 3.2481 | AC2551: 1.6555 | AD2551: 9.2544 | AE2551: 10.4703 | AF2551: 15117.69 | AI2551: 1859.35 | AJ2551: 18.4344 | AK2551: 4.8129 | AL2551: 2.4441 | AM2551: 64.38 | AN2551: 1.992 | AO2551: 47.123 | AP2551: 13.816
A2552: 39798 | B2552: 1.369 | C2552: 123.2 | D2552: 1.9558 | F2552: 26.371 | G2552: 7.451 | H2552: 15.6466 | I2552: 0.8936 | J2552: 268.38 | K2552: 3.4528 | L2552: 0.7086 | N2552: 4.0555 | P2552: 3.9465 | Q2552: 11.044 | S2552: 30.18 | T2552: 1.5814 | V2552: 9.515 | W2552: 7.1865 | X2552: 37.8234 | Z2552: 2.1448 | AA2552: 2.0374 | AB2552: 3.2705 | AC2552: 1.6832 | AD2552: 9.3729 | AE2552: 10.6103 | AF2552: 15282.15 | AI2552: 1869.16 | AJ2552: 18.2659 | AK2552: 4.8702 | AL2552: 2.4318 | AM2552: 65.16 | AN2552: 2.0196 | AO2552: 47.614 | AP2552: 14.1
A2553: 39799 | B2553: 1.4059 | C2553: 124.35 | D2553: 1.9558 | F2553: 26.255 | G2553: 7.4502 | H2553: 15.6466 | I2553: 0.91855 | J2553: 265.05 | K2553: 3.4528 | L2553: 0.7087 | N2553: 4.0885 | P2553: 3.9481 | Q2553: 11.0075 | S2553: 30.197 | T2553: 1.564 | V2553: 9.515 | W2553: 7.2066 | X2553: 38.7895 | Z2553: 2.1779 | AA2553: 2.0469 | AB2553: 3.3228 | AC2553: 1.7004 | AD2553: 9.6103 | AE2553: 10.896 | AF2553: 15500.05 | AI2553: 1836.46 | AJ2553: 18.4454 | AK2553: 4.9635 | AL2553: 2.4298 | AM2553: 65.94 | AN2553: 2.0491 | AO2553: 48.581 | AP2553: 14.0379
A2554: 39800 | B2554: 1.4616 | C2554: 129.22 | D2554: 1.9558 | F2554: 26.562 | G2554: 7.4496 | H2554: 15.6466 | I2554: 0.9509 | J2554: 268.61 | K2554: 3.4528 | L2554: 0.7088 | N2554: 4.167 | P2554: 3.9692 | Q2554: 11.0475 | S2554: 30.18 | T2554: 1.5368 | V2554: 9.865 | W2554: 7.2353 | X2554: 39.8258 | Z2554: 2.1938 | AA2554: 2.0735 | AB2554: 3.4374 | AC2554: 1.7433 | AD2554: 9.982 | AE2554: 11.3274 | AF2554: 16150.68 | AI2554: 1884.37 | AJ2554: 19.2493 | AK2554: 5.0608 | AL2554: 2.4415 | AM2554: 68.26 | AN2554: 2.088 | AO2554: 50.184 | AP2554: 14.2689
A2555: 39801 | B2555: 1.394 | C2555: 124.74 | D2555: 1.9558 | F2555: 26.335 | G2555: 7.4498 | H2555: 15.6466 | I2555: 0.9287 | J2555: 265.84 | K2555: 3.4528 | L2555: 0.7081 | N2555: 4.0825 | P2555: 3.9313 | Q2555: 10.8585 | S2555: 30.23 | T2555: 1.5448 | V2555: 9.8335 | W2555: 7.2372 | X2555: 38.966 | Z2555: 2.119 | AA2555: 2.047 | AB2555: 3.3024 | AC2555: 1.71 | AD2555: 9.544 | AE2555: 10.8035 | AF2555: 15438.55 | AI2555: 1832.9 | AJ2555: 18.3241 | AK2555: 4.8379 | AL2555: 2.4309 | AM2555: 65.38 | AN2555: 2.0329 | AO2555: 48.093 | AP2555: 13.6085
...

Sheet cambi_mensili
A1: Date | B1: USD | C1: GBP | D1: Data | F1: Data | G1: 1 EUR vale quanti USD | H1: 1 EUR vale quanti GBP | I1: 1 USD vale quanti GBP
A2: 36164 | B2: 1.1789 | C2: 0.7111 | D2: =YEAR(A2)&"-"&IF(MONTH(A2)<10,"0"&MONTH(A2),MONTH(A2)) -> 1999-01 | F2: 1998-12 | G2: =B2 -> 1.1789 | H2: =C2 -> 0.7111 | I2: =1/G2*H2 -> 0.60318941
A3: 36165 | B3: 1.179 | C3: 0.7122 | D3: =YEAR(A3)&"-"&IF(MONTH(A3)<10,"0"&MONTH(A3),MONTH(A3)) -> 1999-01 | F3: 1999-01 | G3: =_xlfn.XLOOKUP($F3,$D:$D,B:B,"xxx",0,-1) -> 1.1384 | H3: =_xlfn.XLOOKUP($F3,$D:$D,C:C,"xxx",0,-1) -> 0.691 | I3: =1/G3*H3 -> 0.60699227
A4: 36166 | B4: 1.1743 | C4: 0.7076 | D4: =YEAR(A4)&"-"&IF(MONTH(A4)<10,"0"&MONTH(A4),MONTH(A4)) -> 1999-01 | F4: 1999-02 | G4: =_xlfn.XLOOKUP(F4,D:D,B:B,"xxx",0,-1) -> 1.1018 | H4: =_xlfn.XLOOKUP($F4,$D:$D,C:C,"xxx",0,-1) -> 0.6873 | I4: =1/G4*H4 -> 0.62379742
A5: 36167 | B5: 1.1632 | C5: 0.70585 | D5: =YEAR(A5)&"-"&IF(MONTH(A5)<10,"0"&MONTH(A5),MONTH(A5)) -> 1999-01 | F5: 1999-03 | G5: =_xlfn.XLOOKUP(F5,D:D,B:B,"xxx",0,-1) -> 1.0742 | H5: =_xlfn.XLOOKUP($F5,$D:$D,C:C,"xxx",0,-1) -> 0.6663 | I5: =1/G5*H5 -> 0.62027555
A6: 36168 | B6: 1.1659 | C6: 0.7094 | D6: =YEAR(A6)&"-"&IF(MONTH(A6)<10,"0"&MONTH(A6),MONTH(A6)) -> 1999-01 | F6: 1999-04 | G6: =_xlfn.XLOOKUP(F6,D:D,B:B,"xxx",0,-1) -> 1.0597 | H6: =_xlfn.XLOOKUP($F6,$D:$D,C:C,"xxx",0,-1) -> 0.6571 | I6: =1/G6*H6 -> 0.62008116
A7: 36171 | B7: 1.1569 | C7: 0.7044 | D7: =YEAR(A7)&"-"&IF(MONTH(A7)<10,"0"&MONTH(A7),MONTH(A7)) -> 1999-01 | F7: 1999-05 | G7: =_xlfn.XLOOKUP(F7,D:D,B:B,"xxx",0,-1) -> 1.0456 | H7: =_xlfn.XLOOKUP($F7,$D:$D,C:C,"xxx",0,-1) -> 0.6524 | I7: =1/G7*H7 -> 0.62394797
A8: 36172 | B8: 1.152 | C8: 0.7066 | D8: =YEAR(A8)&"-"&IF(MONTH(A8)<10,"0"&MONTH(A8),MONTH(A8)) -> 1999-01 | F8: 1999-06 | G8: =_xlfn.XLOOKUP(F8,D:D,B:B,"xxx",0,-1) -> 1.0328 | H8: =_xlfn.XLOOKUP($F8,$D:$D,C:C,"xxx",0,-1) -> 0.6563 | I8: =1/G8*H8 -> 0.63545701
A9: 36173 | B9: 1.1744 | C9: 0.7084 | D9: =YEAR(A9)&"-"&IF(MONTH(A9)<10,"0"&MONTH(A9),MONTH(A9)) -> 1999-01 | F9: 1999-07 | G9: =_xlfn.XLOOKUP(F9,D:D,B:B,"xxx",0,-1) -> 1.0694 | H9: =_xlfn.XLOOKUP($F9,$D:$D,C:C,"xxx",0,-1) -> 0.6598 | I9: =1/G9*H9 -> 0.61698148
A10: 36174 | B10: 1.1653 | C10: 0.7062 | D10: =YEAR(A10)&"-"&IF(MONTH(A10)<10,"0"&MONTH(A10),MONTH(A10)) -> 1999-01 | F10: 1999-08 | G10: =_xlfn.XLOOKUP(F10,D:D,B:B,"xxx",0,-1) -> 1.0573 | H10: =_xlfn.XLOOKUP($F10,$D:$D,C:C,"xxx",0,-1) -> 0.6585 | I10: =1/G10*H10 -> 0.62281283
A11: 36175 | B11: 1.1626 | C11: 0.7039 | D11: =YEAR(A11)&"-"&IF(MONTH(A11)<10,"0"&MONTH(A11),MONTH(A11)) -> 1999-01 | F11: 1999-09 | G11: =_xlfn.XLOOKUP(F11,D:D,B:B,"xxx",0,-1) -> 1.0665 | H11: =_xlfn.XLOOKUP($F11,$D:$D,C:C,"xxx",0,-1) -> 0.6475 | I11: =1/G11*H11 -> 0.60712611
A12: 36178 | B12: 1.1612 | C12: 0.7013 | D12: =YEAR(A12)&"-"&IF(MONTH(A12)<10,"0"&MONTH(A12),MONTH(A12)) -> 1999-01 | F12: 1999-10 | G12: =_xlfn.XLOOKUP(F12,D:D,B:B,"xxx",0,-1) -> 1.0453 | H12: =_xlfn.XLOOKUP($F12,$D:$D,C:C,"xxx",0,-1) -> 0.6393 | I12: =1/G12*H12 -> 0.61159476
A13: 36179 | B13: 1.1616 | C13: 0.7 | D13: =YEAR(A13)&"-"&IF(MONTH(A13)<10,"0"&MONTH(A13),MONTH(A13)) -> 1999-01 | F13: 1999-11 | G13: =_xlfn.XLOOKUP(F13,D:D,B:B,"xxx",0,-1) -> 1.0097 | H13: =_xlfn.XLOOKUP($F13,$D:$D,C:C,"xxx",0,-1) -> 0.6325 | I13: =1/G13*H13 -> 0.62642369
A14: 36180 | B14: 1.1575 | C14: 0.7014 | D14: =YEAR(A14)&"-"&IF(MONTH(A14)<10,"0"&MONTH(A14),MONTH(A14)) -> 1999-01 | F14: 1999-12 | G14: =_xlfn.XLOOKUP(F14,D:D,B:B,"xxx",0,-1) -> 1.0046 | H14: =_xlfn.XLOOKUP($F14,$D:$D,C:C,"xxx",0,-1) -> 0.6217 | I14: =1/G14*H14 -> 0.61885327
A15: 36181 | B15: 1.1572 | C15: 0.7023 | D15: =YEAR(A15)&"-"&IF(MONTH(A15)<10,"0"&MONTH(A15),MONTH(A15)) -> 1999-01 | F15: 2000-01 | G15: =_xlfn.XLOOKUP(F15,D:D,B:B,"xxx",0,-1) -> 0.9791 | H15: =_xlfn.XLOOKUP($F15,$D:$D,C:C,"xxx",0,-1) -> 0.6047 | I15: =1/G15*H15 -> 0.61760801
... A310: 36595 | B310: 0.9613 | C310: 0.6095 | D310: =YEAR(A310)&"-"&IF(MONTH(A310)<10,"0"&MONTH(A310),MONTH(A310)) -> 2000-03 | F310: 2024-08 | G310: =_xlfn.XLOOKUP(F310,D:D,B:B,"xxx",0,-1) -> 1.1084 | H310: =_xlfn.XLOOKUP($F310,$D:$D,C:C,"xxx",0,-1) -> 0.85194 | I310: =1/G310*H310 -> 0.76862144
A311: 36598 | B311: 0.9716 | C311: 0.6146 | D311: =YEAR(A311)&"-"&IF(MONTH(A311)<10,"0"&MONTH(A311),MONTH(A311)) -> 2000-03
A312: 36599 | B312: 0.962 | C312: 0.6123 | D312: =YEAR(A312)&"-"&IF(MONTH(A312)<10,"0"&MONTH(A312),MONTH(A312)) -> 2000-03
A313: 36600 | B313: 0.9647 | C313: 0.614 | D313: =YEAR(A313)&"-"&IF(MONTH(A313)<10,"0"&MONTH(A313),MONTH(A313)) -> 2000-03
A314: 36601 | B314: 0.9663 | C314: 0.6155 | D314: =YEAR(A314)&"-"&IF(MONTH(A314)<10,"0"&MONTH(A314),MONTH(A314)) -> 2000-03
A315: 36602 | B315: 0.9672 | C315: 0.6146 | D315: =YEAR(A315)&"-"&IF(MONTH(A315)<10,"0"&MONTH(A315),MONTH(A315)) -> 2000-03
A316: 36605 | B316: 0.9715 | C316: 0.6201 | D316: =YEAR(A316)&"-"&IF(MONTH(A316)<10,"0"&MONTH(A316),MONTH(A316)) -> 2000-03
A317: 36606 | B317: 0.9701 | C317: 0.6176 | D317: =YEAR(A317)&"-"&IF(MONTH(A317)<10,"0"&MONTH(A317),MONTH(A317)) -> 2000-03
A318: 36607 | B318: 0.9603 | C318: 0.6125 | D318: =YEAR(A318)&"-"&IF(MONTH(A318)<10,"0"&MONTH(A318),MONTH(A318)) -> 2000-03
A319: 36608 | B319: 0.9656 | C319: 0.6104 | D319: =YEAR(A319)&"-"&IF(MONTH(A319)<10,"0"&MONTH(A319),MONTH(A319)) -> 2000-03
A320: 36609 | B320: 0.9715 | C320: 0.6115 | D320: =YEAR(A320)&"-"&IF(MONTH(A320)<10,"0"&MONTH(A320),MONTH(A320)) -> 2000-03
A321: 36612 | B321: 0.9712 | C321: 0.6087 | D321: =YEAR(A321)&"-"&IF(MONTH(A321)<10,"0"&MONTH(A321),MONTH(A321)) -> 2000-03
A322: 36613 | B322: 0.9647 | C322: 0.6088 | D322: =YEAR(A322)&"-"&IF(MONTH(A322)<10,"0"&MONTH(A322),MONTH(A322)) -> 2000-03
... A6566: 45524 | B6566: 1.1084 | C6566: 0.85194 | D6566: =YEAR(A6566)&"-"&IF(MONTH(A6566)<10,"0"&MONTH(A6566),MONTH(A6566)) -> 2024-08

Sheet simulazioni MSCI USA
A1: ho 1k EUR | B1: Data acquisto | C1: EUR partenza | D1: Quote | E1: Valore finale | F1: Rendimento | H1: ho 1k EUR | I1: Data acquisto | J1: USD partenza | K1: Quote | L1: Valore finale USD | M1: Valore finale EUR | N1: Rendimento
A2: compro MSCI USA EUR | B2: 1998-12 | C2: 1000 | D2: =C2/dati!$B2 -> 10 | E2: =D2*_xlfn.XLOOKUP(LEFT(B2,4)+1&RIGHT(B2,3),dati!$A:$A,dati!$B:$B) -> 1428.3153 | F2: =E2/1000-1 -> 0.42831526 | H2: la banca mi cambia in USD | I2: 1998-12 | J2: =1000*cambi_mensili!$G2 -> 1178.9 | K2: =J2/dati!$D2 -> 11.789 | L2: =K2*_xlfn.XLOOKUP(LEFT(I2,4)+1&RIGHT(I2,3),dati!$A:$A,dati!$D:$D) -> 1437.3412 | M2: =L2/_xlfn.XLOOKUP(LEFT(I2,4)+1&RIGHT(I2,3),cambi_mensili!$F:$F,cambi_mensili!$G:$G) -> 1430.7597 | N2: =M2/1000-1 -> 0.43075969 | P2: =E2-M2 -> -2.44443
A3: lo tengo 1 anno | B3: 1999-01 | C3: 1000 | D3: =C3/dati!$B3 -> 9.2733631 | E3: =D3*_xlfn.XLOOKUP(LEFT(B3,4)+1&RIGHT(B3,3),dati!$A:$A,dati!$B:$B) -> 1283.9872 | F3: =E3/1000-1 -> 0.28398717 | H3: compro MSCI USA USD | I3: 1999-01 | J3: =1000*cambi_mensili!$G3 -> 1138.4 | K3: =J3/dati!$D3 -> 10.915615 | L3: =K3*_xlfn.XLOOKUP(LEFT(I3,4)+1&RIGHT(I3,3),dati!$A:$A,dati!$D:$D) -> 1259.2307 | M3: =L3/_xlfn.XLOOKUP(LEFT(I3,4)+1&RIGHT(I3,3),cambi_mensili!$F:$F,cambi_mensili!$G:$G) -> 1286.1104 | N3: =M3/1000-1 -> 0.28611044 | P3: =E3-M3 -> -2.1232734
B4: 1999-02 | C4: 1000 | D4: =C4/dati!$B4 -> 9.2241737 | E4: =D4*_xlfn.XLOOKUP(LEFT(B4,4)+1&RIGHT(B4,3),dati!$A:$A,dati!$B:$B) -> 1266.6629 | F4: =E4/1000-1 -> 0.2666629 | H4: lo tengo 1 anno | I4: 1999-02 | J4: =1000*cambi_mensili!$G4 -> 1101.8 | K4: =J4/dati!$D4 -> 10.871447 | L4: =K4*_xlfn.XLOOKUP(LEFT(I4,4)+1&RIGHT(I4,3),dati!$A:$A,dati!$D:$D) -> 1223.9788 | M4: =L4/_xlfn.XLOOKUP(LEFT(I4,4)+1&RIGHT(I4,3),cambi_mensili!$F:$F,cambi_mensili!$G:$G) -> 1260.0152 | N4: =M4/1000-1 -> 0.26001525 | P4: =E4-M4 -> 6.6476516
B5: 1999-03 | C5: 1000 | D5: =C5/dati!$B5 -> 8.7120426 | E5: =D5*_xlfn.XLOOKUP(LEFT(B5,4)+1&RIGHT(B5,3),dati!$A:$A,dati!$B:$B) -> 1323.4638 | F5: =E5/1000-1 -> 0.3234638 | H5: la banca mi ricambia in EUR | I5: 1999-03 | J5: =1000*cambi_mensili!$G5 -> 1074.2 | K5: =J5/dati!$D5 -> 10.178946 | L5: =K5*_xlfn.XLOOKUP(LEFT(I5,4)+1&RIGHT(I5,3),dati!$A:$A,dati!$D:$D) -> 1260.0881 | M5: =L5/_xlfn.XLOOKUP(LEFT(I5,4)+1&RIGHT(I5,3),cambi_mensili!$F:$F,cambi_mensili!$G:$G) -> 1319.0496 | N5: =M5/1000-1 -> 0.31904957 | P5: =E5-M5 -> 4.4142328
B6: 1999-04 | C6: 1000 | D6: =C6/dati!$B6 -> 8.241616 | E6: =D6*_xlfn.XLOOKUP(LEFT(B6,4)+1&RIGHT(B6,3),dati!$A:$A,dati!$B:$B) -> 1271.8571 | F6: =E6/1000-1 -> 0.27185705 | I6: 1999-04 | J6: =1000*cambi_mensili!$G6 -> 1059.7 | K6: =J6/dati!$D6 -> 9.6937259 | L6: =K6*_xlfn.XLOOKUP(LEFT(I6,4)+1&RIGHT(I6,3),dati!$A:$A,dati!$D:$D) -> 1160.8969 | M6: =L6/_xlfn.XLOOKUP(LEFT(I6,4)+1&RIGHT(I6,3),cambi_mensili!$F:$F,cambi_mensili!$G:$G) -> 1277.8171 | N6: =M6/1000-1 -> 0.27781712 | P6: =E6-M6 -> -5.960071
B7: 1999-05 | C7: 1000 | D7: =C7/dati!$B7 -> 8.3199819 | E7: =D7*_xlfn.XLOOKUP(LEFT(B7,4)+1&RIGHT(B7,3),dati!$A:$A,dati!$B:$B) -> 1227.8954 | F7: =E7/1000-1 -> 0.22789539 | I7: 1999-05 | J7: =1000*cambi_mensili!$G7 -> 1045.6 | K7: =J7/dati!$D7 -> 9.7955016 | L7: =K7*_xlfn.XLOOKUP(LEFT(I7,4)+1&RIGHT(I7,3),dati!$A:$A,dati!$D:$D) -> 1141.7531 | M7: =L7/_xlfn.XLOOKUP(LEFT(I7,4)+1&RIGHT(I7,3),cambi_mensili!$F:$F,cambi_mensili!$G:$G) -> 1227.2956 | N7: =M7/1000-1 -> 0.22729558 | P7: =E7-M7 -> 0.5998145
B8: 1999-06 | C8: 1000 | D8: =C8/dati!$B8 -> 7.8096609 | E8: =D8*_xlfn.XLOOKUP(LEFT(B8,4)+1&RIGHT(B8,3),dati!$A:$A,dati!$B:$B) -> 1141.577 | F8: =E8/1000-1 -> 0.14157699 | I8: 1999-06 | J8: =1000*cambi_mensili!$G8 -> 1032.8 | K8: =J8/dati!$D8 -> 9.1842778 | L8: =K8*_xlfn.XLOOKUP(LEFT(I8,4)+1&RIGHT(I8,3),dati!$A:$A,dati!$D:$D) -> 1095.9033 | M8: =L8/_xlfn.XLOOKUP(LEFT(I8,4)+1&RIGHT(I8,3),cambi_mensili!$F:$F,cambi_mensili!$G:$G) -> 1146.8222 | N8: =M8/1000-1 -> 0.14682224 | P8: =E8-M8 -> -5.2452449
B9: 1999-07 | C9: 1000 | D9: =C9/dati!$B9 -> 8.378966 | E9: =D9*_xlfn.XLOOKUP(LEFT(B9,4)+1&RIGHT(B9,3),dati!$A:$A,dati!$B:$B) -> 1244.0384 | F9: =E9/1000-1 -> 0.24403842 | I9: 1999-07 | J9: =1000*cambi_mensili!$G9 -> 1069.4 | K9: =J9/dati!$D9 -> 9.8311866 | L9: =K9*_xlfn.XLOOKUP(LEFT(I9,4)+1&RIGHT(I9,3),dati!$A:$A,dati!$D:$D) -> 1151.8105 | M9: =L9/_xlfn.XLOOKUP(LEFT(I9,4)+1&RIGHT(I9,3),cambi_mensili!$F:$F,cambi_mensili!$G:$G) -> 1246.1436 | N9: =M9/1000-1 -> 0.24614357 | P9: =E9-M9 -> -2.1051448
B10: 1999-08 | C10: 1000 | D10: =C10/dati!$B10 -> 8.324429 | E10: =D10*_xlfn.XLOOKUP(LEFT(B10,4)+1&RIGHT(B10,3),dati!$A:$A,dati!$B:$B) -> 1354.767 | F10: =E10/1000-1 -> 0.35476703 | I10: 1999-08 | J10: =1000*cambi_mensili!$G10 -> 1057.3 | K10: =J10/dati!$D10 -> 9.7846779 | L10: =K10*_xlfn.XLOOKUP(LEFT(I10,4)+1&RIGHT(I10,3),dati!$A:$A,dati!$D:$D) -> 1205.653 | M10: =L10/_xlfn.XLOOKUP(LEFT(I10,4)+1&RIGHT(I10,3),cambi_mensili!$F:$F,cambi_mensili!$G:$G) -> 1353.7536 | N10: =M10/1000-1 -> 0.3537536 | P10: =E10-M10 -> 1.0134294
B11: 1999-09 | C11: 1000 | D11: =C11/dati!$B11 -> 8.6523899 | E11: =D11*_xlfn.XLOOKUP(LEFT(B11,4)+1&RIGHT(B11,3),dati!$A:$A,dati!$B:$B) -> 1341.1492 | F11: =E11/1000-1 -> 0.34114916 | I11: 1999-09 | J11: =1000*cambi_mensili!$G11 -> 1066.5 | K11: =J11/dati!$D11 -> 10.174856 | L11: =K11*_xlfn.XLOOKUP(LEFT(I11,4)+1&RIGHT(I11,3),dati!$A:$A,dati!$D:$D) -> 1185.2196 | M11: =L11/_xlfn.XLOOKUP(LEFT(I11,4)+1&RIGHT(I11,3),cambi_mensili!$F:$F,cambi_mensili!$G:$G) -> 1352.2186 | N11: =M11/1000-1 -> 0.35221861 | P11: =E11-M11 -> -11.069457
B12: 1999-10 | C12: 1000 | D12: =C12/dati!$B12 -> 8.0174906 | E12: =D12*_xlfn.XLOOKUP(LEFT(B12,4)+1&RIGHT(B12,3),dati!$A:$A,dati!$B:$B) -> 1284.2743 | F12: =E12/1000-1 -> 0.28427427 | I12: 1999-10 | J12: =1000*cambi_mensili!$G12 -> 1045.3 | K12: =J12/dati!$D12 -> 9.3630341 | L12: =K12*_xlfn.XLOOKUP(LEFT(I12,4)+1&RIGHT(I12,3),dati!$A:$A,dati!$D:$D) -> 1082.5957 | M12: =L12/_xlfn.XLOOKUP(LEFT(I12,4)+1&RIGHT(I12,3),cambi_mensili!$F:$F,cambi_mensili!$G:$G) -> 1286.2014 | N12: =M12/1000-1 -> 0.2862014 | P12: =E12-M12 -> -1.9271254
B13: 1999-11 | C13: 1000 | D13: =C13/dati!$B13 -> 7.521553 | E13: =D13*_xlfn.XLOOKUP(LEFT(B13,4)+1&RIGHT(B13,3),dati!$A:$A,dati!$B:$B) -> 1080.167 | F13: =E13/1000-1 -> 0.080167005 | I13: 1999-11 | J13: =1000*cambi_mensili!$G13 -> 1009.7 | K13: =J13/dati!$D13 -> 8.8567442 | L13: =K13*_xlfn.XLOOKUP(LEFT(I13,4)+1&RIGHT(I13,3),dati!$A:$A,dati!$D:$D) -> 942.90013 | M13: =L13/_xlfn.XLOOKUP(LEFT(I13,4)+1&RIGHT(I13,3),cambi_mensili!$F:$F,cambi_mensili!$G:$G) -> 1085.7901 | N13: =M13/1000-1 -> 0.085790114 | P13: =E13-M13 -> -5.6231091
B14: 1999-12 | C14: 1000 | D14: =C14/dati!$B14 -> 7.0012555 | E14: =D14*_xlfn.XLOOKUP(LEFT(B14,4)+1&RIGHT(B14,3),dati!$A:$A,dati!$B:$B) -> 930.52248 | F14: =E14/1000-1 -> -0.069477521 | I14: 1999-12 | J14: =1000*cambi_mensili!$G14 -> 1004.6 | K14: =J14/dati!$D14 -> 8.2396786 | L14: =K14*_xlfn.XLOOKUP(LEFT(I14,4)+1&RIGHT(I14,3),dati!$A:$A,dati!$D:$D) -> 875.58207 | M14: =L14/_xlfn.XLOOKUP(LEFT(I14,4)+1&RIGHT(I14,3),cambi_mensili!$F:$F,cambi_mensili!$G:$G) -> 940.98019 | N14: =M14/1000-1 -> -0.059019808 | P14: =E14-M14 -> -10.457713
B15: 2000-01 | C15: 1000 | D15: =C15/dati!$B15 -> 7.2223176 | E15: =D15*_xlfn.XLOOKUP(LEFT(B15,4)+1&RIGHT(B15,3),dati!$A:$A,dati!$B:$B) -> 1004.2557 | F15: =E15/1000-1 -> 0.0042557428 | I15: 2000-01 | J15: =1000*cambi_mensili!$G15 -> 979.1 | K15: =J15/dati!$D15 -> 8.4873078 | L15: =K15*_xlfn.XLOOKUP(LEFT(I15,4)+1&RIGHT(I15,3),dati!$A:$A,dati!$D:$D) -> 934.62356 | M15: =L15/_xlfn.XLOOKUP(LEFT(I15,4)+1&RIGHT(I15,3),cambi_mensili!$F:$F,cambi_mensili!$G:$G) -> 1005.7286 | N15: =M15/1000-1 -> 0.0057285684 | P15: =E15-M15 -> -1.4728256
B16: 2000-02 | C16: 1000 | D16: =C16/dati!$B16 -> 7.282264 | E16: =D16*_xlfn.XLOOKUP(LEFT(B16,4)+1&RIGHT(B16,3),dati!$A:$A,dati!$B:$B) -> 932.11875 | F16: =E16/1000-1 -> -0.067881252 | I16: 2000-02 | J16: =1000*cambi_mensili!$G16 -> 971.4 | K16: =J16/dati!$D16 -> 8.6280283 | L16: =K16*_xlfn.XLOOKUP(LEFT(I16,4)+1&RIGHT(I16,3),dati!$A:$A,dati!$D:$D) -> 864.87786 | M16: =L16/_xlfn.XLOOKUP(LEFT(I16,4)+1&RIGHT(I16,3),cambi_mensili!$F:$F,cambi_mensili!$G:$G) -> 935.20529 | N16: =M16/1000-1 -> -0.064794706 | P16: =E16-M16 -> -3.0865458
B17: 2000-03 | C17: 1000 | D17: =C17/dati!$B17 -> 6.5827585 | E17: =D17*_xlfn.XLOOKUP(LEFT(B17,4)+1&RIGHT(B17,3),dati!$A:$A,dati!$B:$B) -> 820.4026 | F17: =E17/1000-1 -> -0.1795974 | I17: 2000-03 | J17: =1000*cambi_mensili!$G17 -> 955.3 | K17: =J17/dati!$D17 -> 7.7168794 | L17: =K17*_xlfn.XLOOKUP(LEFT(I17,4)+1&RIGHT(I17,3),dati!$A:$A,dati!$D:$D) -> 724.02325 | M17: =L17/_xlfn.XLOOKUP(LEFT(I17,4)+1&RIGHT(I17,3),cambi_mensili!$F:$F,cambi_mensili!$G:$G) -> 819.7727 | N17: =M17/1000-1 -> -0.1802273 | P17: =E17-M17 -> 0.62989157
... B285: 2022-07 | C285: 1000 | D285: =C285/dati!$B285 -> 1.9445557 | E285: =D285*_xlfn.XLOOKUP(LEFT(B285,4)+1&RIGHT(B285,3),dati!$A:$A,dati!$B:$B) -> 1041.1648 | F285: =E285/1000-1 -> 0.041164759 | I285: 2022-07 | J285: =1000*cambi_mensili!$G285 -> 1019.8 | K285: =J285/dati!$D285 -> 2.2837304 | L285: =K285*_xlfn.XLOOKUP(LEFT(I285,4)+1&RIGHT(I285,3),dati!$A:$A,dati!$D:$D) -> 1148.1051 | M285: =L285/_xlfn.XLOOKUP(LEFT(I285,4)+1&RIGHT(I285,3),cambi_mensili!$F:$F,cambi_mensili!$G:$G) -> 1041.5541 | N285: =M285/1000-1 -> 0.041554093 | P285: =E285-M285 -> -0.38933438

Sheet simulazioni MSCI Germany
A1: ho 1k EUR | B1: Data acquisto | C1: EUR partenza | D1: Quote | E1: Valore finale | F1: Rendimento | H1: ho 1k EUR | I1: Data acquisto | J1: USD partenza | K1: Quote | L1: Valore finale USD | M1: Valore finale EUR | N1: Rendimento
A2: compro MSCI Germany EUR | B2: 1998-12 | C2: 1000 | D2: =C2/dati!$C2 -> 10 | E2: =D2*_xlfn.XLOOKUP(LEFT(B2,4)+1&RIGHT(B2,3),dati!$A:$A,dati!$C:$C) -> 1406.3163 | F2: =E2/1000-1 -> 0.40631632 | H2: la banca mi cambia in USD | I2: 1998-12 | J2: =1000*cambi_mensili!$G2 -> 1178.9 | K2: =J2/dati!$E2 -> 11.789 | L2: =K2*_xlfn.XLOOKUP(LEFT(I2,4)+1&RIGHT(I2,3),dati!$A:$A,dati!$E:$E) -> 1415.2032 | M2: =L2/_xlfn.XLOOKUP(LEFT(I2,4)+1&RIGHT(I2,3),cambi_mensili!$F:$F,cambi_mensili!$G:$G) -> 1408.7231 | N2: =M2/1000-1 -> 0.4087231 | P2: =E2-M2 -> -2.4067809
A3: lo tengo 1 anno | B3: 1999-01 | C3: 1000 | D3: =C3/dati!$C3 -> 9.5138404 | E3: =D3*_xlfn.XLOOKUP(LEFT(B3,4)+1&RIGHT(B3,3),dati!$A:$A,dati!$C:$C) -> 1323.0964 | F3: =E3/1000-1 -> 0.32309643 | H3: compro MSCI Germany USD | I3: 1999-01 | J3: =1000*cambi_mensili!$G3 -> 1138.4 | K3: =J3/dati!$E3 -> 11.198679 | L3: =K3*_xlfn.XLOOKUP(LEFT(I3,4)+1&RIGHT(I3,3),dati!$A:$A,dati!$E:$E) -> 1297.5859 | M3: =L3/_xlfn.XLOOKUP(LEFT(I3,4)+1&RIGHT(I3,3),cambi_mensili!$F:$F,cambi_mensili!$G:$G) -> 1325.2844 | N3: =M3/1000-1 -> 0.32528438 | P3: =E3-M3 -> -2.1879466
B4: 1999-02 | C4: 1000 | D4: =C4/dati!$C4 -> 10.02385 | E4: =D4*_xlfn.XLOOKUP(LEFT(B4,4)+1&RIGHT(B4,3),dati!$A:$A,dati!$C:$C) -> 1564.5782 | F4: =E4/1000-1 -> 0.56457821 | H4: lo tengo 1 anno | I4: 1999-02 | J4: =1000*cambi_mensili!$G4 -> 1101.8 | K4: =J4/dati!$E4 -> 11.813932 | L4: =K4*_xlfn.XLOOKUP(LEFT(I4,4)+1&RIGHT(I4,3),dati!$A:$A,dati!$E:$E) -> 1511.855 | M4: =L4/_xlfn.XLOOKUP(LEFT(I4,4)+1&RIGHT(I4,3),cambi_mensili!$F:$F,cambi_mensili!$G:$G) -> 1556.3671 | N4: =M4/1000-1 -> 0.55636705 | P4: =E4-M4 -> 8.2111594
B5: 1999-03 | C5: 1000 | D5: =C5/dati!$C5 -> 10.132777 | E5: =D5*_xlfn.XLOOKUP(LEFT(B5,4)+1&RIGHT(B5,3),dati!$A:$A,dati!$C:$C) -> 1565.6726 | F5: =E5/1000-1 -> 0.56567264 | H5: la banca mi ricambia in EUR | I5: 1999-03 | J5: =1000*cambi_mensili!$G5 -> 1074.2 | K5: =J5/dati!$E5 -> 11.8389 | L5: =K5*_xlfn.XLOOKUP(LEFT(I5,4)+1&RIGHT(I5,3),dati!$A:$A,dati!$E:$E) -> 1490.6984 | M5: =L5/_xlfn.XLOOKUP(LEFT(I5,4)+1&RIGHT(I5,3),cambi_mensili!$F:$F,cambi_mensili!$G:$G) -> 1560.4506 | N5: =M5/1000-1 -> 0.56045055 | P5: =E5-M5 -> 5.2220873
B6: 1999-04 | C6: 1000 | D6: =C6/dati!$C6 -> 9.3242097 | E6: =D6*_xlfn.XLOOKUP(LEFT(B6,4)+1&RIGHT(B6,3),dati!$A:$A,dati!$C:$C) -> 1381.9497 | F6: =E6/1000-1 -> 0.38194971 | I6: 1999-04 | J6: =1000*cambi_mensili!$G6 -> 1059.7 | K6: =J6/dati!$E6 -> 10.967064 | L6: =K6*_xlfn.XLOOKUP(LEFT(I6,4)+1&RIGHT(I6,3),dati!$A:$A,dati!$E:$E) -> 1261.3847 | M6: =L6/_xlfn.XLOOKUP(LEFT(I6,4)+1&RIGHT(I6,3),cambi_mensili!$F:$F,cambi_mensili!$G:$G) -> 1388.4257 | N6: =M6/1000-1 -> 0.38842569 | P6: =E6-M6 -> -6.475978
B7: 1999-05 | C7: 1000 | D7: =C7/dati!$C7 -> 9.7861815 | E7: =D7*_xlfn.XLOOKUP(LEFT(B7,4)+1&RIGHT(B7,3),dati!$A:$A,dati!$C:$C) -> 1380.8433 | F7: =E7/1000-1 -> 0.38084332 | I7: 1999-05 | J7: =1000*cambi_mensili!$G7 -> 1045.6 | K7: =J7/dati!$E7 -> 11.521727 | L7: =K7*_xlfn.XLOOKUP(LEFT(I7,4)+1&RIGHT(I7,3),dati!$A:$A,dati!$E:$E) -> 1283.971 | M7: =L7/_xlfn.XLOOKUP(LEFT(I7,4)+1&RIGHT(I7,3),cambi_mensili!$F:$F,cambi_mensili!$G:$G) -> 1380.1688 | N7: =M7/1000-1 -> 0.38016879 | P7: =E7-M7 -> 0.67452801
B8: 1999-06 | C8: 1000 | D8: =C8/dati!$C8 -> 9.1678799 | E8: =D8*_xlfn.XLOOKUP(LEFT(B8,4)+1&RIGHT(B8,3),dati!$A:$A,dati!$C:$C) -> 1247.8961 | F8: =E8/1000-1 -> 0.24789609 | I8: 1999-06 | J8: =1000*cambi_mensili!$G8 -> 1032.8 | K8: =J8/dati!$E8 -> 10.781564 | L8: =K8*_xlfn.XLOOKUP(LEFT(I8,4)+1&RIGHT(I8,3),dati!$A:$A,dati!$E:$E) -> 1197.9687 | M8: =L8/_xlfn.XLOOKUP(LEFT(I8,4)+1&RIGHT(I8,3),cambi_mensili!$F:$F,cambi_mensili!$G:$G) -> 1253.6298 | N8: =M8/1000-1 -> 0.25362984 | P8: =E8-M8 -> -5.733753
B9: 1999-07 | C9: 1000 | D9: =C9/dati!$C9 -> 9.6693601 | E9: =D9*_xlfn.XLOOKUP(LEFT(B9,4)+1&RIGHT(B9,3),dati!$A:$A,dati!$C:$C) -> 1356.3938 | F9: =E9/1000-1 -> 0.35639383 | I9: 1999-07 | J9: =1000*cambi_mensili!$G9 -> 1069.4 | K9: =J9/dati!$E9 -> 11.345228 | L9: =K9*_xlfn.XLOOKUP(LEFT(I9,4)+1&RIGHT(I9,3),dati!$A:$A,dati!$E:$E) -> 1255.8363 | M9: =L9/_xlfn.XLOOKUP(LEFT(I9,4)+1&RIGHT(I9,3),cambi_mensili!$F:$F,cambi_mensili!$G:$G) -> 1358.6891 | N9: =M9/1000-1 -> 0.3586891 | P9: =E9-M9 -> -2.2952711
B10: 1999-08 | C10: 1000 | D10: =C10/dati!$C10 -> 9.3803586 | E10: =D10*_xlfn.XLOOKUP(LEFT(B10,4)+1&RIGHT(B10,3),dati!$A:$A,dati!$C:$C) -> 1308.3544 | F10: =E10/1000-1 -> 0.30835438 | I10: 1999-08 | J10: =1000*cambi_mensili!$G10 -> 1057.3 | K10: =J10/dati!$E10 -> 11.025836 | L10: =K10*_xlfn.XLOOKUP(LEFT(I10,4)+1&RIGHT(I10,3),dati!$A:$A,dati!$E:$E) -> 1164.3488 | M10: =L10/_xlfn.XLOOKUP(LEFT(I10,4)+1&RIGHT(I10,3),cambi_mensili!$F:$F,cambi_mensili!$G:$G) -> 1307.3757 | N10: =M10/1000-1 -> 0.30737567 | P10: =E10-M10 -> 0.97871056
B11: 1999-09 | C11: 1000 | D11: =C11/dati!$C11 -> 9.5867364 | E11: =D11*_xlfn.XLOOKUP(LEFT(B11,4)+1&RIGHT(B11,3),dati!$A:$A,dati!$C:$C) -> 1276.7309 | F11: =E11/1000-1 -> 0.27673085 | I11: 1999-09 | J11: =1000*cambi_mensili!$G11 -> 1066.5 | K11: =J11/dati!$E11 -> 11.27361 | L11: =K11*_xlfn.XLOOKUP(LEFT(I11,4)+1&RIGHT(I11,3),dati!$A:$A,dati!$E:$E) -> 1128.2909 | M11: =L11/_xlfn.XLOOKUP(LEFT(I11,4)+1&RIGHT(I11,3),cambi_mensili!$F:$F,cambi_mensili!$G:$G) -> 1287.2686 | N11: =M11/1000-1 -> 0.28726862 | P11: =E11-M11 -> -10.537767
B12: 1999-10 | C12: 1000 | D12: =C12/dati!$C12 -> 8.9757031 | E12: =D12*_xlfn.XLOOKUP(LEFT(B12,4)+1&RIGHT(B12,3),dati!$A:$A,dati!$C:$C) -> 1253.527 | F12: =E12/1000-1 -> 0.25352696 | I12: 1999-10 | J12: =1000*cambi_mensili!$G12 -> 1045.3 | K12: =J12/dati!$E12 -> 10.482059 | L12: =K12*_xlfn.XLOOKUP(LEFT(I12,4)+1&RIGHT(I12,3),dati!$A:$A,dati!$E:$E) -> 1056.6769 | M12: =L12/_xlfn.XLOOKUP(LEFT(I12,4)+1&RIGHT(I12,3),cambi_mensili!$F:$F,cambi_mensili!$G:$G) -> 1255.4079 | N12: =M12/1000-1 -> 0.25540795 | P12: =E12-M12 -> -1.8809873
B13: 1999-11 | C13: 1000 | D13: =C13/dati!$C13 -> 8.3663493 | E13: =D13*_xlfn.XLOOKUP(LEFT(B13,4)+1&RIGHT(B13,3),dati!$A:$A,dati!$C:$C) -> 1054.0737 | F13: =E13/1000-1 -> 0.0540737 | I13: 1999-11 | J13: =1000*cambi_mensili!$G13 -> 1009.7 | K13: =J13/dati!$E13 -> 9.8515049 | L13: =K13*_xlfn.XLOOKUP(LEFT(I13,4)+1&RIGHT(I13,3),dati!$A:$A,dati!$E:$E) -> 920.12275 | M13: =L13/_xlfn.XLOOKUP(LEFT(I13,4)+1&RIGHT(I13,3),cambi_mensili!$F:$F,cambi_mensili!$G:$G) -> 1059.561 | N13: =M13/1000-1 -> 0.059560973 | P13: =E13-M13 -> -5.4872732
B14: 1999-12 | C14: 1000 | D14: =C14/dati!$C14 -> 7.1107758 | E14: =D14*_xlfn.XLOOKUP(LEFT(B14,4)+1&RIGHT(B14,3),dati!$A:$A,dati!$C:$C) -> 901.20711 | F14: =E14/1000-1 -> -0.098792889 | I14: 1999-12 | J14: =1000*cambi_mensili!$G14 -> 1004.6 | K14: =J14/dati!$E14 -> 8.3685715 | L14: =K14*_xlfn.XLOOKUP(LEFT(I14,4)+1&RIGHT(I14,3),dati!$A:$A,dati!$E:$E) -> 847.99755 | M14: =L14/_xlfn.XLOOKUP(LEFT(I14,4)+1&RIGHT(I14,3),cambi_mensili!$F:$F,cambi_mensili!$G:$G) -> 911.33536 | N14: =M14/1000-1 -> -0.088664638 | P14: =E14-M14 -> -10.128251
B15: 2000-01 | C15: 1000 | D15: =C15/dati!$C15 -> 7.1905873 | E15: =D15*_xlfn.XLOOKUP(LEFT(B15,4)+1&RIGHT(B15,3),dati!$A:$A,dati!$C:$C) -> 954.37281 | F15: =E15/1000-1 -> -0.045627187 | I15: 2000-01 | J15: =1000*cambi_mensili!$G15 -> 979.1 | K15: =J15/dati!$E15 -> 8.45002 | L15: =K15*_xlfn.XLOOKUP(LEFT(I15,4)+1&RIGHT(I15,3),dati!$A:$A,dati!$E:$E) -> 888.19937 | M15: =L15/_xlfn.XLOOKUP(LEFT(I15,4)+1&RIGHT(I15,3),cambi_mensili!$F:$F,cambi_mensili!$G:$G) -> 955.77248 | N15: =M15/1000-1 -> -0.044227519 | P15: =E15-M15 -> -1.3996681
B16: 2000-02 | C16: 1000 | D16: =C16/dati!$C16 -> 6.4067428 | E16: =D16*_xlfn.XLOOKUP(LEFT(B16,4)+1&RIGHT(B16,3),dati!$A:$A,dati!$C:$C) -> 789.99653 | F16: =E16/1000-1 -> -0.21000347 | I16: 2000-02 | J16: =1000*cambi_mensili!$G16 -> 971.4 | K16: =J16/dati!$E16 -> 7.5907105 | L16: =K16*_xlfn.XLOOKUP(LEFT(I16,4)+1&RIGHT(I16,3),dati!$A:$A,dati!$E:$E) -> 733.008 | M16: =L16/_xlfn.XLOOKUP(LEFT(I16,4)+1&RIGHT(I16,3),cambi_mensili!$F:$F,cambi_mensili!$G:$G) -> 792.61246 | N16: =M16/1000-1 -> -0.20738754 | P16: =E16-M16 -> -2.6159333
B17: 2000-03 | C17: 1000 | D17: =C17/dati!$C17 -> 6.4718365 | E17: =D17*_xlfn.XLOOKUP(LEFT(B17,4)+1&RIGHT(B17,3),dati!$A:$A,dati!$C:$C) -> 743.24175 | F17: =E17/1000-1 -> -0.25675825 | I17: 2000-03 | J17: =1000*cambi_mensili!$G17 -> 955.3 | K17: =J17/dati!$E17 -> 7.586847 | L17: =K17*_xlfn.XLOOKUP(LEFT(I17,4)+1&RIGHT(I17,3),dati!$A:$A,dati!$E:$E) -> 655.92712 | M17: =L17/_xlfn.XLOOKUP(LEFT(I17,4)+1&RIGHT(I17,3),cambi_mensili!$F:$F,cambi_mensili!$G:$G) -> 742.6711 | N17: =M17/1000-1 -> -0.2573289 | P17: =E17-M17 -> 0.57064875
... B285: 2022-07 | C285: 1000 | D285: =C285/dati!$C285 -> 4.4625906 | E285: =D285*_xlfn.XLOOKUP(LEFT(B285,4)+1&RIGHT(B285,3),dati!$A:$A,dati!$C:$C) -> 1195.3909 | F285: =E285/1000-1 -> 0.1953909 | I285: 2022-07 | J285: =1000*cambi_mensili!$G285 -> 1019.8 | K285: =J285/dati!$E285 -> 5.2409679 | L285: =K285*_xlfn.XLOOKUP(LEFT(I285,4)+1&RIGHT(I285,3),dati!$A:$A,dati!$E:$E) -> 1318.1721 | M285: =L285/_xlfn.XLOOKUP(LEFT(I285,4)+1&RIGHT(I285,3),cambi_mensili!$F:$F,cambi_mensili!$G:$G) -> 1195.8379 | N285: =M285/1000-1 -> 0.1958379 | P285: =E285-M285 -> -0.44700588

Sheet simulazioni MSCI USA conto GBP
A1: ho 1k GBP | B1: Data acquisto | C1: EUR partenza | D1: Quote | E1: Valore finale EUR | F1: Valore finale GBP | G1: Rendimento | I1: ho 1k GBP | J1: Data acquisto | K1: USD partenza | L1: Quote | M1: Valore finale USD | N1: Valore finale GBP | O1: Rendimento
A2: la banca mi cambia in EUR | B2: 1998-12 | C2: =1000/cambi_mensili!H2 -> 1406.272 | D2: =C2/dati!$B2 -> 14.06272 | E2: =D2*_xlfn.XLOOKUP(LEFT(B2,4)+1&RIGHT(B2,3),dati!$A:$A,dati!$B:$B) -> 2008.5997 | F2: =E2*_xlfn.XLOOKUP(LEFT(B2,4)+1&RIGHT(B2,3),cambi_mensili!$F:$F,cambi_mensili!$H:$H) -> 1248.7464 | G2: =F2/1000-1 -> 0.24874645 | I2: la banca mi cambia in USD | J2: 1998-12 | K2: =1000/cambi_mensili!I2 -> 1657.854 | L2: =K2/dati!$D2 -> 16.57854 | M2: =L2*_xlfn.XLOOKUP(LEFT(J2,4)+1&RIGHT(J2,3),dati!$A:$A,dati!$D:$D) -> 2021.2926 | N2: =M2*_xlfn.XLOOKUP(LEFT(J2,4)+1&RIGHT(J2,3),cambi_mensili!$F:$F,cambi_mensili!$I:$I) -> 1250.8836 | O2: =N2/1000-1 -> 0.25088356 | Q2: =F2-N2 -> -2.1371146
A3: compro MSCI USA EUR | B3: 1999-01 | C3: =1000/cambi_mensili!H3 -> 1447.178 | D3: =C3/dati!$B3 -> 13.420207 | E3: =D3*_xlfn.XLOOKUP(LEFT(B3,4)+1&RIGHT(B3,3),dati!$A:$A,dati!$B:$B) -> 1858.158 | F3: =E3*_xlfn.XLOOKUP(LEFT(B3,4)+1&RIGHT(B3,3),cambi_mensili!$F:$F,cambi_mensili!$H:$H) -> 1123.6281 | G3: =F3/1000-1 -> 0.12362814 | I3: compro MSCI USA USD | J3: 1999-01 | K3: =1000/cambi_mensili!I3 -> 1647.4674 | L3: =K3/dati!$D3 -> 15.796838 | M3: =L3*_xlfn.XLOOKUP(LEFT(J3,4)+1&RIGHT(J3,3),dati!$A:$A,dati!$D:$D) -> 1822.331 | N3: =M3*_xlfn.XLOOKUP(LEFT(J3,4)+1&RIGHT(J3,3),cambi_mensili!$F:$F,cambi_mensili!$I:$I) -> 1125.4862 | O3: =N3/1000-1 -> 0.12548623 | Q3: =F3-N3 -> -1.8580946
A4: lo tengo 1 anno | B4: 1999-02 | C4: =1000/cambi_mensili!H4 -> 1454.9687 | D4: =C4/dati!$B4 -> 13.420884 | E4: =D4*_xlfn.XLOOKUP(LEFT(B4,4)+1&RIGHT(B4,3),dati!$A:$A,dati!$B:$B) -> 1842.9549 | F4: =E4*_xlfn.XLOOKUP(LEFT(B4,4)+1&RIGHT(B4,3),cambi_mensili!$F:$F,cambi_mensili!$H:$H) -> 1130.4685 | G4: =F4/1000-1 -> 0.13046853 | I4: lo tengo 1 anno | J4: 1999-02 | K4: =1000/cambi_mensili!I4 -> 1603.0845 | L4: =K4/dati!$D4 -> 15.817616 | M4: =L4*_xlfn.XLOOKUP(LEFT(J4,4)+1&RIGHT(J4,3),dati!$A:$A,dati!$D:$D) -> 1780.8509 | N4: =M4*_xlfn.XLOOKUP(LEFT(J4,4)+1&RIGHT(J4,3),cambi_mensili!$F:$F,cambi_mensili!$I:$I) -> 1124.5356 | O4: =N4/1000-1 -> 0.12453565 | Q4: =F4-N4 -> 5.9328816
A5: la banca mi ricambia in GBP | B5: 1999-03 | C5: =1000/cambi_mensili!H5 -> 1500.8255 | D5: =C5/dati!$B5 -> 13.075255 | E5: =D5*_xlfn.XLOOKUP(LEFT(B5,4)+1&RIGHT(B5,3),dati!$A:$A,dati!$B:$B) -> 1986.2882 | F5: =E5*_xlfn.XLOOKUP(LEFT(B5,4)+1&RIGHT(B5,3),cambi_mensili!$F:$F,cambi_mensili!$H:$H) -> 1188.7935 | G5: =F5/1000-1 -> 0.18879346 | I5: la banca mi ricambia in GBP | J5: 1999-03 | K5: =1000/cambi_mensili!I5 -> 1612.1867 | L5: =K5/dati!$D5 -> 15.276822 | M5: =L5*_xlfn.XLOOKUP(LEFT(J5,4)+1&RIGHT(J5,3),dati!$A:$A,dati!$D:$D) -> 1891.1722 | N5: =M5*_xlfn.XLOOKUP(LEFT(J5,4)+1&RIGHT(J5,3),cambi_mensili!$F:$F,cambi_mensili!$I:$I) -> 1184.8284 | O5: =N5/1000-1 -> 0.18482841 | Q5: =F5-N5 -> 3.9650583
B6: 1999-04 | C6: =1000/cambi_mensili!H6 -> 1521.8384 | D6: =C6/dati!$B6 -> 12.542408 | E6: =D6*_xlfn.XLOOKUP(LEFT(B6,4)+1&RIGHT(B6,3),dati!$A:$A,dati!$B:$B) -> 1935.5609 | F6: =E6*_xlfn.XLOOKUP(LEFT(B6,4)+1&RIGHT(B6,3),cambi_mensili!$F:$F,cambi_mensili!$H:$H) -> 1121.464 | G6: =F6/1000-1 -> 0.12146397 | J6: 1999-04 | K6: =1000/cambi_mensili!I6 -> 1612.6921 | L6: =K6/dati!$D6 -> 14.752284 | M6: =L6*_xlfn.XLOOKUP(LEFT(J6,4)+1&RIGHT(J6,3),dati!$A:$A,dati!$D:$D) -> 1766.6974 | N6: =M6*_xlfn.XLOOKUP(LEFT(J6,4)+1&RIGHT(J6,3),cambi_mensili!$F:$F,cambi_mensili!$I:$I) -> 1126.7193 | O6: =N6/1000-1 -> 0.12671928 | Q6: =F6-N6 -> -5.2553114
B7: 1999-05 | C7: =1000/cambi_mensili!H7 -> 1532.802 | D7: =C7/dati!$B7 -> 12.752885 | E7: =D7*_xlfn.XLOOKUP(LEFT(B7,4)+1&RIGHT(B7,3),dati!$A:$A,dati!$B:$B) -> 1882.1205 | F7: =E7*_xlfn.XLOOKUP(LEFT(B7,4)+1&RIGHT(B7,3),cambi_mensili!$F:$F,cambi_mensili!$H:$H) -> 1171.62 | G7: =F7/1000-1 -> 0.17161999 | J7: 1999-05 | K7: =1000/cambi_mensili!I7 -> 1602.6977 | L7: =K7/dati!$D7 -> 15.014564 | M7: =L7*_xlfn.XLOOKUP(LEFT(J7,4)+1&RIGHT(J7,3),dati!$A:$A,dati!$D:$D) -> 1750.0814 | N7: =M7*_xlfn.XLOOKUP(LEFT(J7,4)+1&RIGHT(J7,3),cambi_mensili!$F:$F,cambi_mensili!$I:$I) -> 1171.0477 | O7: =N7/1000-1 -> 0.17104767 | Q7: =F7-N7 -> 0.57232453
B8: 1999-06 | C8: =1000/cambi_mensili!H8 -> 1523.6934 | D8: =C8/dati!$B8 -> 11.899529 | E8: =D8*_xlfn.XLOOKUP(LEFT(B8,4)+1&RIGHT(B8,3),dati!$A:$A,dati!$B:$B) -> 1739.4134 | F8: =E8*_xlfn.XLOOKUP(LEFT(B8,4)+1&RIGHT(B8,3),cambi_mensili!$F:$F,cambi_mensili!$H:$H) -> 1099.8311 | G8: =F8/1000-1 -> 0.099831073 | J8: 1999-06 | K8: =1000/cambi_mensili!I8 -> 1573.6706 | L8: =K8/dati!$D8 -> 13.994024 | M8: =L8*_xlfn.XLOOKUP(LEFT(J8,4)+1&RIGHT(J8,3),dati!$A:$A,dati!$D:$D) -> 1669.8207 | N8: =M8*_xlfn.XLOOKUP(LEFT(J8,4)+1&RIGHT(J8,3),cambi_mensili!$F:$F,cambi_mensili!$I:$I) -> 1104.8845 | O8: =N8/1000-1 -> 0.10488451 | Q8: =F8-N8 -> -5.0534334
B9: 1999-07 | C9: =1000/cambi_mensili!H9 -> 1515.6108 | D9: =C9/dati!$B9 -> 12.699251 | E9: =D9*_xlfn.XLOOKUP(LEFT(B9,4)+1&RIGHT(B9,3),dati!$A:$A,dati!$B:$B) -> 1885.4781 | F9: =E9*_xlfn.XLOOKUP(LEFT(B9,4)+1&RIGHT(B9,3),cambi_mensili!$F:$F,cambi_mensili!$H:$H) -> 1165.0369 | G9: =F9/1000-1 -> 0.16503689 | J9: 1999-07 | K9: =1000/cambi_mensili!I9 -> 1620.7942 | L9: =K9/dati!$D9 -> 14.900252 | M9: =L9*_xlfn.XLOOKUP(LEFT(J9,4)+1&RIGHT(J9,3),dati!$A:$A,dati!$D:$D) -> 1745.6964 | N9: =M9*_xlfn.XLOOKUP(LEFT(J9,4)+1&RIGHT(J9,3),cambi_mensili!$F:$F,cambi_mensili!$I:$I) -> 1167.0084 | O9: =N9/1000-1 -> 0.16700835 | Q9: =F9-N9 -> -1.9714595
B10: 1999-08 | C10: =1000/cambi_mensili!H10 -> 1518.6029 | D10: =C10/dati!$B10 -> 12.641502 | E10: =D10*_xlfn.XLOOKUP(LEFT(B10,4)+1&RIGHT(B10,3),dati!$A:$A,dati!$B:$B) -> 2057.3531 | F10: =E10*_xlfn.XLOOKUP(LEFT(B10,4)+1&RIGHT(B10,3),cambi_mensili!$F:$F,cambi_mensili!$H:$H) -> 1261.5689 | G10: =F10/1000-1 -> 0.26156893 | J10: 1999-08 | K10: =1000/cambi_mensili!I10 -> 1605.6188 | L10: =K10/dati!$D10 -> 14.85904 | M10: =L10*_xlfn.XLOOKUP(LEFT(J10,4)+1&RIGHT(J10,3),dati!$A:$A,dati!$D:$D) -> 1830.9081 | N10: =M10*_xlfn.XLOOKUP(LEFT(J10,4)+1&RIGHT(J10,3),cambi_mensili!$F:$F,cambi_mensili!$I:$I) -> 1260.6252 | O10: =N10/1000-1 -> 0.26062522 | Q10: =F10-N10 -> 0.94371284
B11: 1999-09 | C11: =1000/cambi_mensili!H11 -> 1544.4015 | D11: =C11/dati!$B11 -> 13.362764 | E11: =D11*_xlfn.XLOOKUP(LEFT(B11,4)+1&RIGHT(B11,3),dati!$A:$A,dati!$B:$B) -> 2071.2728 | F11: =E11*_xlfn.XLOOKUP(LEFT(B11,4)+1&RIGHT(B11,3),cambi_mensili!$F:$F,cambi_mensili!$H:$H) -> 1235.9285 | G11: =F11/1000-1 -> 0.2359285 | J11: 1999-09 | K11: =1000/cambi_mensili!I11 -> 1647.1042 | L11: =K11/dati!$D11 -> 15.714064 | M11: =L11*_xlfn.XLOOKUP(LEFT(J11,4)+1&RIGHT(J11,3),dati!$A:$A,dati!$D:$D) -> 1830.455 | N11: =M11*_xlfn.XLOOKUP(LEFT(J11,4)+1&RIGHT(J11,3),cambi_mensili!$F:$F,cambi_mensili!$I:$I) -> 1246.1295 | O11: =N11/1000-1 -> 0.24612949 | Q11: =F11-N11 -> -10.200996
B12: 1999-10 | C12: =1000/cambi_mensili!H12 -> 1564.2109 | D12: =C12/dati!$B12 -> 12.541046 | E12: =D12*_xlfn.XLOOKUP(LEFT(B12,4)+1&RIGHT(B12,3),dati!$A:$A,dati!$B:$B) -> 2008.8758 | F12: =E12*_xlfn.XLOOKUP(LEFT(B12,4)+1&RIGHT(B12,3),cambi_mensili!$F:$F,cambi_mensili!$H:$H) -> 1166.9559 | G12: =F12/1000-1 -> 0.16695593 | J12: 1999-10 | K12: =1000/cambi_mensili!I12 -> 1635.0696 | L12: =K12/dati!$D12 -> 14.64576 | M12: =L12*_xlfn.XLOOKUP(LEFT(J12,4)+1&RIGHT(J12,3),dati!$A:$A,dati!$D:$D) -> 1693.408 | N12: =M12*_xlfn.XLOOKUP(LEFT(J12,4)+1&RIGHT(J12,3),cambi_mensili!$F:$F,cambi_mensili!$I:$I) -> 1168.707 | O12: =N12/1000-1 -> 0.16870701 | Q12: =F12-N12 -> -1.7510827
B13: 1999-11 | C13: =1000/cambi_mensili!H13 -> 1581.0277 | D13: =C13/dati!$B13 -> 11.891783 | E13: =D13*_xlfn.XLOOKUP(LEFT(B13,4)+1&RIGHT(B13,3),dati!$A:$A,dati!$B:$B) -> 1707.7739 | F13: =E13*_xlfn.XLOOKUP(LEFT(B13,4)+1&RIGHT(B13,3),cambi_mensili!$F:$F,cambi_mensili!$H:$H) -> 1046.5239 | G13: =F13/1000-1 -> 0.046523858 | J13: 1999-11 | K13: =1000/cambi_mensili!I13 -> 1596.3636 | L13: =K13/dati!$D13 -> 14.002758 | M13: =L13*_xlfn.XLOOKUP(LEFT(J13,4)+1&RIGHT(J13,3),dati!$A:$A,dati!$D:$D) -> 1490.7512 | N13: =M13*_xlfn.XLOOKUP(LEFT(J13,4)+1&RIGHT(J13,3),cambi_mensili!$F:$F,cambi_mensili!$I:$I) -> 1051.9718 | O13: =N13/1000-1 -> 0.051971829 | Q13: =F13-N13 -> -5.4479704
B14: 1999-12 | C14: =1000/cambi_mensili!H14 -> 1608.4928 | D14: =C14/dati!$B14 -> 11.261469 | E14: =D14*_xlfn.XLOOKUP(LEFT(B14,4)+1&RIGHT(B14,3),dati!$A:$A,dati!$B:$B) -> 1496.7387 | F14: =E14*_xlfn.XLOOKUP(LEFT(B14,4)+1&RIGHT(B14,3),cambi_mensili!$F:$F,cambi_mensili!$H:$H) -> 934.11465 | G14: =F14/1000-1 -> -0.065885348 | J14: 1999-12 | K14: =1000/cambi_mensili!I14 -> 1615.8919 | L14: =K14/dati!$D14 -> 13.253464 | M14: =L14*_xlfn.XLOOKUP(LEFT(J14,4)+1&RIGHT(J14,3),dati!$A:$A,dati!$D:$D) -> 1408.3675 | N14: =M14*_xlfn.XLOOKUP(LEFT(J14,4)+1&RIGHT(J14,3),cambi_mensili!$F:$F,cambi_mensili!$I:$I) -> 944.61274 | O14: =N14/1000-1 -> -0.055387265 | Q14: =F14-N14 -> -10.498083
B15: 2000-01 | C15: =1000/cambi_mensili!H15 -> 1653.7126 | D15: =C15/dati!$B15 -> 11.943637 | E15: =D15*_xlfn.XLOOKUP(LEFT(B15,4)+1&RIGHT(B15,3),dati!$A:$A,dati!$B:$B) -> 1660.7504 | F15: =E15*_xlfn.XLOOKUP(LEFT(B15,4)+1&RIGHT(B15,3),cambi_mensili!$F:$F,cambi_mensili!$H:$H) -> 1057.3998 | G15: =F15/1000-1 -> 0.057399754 | J15: 2000-01 | K15: =1000/cambi_mensili!I15 -> 1619.15 | L15: =K15/dati!$D15 -> 14.035568 | M15: =L15*_xlfn.XLOOKUP(LEFT(J15,4)+1&RIGHT(J15,3),dati!$A:$A,dati!$D:$D) -> 1545.5987 | N15: =M15*_xlfn.XLOOKUP(LEFT(J15,4)+1&RIGHT(J15,3),cambi_mensili!$F:$F,cambi_mensili!$I:$I) -> 1058.9505 | O15: =N15/1000-1 -> 0.05895052 | Q15: =F15-N15 -> -1.5507658
B16: 2000-02 | C16: =1000/cambi_mensili!H16 -> 1630.2576 | D16: =C16/dati!$B16 -> 11.871966 | E16: =D16*_xlfn.XLOOKUP(LEFT(B16,4)+1&RIGHT(B16,3),dati!$A:$A,dati!$B:$B) -> 1519.5937 | F16: =E16*_xlfn.XLOOKUP(LEFT(B16,4)+1&RIGHT(B16,3),cambi_mensili!$F:$F,cambi_mensili!$H:$H) -> 970.56447 | G16: =F16/1000-1 -> -0.029435533 | J16: 2000-02 | K16: =1000/cambi_mensili!I16 -> 1583.6322 | L16: =K16/dati!$D16 -> 14.065909 | M16: =L16*_xlfn.XLOOKUP(LEFT(J16,4)+1&RIGHT(J16,3),dati!$A:$A,dati!$D:$D) -> 1409.9737 | N16: =M16*_xlfn.XLOOKUP(LEFT(J16,4)+1&RIGHT(J16,3),cambi_mensili!$F:$F,cambi_mensili!$I:$I) -> 973.77832 | O16: =N16/1000-1 -> -0.026221681 | Q16: =F16-N16 -> -3.213852
B17: 2000-03 | C17: =1000/cambi_mensili!H17 -> 1670.8438 | D17: =C17/dati!$B17 -> 10.998761 | E17: =D17*_xlfn.XLOOKUP(LEFT(B17,4)+1&RIGHT(B17,3),dati!$A:$A,dati!$B:$B) -> 1370.7646 | F17: =E17*_xlfn.XLOOKUP(LEFT(B17,4)+1&RIGHT(B17,3),cambi_mensili!$F:$F,cambi_mensili!$H:$H) -> 848.77742 | G17: =F17/1000-1 -> -0.15122258 | J17: 2000-03 | K17: =1000/cambi_mensili!I17 -> 1596.1571 | L17: =K17/dati!$D17 -> 12.8937 | M17: =L17*_xlfn.XLOOKUP(LEFT(J17,4)+1&RIGHT(J17,3),dati!$A:$A,dati!$D:$D) -> 1209.7297 | N17: =M17*_xlfn.XLOOKUP(LEFT(J17,4)+1&RIGHT(J17,3),cambi_mensili!$F:$F,cambi_mensili!$I:$I) -> 848.12574 | O17: =N17/1000-1 -> -0.15187426 | Q17: =F17-N17 -> 0.6516773
... B285: 2022-07 | C285: =1000/cambi_mensili!H285 -> 1190.6179 | D285: =C285/dati!$B285 -> 2.3152229 | E285: =D285*_xlfn.XLOOKUP(LEFT(B285,4)+1&RIGHT(B285,3),dati!$A:$A,dati!$B:$B) -> 1239.6294 | F285: =E285*_xlfn.XLOOKUP(LEFT(B285,4)+1&RIGHT(B285,3),cambi_mensili!$F:$F,cambi_mensili!$H:$H) -> 1063.1682 | G285: =F285/1000-1 -> 0.063168181 | J285: 2022-07 | K285: =1000/cambi_mensili!I285 -> 1214.1922 | L285: =K285/dati!$D285 -> 2.7190504 | M285: =L285*_xlfn.XLOOKUP(LEFT(J285,4)+1&RIGHT(J285,3),dati!$A:$A,dati!$D:$D) -> 1366.9545 | N285: =M285*_xlfn.XLOOKUP(LEFT(J285,4)+1&RIGHT(J285,3),cambi_mensili!$F:$F,cambi_mensili!$I:$I) -> 1063.5657 | O285: =N285/1000-1 -> 0.063565744 | Q285: =F285-N285 -> -0.39756236

Sheet XD9U
A1: Date | B1: XD9U.MI EUR | E1: Date | F1: XD9U.L USD | I1: Data | J1: XD9U.MI EUR | K1: XD9U.L USD | L1: controllo se il cambio funziona
A2: 41904 | B2: 39.195 | C2: =YEAR(A2)&"-"&IF(MONTH(A2)<10,"0"&MONTH(A2),MONTH(A2)) -> 2014-09 | E2: 41904 | F2: 50.18 | G2: =YEAR(E2)&"-"&IF(MONTH(E2)<10,"0"&MONTH(E2),MONTH(E2)) -> 2014-09 | I2: 2014-09 | J2: =_xlfn.XLOOKUP($I2,$C:$C,B:B,"xxx",0,-1) -> 39.11 | K2: =_xlfn.XLOOKUP($I2,$G:$G,F:F,"xxx",0,-1) -> 49.880001 | L2: =J2*_xlfn.XLOOKUP(I2,cambi_mensili!F:F,cambi_mensili!G:G) -> 49.212113
A3: 41905 | B3: 39.195 | C3: =YEAR(A3)&"-"&IF(MONTH(A3)<10,"0"&MONTH(A3),MONTH(A3)) -> 2014-09 | E3: 41905 | F3: 50.009998 | G3: =YEAR(E3)&"-"&IF(MONTH(E3)<10,"0"&MONTH(E3),MONTH(E3)) -> 2014-09 | I3: 2014-10 | J3: =_xlfn.XLOOKUP($I3,$C:$C,B:B,"xxx",0,-1) -> 39.46 | K3: =_xlfn.XLOOKUP($I3,$G:$G,F:F,"xxx",0,-1) -> 50.654999 | L3: =J3*_xlfn.XLOOKUP(I3,cambi_mensili!F:F,cambi_mensili!G:G) -> 49.419704
A4: 41906 | B4: 39.195 | C4: =YEAR(A4)&"-"&IF(MONTH(A4)<10,"0"&MONTH(A4),MONTH(A4)) -> 2014-09 | E4: 41906 | F4: 50.055 | G4: =YEAR(E4)&"-"&IF(MONTH(E4)<10,"0"&MONTH(E4),MONTH(E4)) -> 2014-09 | I4: 2014-11 | J4: =_xlfn.XLOOKUP($I4,$C:$C,B:B,"xxx",0,-1) -> 42.015 | K4: =_xlfn.XLOOKUP($I4,$G:$G,F:F,"xxx",0,-1) -> 52.235001 | L4: =J4*_xlfn.XLOOKUP(I4,cambi_mensili!F:F,cambi_mensili!G:G) -> 52.447325
A5: 41907 | B5: 39.45 | C5: =YEAR(A5)&"-"&IF(MONTH(A5)<10,"0"&MONTH(A5),MONTH(A5)) -> 2014-09 | E5: 41907 | F5: 49.654999 | G5: =YEAR(E5)&"-"&IF(MONTH(E5)<10,"0"&MONTH(E5),MONTH(E5)) -> 2014-09 | I5: 2014-12 | J5: =_xlfn.XLOOKUP($I5,$C:$C,B:B,"xxx",0,-1) -> 43.295 | K5: =_xlfn.XLOOKUP($I5,$G:$G,F:F,"xxx",0,-1) -> 52.544998 | L5: =J5*_xlfn.XLOOKUP(I5,cambi_mensili!F:F,cambi_mensili!G:G) -> 52.564459
A6: 41908 | B6: 39.45 | C6: =YEAR(A6)&"-"&IF(MONTH(A6)<10,"0"&MONTH(A6),MONTH(A6)) -> 2014-09 | E6: 41908 | F6: 49.555 | G6: =YEAR(E6)&"-"&IF(MONTH(E6)<10,"0"&MONTH(E6),MONTH(E6)) -> 2014-09 | I6: 2015-01 | J6: =_xlfn.XLOOKUP($I6,$C:$C,B:B,"xxx",0,-1) -> 46.145 | K6: =_xlfn.XLOOKUP($I6,$G:$G,F:F,"xxx",0,-1) -> 50.700001 | L6: =J6*_xlfn.XLOOKUP(I6,cambi_mensili!F:F,cambi_mensili!G:G) -> 52.166923
A7: 41911 | B7: 39.11 | C7: =YEAR(A7)&"-"&IF(MONTH(A7)<10,"0"&MONTH(A7),MONTH(A7)) -> 2014-09 | E7: 41911 | F7: 49.755001 | G7: =YEAR(E7)&"-"&IF(MONTH(E7)<10,"0"&MONTH(E7),MONTH(E7)) -> 2014-09 | I7: 2015-02 | J7: =_xlfn.XLOOKUP($I7,$C:$C,B:B,"xxx",0,-1) -> 47.165 | K7: =_xlfn.XLOOKUP($I7,$G:$G,F:F,"xxx",0,-1) -> 53.465 | L7: =J7*_xlfn.XLOOKUP(I7,cambi_mensili!F:F,cambi_mensili!G:G) -> 53.01346
A8: 41912 | B8: 39.11 | C8: =YEAR(A8)&"-"&IF(MONTH(A8)<10,"0"&MONTH(A8),MONTH(A8)) -> 2014-09 | E8: 41912 | F8: 49.880001 | G8: =YEAR(E8)&"-"&IF(MONTH(E8)<10,"0"&MONTH(E8),MONTH(E8)) -> 2014-09 | I8: 2015-03 | J8: =_xlfn.XLOOKUP($I8,$C:$C,B:B,"xxx",0,-1) -> 47.615 | K8: =_xlfn.XLOOKUP($I8,$G:$G,F:F,"xxx",0,-1) -> 52.889999 | L8: =J8*_xlfn.XLOOKUP(I8,cambi_mensili!F:F,cambi_mensili!G:G) -> 51.228979
A9: 41913 | B9: 39.11 | C9: =YEAR(A9)&"-"&IF(MONTH(A9)<10,"0"&MONTH(A9),MONTH(A9)) -> 2014-10 | E9: 41913 | F9: 49.255001 | G9: =YEAR(E9)&"-"&IF(MONTH(E9)<10,"0"&MONTH(E9),MONTH(E9)) -> 2014-10 | I9: 2015-04 | J9: =_xlfn.XLOOKUP($I9,$C:$C,B:B,"xxx",0,-1) -> 48.51 | K9: =_xlfn.XLOOKUP($I9,$G:$G,F:F,"xxx",0,-1) -> 53.389999 | L9: =J9*_xlfn.XLOOKUP(I9,cambi_mensili!F:F,cambi_mensili!G:G) -> 54.403965
A10: 41914 | B10: 38.625 | C10: =YEAR(A10)&"-"&IF(MONTH(A10)<10,"0"&MONTH(A10),MONTH(A10)) -> 2014-10 | E10: 41914 | F10: 48.610001 | G10: =YEAR(E10)&"-"&IF(MONTH(E10)<10,"0"&MONTH(E10),MONTH(E10)) -> 2014-10 | I10: 2015-05 | J10: =_xlfn.XLOOKUP($I10,$C:$C,B:B,"xxx",0,-1) -> 49.55 | K10: =_xlfn.XLOOKUP($I10,$G:$G,F:F,"xxx",0,-1) -> 53.68 | L10: =J10*_xlfn.XLOOKUP(I10,cambi_mensili!F:F,cambi_mensili!G:G) -> 54.35635
A11: 41915 | B11: 38.625 | C11: =YEAR(A11)&"-"&IF(MONTH(A11)<10,"0"&MONTH(A11),MONTH(A11)) -> 2014-10 | E11: 41915 | F11: 49.360001 | G11: =YEAR(E11)&"-"&IF(MONTH(E11)<10,"0"&MONTH(E11),MONTH(E11)) -> 2014-10 | I11: 2015-06 | J11: =_xlfn.XLOOKUP($I11,$C:$C,B:B,"xxx",0,-1) -> 48.005 | K11: =_xlfn.XLOOKUP($I11,$G:$G,F:F,"xxx",0,-1) -> 52.73 | L11: =J11*_xlfn.XLOOKUP(I11,cambi_mensili!F:F,cambi_mensili!G:G) -> 53.712795
A12: 41918 | B12: 39.46 | C12: =YEAR(A12)&"-"&IF(MONTH(A12)<10,"0"&MONTH(A12),MONTH(A12)) -> 2014-10 | E12: 41918 | F12: 49.439999 | G12: =YEAR(E12)&"-"&IF(MONTH(E12)<10,"0"&MONTH(E12),MONTH(E12)) -> 2014-10 | I12: 2015-07 | J12: =_xlfn.XLOOKUP($I12,$C:$C,B:B,"xxx",0,-1) -> 50.35 | K12: =_xlfn.XLOOKUP($I12,$G:$G,F:F,"xxx",0,-1) -> 53.959999 | L12: =J12*_xlfn.XLOOKUP(I12,cambi_mensili!F:F,cambi_mensili!G:G) -> 55.218845
A13: 41919 | B13: 39.46 | C13: =YEAR(A13)&"-"&IF(MONTH(A13)<10,"0"&MONTH(A13),MONTH(A13)) -> 2014-10 | E13: 41919 | F13: 50 | G13: =YEAR(E13)&"-"&IF(MONTH(E13)<10,"0"&MONTH(E13),MONTH(E13)) -> 2014-10 | I13: 2015-08 | J13: =_xlfn.XLOOKUP($I13,$C:$C,B:B,"xxx",0,-1) -> 44.99 | K13: =_xlfn.XLOOKUP($I13,$G:$G,F:F,"xxx",0,-1) -> 50.990002 | L13: =J13*_xlfn.XLOOKUP(I13,cambi_mensili!F:F,cambi_mensili!G:G) -> 50.456285
... A108: 42059 | B108: 47.13 | C108: =YEAR(A108)&"-"&IF(MONTH(A108)<10,"0"&MONTH(A108),MONTH(A108)) -> 2015-02 | E108: 42055 | F108: 53.095001 | G108: =YEAR(E108)&"-"&IF(MONTH(E108)<10,"0"&MONTH(E108),MONTH(E108)) -> 2015-02 | I108: 2023-07 | J108: =_xlfn.XLOOKUP($I108,$C:$C,B:B,"xxx",0,-1) -> 119 | K108: =_xlfn.XLOOKUP($I108,$G:$G,F:F,"xxx",0,-1) -> 131.03 | L108: =J108*_xlfn.XLOOKUP(I108,cambi_mensili!F:F,cambi_mensili!G:G) -> 131.1737
A109: 42060 | B109: 47.165 | C109: =YEAR(A109)&"-"&IF(MONTH(A109)<10,"0"&MONTH(A109),MONTH(A109)) -> 2015-02 | E109: 42058 | F109: 53.435001 | G109: =YEAR(E109)&"-"&IF(MONTH(E109)<10,"0"&MONTH(E109),MONTH(E109)) -> 2015-02
A110: 42061 | B110: 47.165 | C110: =YEAR(A110)&"-"&IF(MONTH(A110)<10,"0"&MONTH(A110),MONTH(A110)) -> 2015-02 | E110: 42059 | F110: 53.599998 | G110: =YEAR(E110)&"-"&IF(MONTH(E110)<10,"0"&MONTH(E110),MONTH(E110)) -> 2015-02
A111: 42062 | B111: 47.165 | C111: =YEAR(A111)&"-"&IF(MONTH(A111)<10,"0"&MONTH(A111),MONTH(A111)) -> 2015-02 | E111: 42060 | F111: 53.599998 | G111: =YEAR(E111)&"-"&IF(MONTH(E111)<10,"0"&MONTH(E111),MONTH(E111)) -> 2015-02
A112: 42065 | B112: 47.68 | C112: =YEAR(A112)&"-"&IF(MONTH(A112)<10,"0"&MONTH(A112),MONTH(A112)) -> 2015-03 | E112: 42061 | F112: 53.555 | G112: =YEAR(E112)&"-"&IF(MONTH(E112)<10,"0"&MONTH(E112),MONTH(E112)) -> 2015-02
A113: 42066 | B113: 47.655 | C113: =YEAR(A113)&"-"&IF(MONTH(A113)<10,"0"&MONTH(A113),MONTH(A113)) -> 2015-03 | E113: 42062 | F113: 53.465 | G113: =YEAR(E113)&"-"&IF(MONTH(E113)<10,"0"&MONTH(E113),MONTH(E113)) -> 2015-02
A114: 42067 | B114: 47.655 | C114: =YEAR(A114)&"-"&IF(MONTH(A114)<10,"0"&MONTH(A114),MONTH(A114)) -> 2015-03 | E114: 42065 | F114: 53.549999 | G114: =YEAR(E114)&"-"&IF(MONTH(E114)<10,"0"&MONTH(E114),MONTH(E114)) -> 2015-03
A115: 42068 | B115: 47.655 | C115: =YEAR(A115)&"-"&IF(MONTH(A115)<10,"0"&MONTH(A115),MONTH(A115)) -> 2015-03 | E115: 42066 | F115: 53.345001 | G115: =YEAR(E115)&"-"&IF(MONTH(E115)<10,"0"&MONTH(E115),MONTH(E115)) -> 2015-03
A116: 42069 | B116: 47.655 | C116: =YEAR(A116)&"-"&IF(MONTH(A116)<10,"0"&MONTH(A116),MONTH(A116)) -> 2015-03 | E116: 42067 | F116: 53.130001 | G116: =YEAR(E116)&"-"&IF(MONTH(E116)<10,"0"&MONTH(E116),MONTH(E116)) -> 2015-03
A117: 42072 | B117: 47.655 | C117: =YEAR(A117)&"-"&IF(MONTH(A117)<10,"0"&MONTH(A117),MONTH(A117)) -> 2015-03 | E117: 42068 | F117: 53.255001 | G117: =YEAR(E117)&"-"&IF(MONTH(E117)<10,"0"&MONTH(E117),MONTH(E117)) -> 2015-03
A118: 42073 | B118: 47.655 | C118: =YEAR(A118)&"-"&IF(MONTH(A118)<10,"0"&MONTH(A118),MONTH(A118)) -> 2015-03 | E118: 42069 | F118: 52.810001 | G118: =YEAR(E118)&"-"&IF(MONTH(E118)<10,"0"&MONTH(E118),MONTH(E118)) -> 2015-03
A119: 42074 | B119: 47.655 | C119: =YEAR(A119)&"-"&IF(MONTH(A119)<10,"0"&MONTH(A119),MONTH(A119)) -> 2015-03 | E119: 42072 | F119: 52.700001 | G119: =YEAR(E119)&"-"&IF(MONTH(E119)<10,"0"&MONTH(E119),MONTH(E119)) -> 2015-03
A120: 42075 | B120: 48.94 | C120: =YEAR(A120)&"-"&IF(MONTH(A120)<10,"0"&MONTH(A120),MONTH(A120)) -> 2015-03 | E120: 42073 | F120: 52 | G120: =YEAR(E120)&"-"&IF(MONTH(E120)<10,"0"&MONTH(E120),MONTH(E120)) -> 2015-03
... A2238: 45117 | B2238: 114.17 | C2238: =YEAR(A2238)&"-"&IF(MONTH(A2238)<10,"0"&MONTH(A2238),MONTH(A2238)) -> 2023-07 | E2238: 45138 | F2238: 131.03 | G2238: =YEAR(E2238)&"-"&IF(MONTH(E2238)<10,"0"&MONTH(E2238),MONTH(E2238)) -> 2023-07
A2239: 45118 | B2239: 114.84 | C2239: =YEAR(A2239)&"-"&IF(MONTH(A2239)<10,"0"&MONTH(A2239),MONTH(A2239)) -> 2023-07
A2240: 45119 | B2240: 115.14 | C2240: =YEAR(A2240)&"-"&IF(MONTH(A2240)<10,"0"&MONTH(A2240),MONTH(A2240)) -> 2023-07
A2241: 45120 | B2241: 114.73 | C2241: =YEAR(A2241)&"-"&IF(MONTH(A2241)<10,"0"&MONTH(A2241),MONTH(A2241)) -> 2023-07
A2242: 45121 | B2242: 114.67 | C2242: =YEAR(A2242)&"-"&IF(MONTH(A2242)<10,"0"&MONTH(A2242),MONTH(A2242)) -> 2023-07
A2243: 45124 | B2243: 114.8 | C2243: =YEAR(A2243)&"-"&IF(MONTH(A2243)<10,"0"&MONTH(A2243),MONTH(A2243)) -> 2023-07
A2244: 45125 | B2244: 115.46 | C2244: =YEAR(A2244)&"-"&IF(MONTH(A2244)<10,"0"&MONTH(A2244),MONTH(A2244)) -> 2023-07
A2245: 45126 | B2245: 116.67 | C2245: =YEAR(A2245)&"-"&IF(MONTH(A2245)<10,"0"&MONTH(A2245),MONTH(A2245)) -> 2023-07
A2246: 45127 | B2246: 116.6 | C2246: =YEAR(A2246)&"-"&IF(MONTH(A2246)<10,"0"&MONTH(A2246),MONTH(A2246)) -> 2023-07
A2247: 45128 | B2247: 116.85 | C2247: =YEAR(A2247)&"-"&IF(MONTH(A2247)<10,"0"&MONTH(A2247),MONTH(A2247)) -> 2023-07
A2248: 45131 | B2248: 117.37 | C2248: =YEAR(A2248)&"-"&IF(MONTH(A2248)<10,"0"&MONTH(A2248),MONTH(A2248)) -> 2023-07
A2249: 45132 | B2249: 118.03 | C2249: =YEAR(A2249)&"-"&IF(MONTH(A2249)<10,"0"&MONTH(A2249),MONTH(A2249)) -> 2023-07
A2250: 45133 | B2250: 117.54 | C2250: =YEAR(A2250)&"-"&IF(MONTH(A2250)<10,"0"&MONTH(A2250),MONTH(A2250)) -> 2023-07
... A2253: 45138 | B2253: 119 | C2253: =YEAR(A2253)&"-"&IF(MONTH(A2253)<10,"0"&MONTH(A2253),MONTH(A2253)) -> 2023-07

Sheet simulazioni XD9U
A1: ho 1k EUR | B1: Data acquisto | C1: EUR partenza | D1: Quote | E1: Valore finale | F1: Rendimento | H1: ho 1k EUR | I1: Data acquisto | J1: USD partenza | K1: Quote | L1: Valore finale USD | M1: Valore finale EUR | N1: Rendimento
A2: compro XD9U.MI EUR | B2: 2014-09 | C2: 1000 | D2: =C2/XD9U!J2 -> 25.568908 | E2: =D2*_xlfn.XLOOKUP(LEFT(B2,4)+1&RIGHT(B2,3),XD9U!I:I,XD9U!J:J) -> 1119.0233 | F2: =E2/1000-1 -> 0.11902327 | H2: la banca mi cambia in USD | I2: 2014-09 | J2: =1000*cambi_mensili!$G191 -> 1258.3 | K2: =J2/XD9U!K2 -> 25.226543 | L2: =K2*_xlfn.XLOOKUP(LEFT(I2,4)+1&RIGHT(I2,3),XD9U!I:I,XD9U!K:K) -> 1232.9473 | M2: =L2/_xlfn.XLOOKUP(LEFT(I2,4)+1&RIGHT(I2,3),cambi_mensili!$F:$F,cambi_mensili!$G:$G) -> 1100.551 | N2: =M2/1000-1 -> 0.10055101 | P2: =E2-M2 -> 18.472256
A3: lo tengo 1 anno | B3: 2014-10 | C3: 1000 | D3: =C3/XD9U!J3 -> 25.342119 | E3: =D3*_xlfn.XLOOKUP(LEFT(B3,4)+1&RIGHT(B3,3),XD9U!I:I,XD9U!J:J) -> 1234.1612 | F3: =E3/1000-1 -> 0.23416118 | H3: compro XD9U.L USD | I3: 2014-10 | J3: =1000*cambi_mensili!$G192 -> 1252.4 | K3: =J3/XD9U!K3 -> 24.724115 | L3: =K3*_xlfn.XLOOKUP(LEFT(I3,4)+1&RIGHT(I3,3),XD9U!I:I,XD9U!K:K) -> 1319.2788 | M3: =L3/_xlfn.XLOOKUP(LEFT(I3,4)+1&RIGHT(I3,3),cambi_mensili!$F:$F,cambi_mensili!$G:$G) -> 1197.4937 | N3: =M3/1000-1 -> 0.19749367 | P3: =E3-M3 -> 36.667503
B4: 2014-11 | C4: 1000 | D4: =C4/XD9U!J4 -> 23.801023 | E4: =D4*_xlfn.XLOOKUP(LEFT(B4,4)+1&RIGHT(B4,3),XD9U!I:I,XD9U!J:J) -> 1203.8558 | F4: =E4/1000-1 -> 0.20385577 | H4: lo tengo 1 anno | I4: 2014-11 | J4: =1000*cambi_mensili!$G193 -> 1248.3 | K4: =J4/XD9U!K4 -> 23.897769 | L4: =K4*_xlfn.XLOOKUP(LEFT(I4,4)+1&RIGHT(I4,3),XD9U!I:I,XD9U!K:K) -> 1276.9773 | M4: =L4/_xlfn.XLOOKUP(LEFT(I4,4)+1&RIGHT(I4,3),cambi_mensili!$F:$F,cambi_mensili!$G:$G) -> 1207.087 | N4: =M4/1000-1 -> 0.20708699 | P4: =E4-M4 -> -3.2312208
B5: 2014-12 | C5: 1000 | D5: =C5/XD9U!J5 -> 23.097355 | E5: =D5*_xlfn.XLOOKUP(LEFT(B5,4)+1&RIGHT(B5,3),XD9U!I:I,XD9U!J:J) -> 1124.3793 | F5: =E5/1000-1 -> 0.12437926 | H5: la banca mi ricambia in EUR | I5: 2014-12 | J5: =1000*cambi_mensili!$G194 -> 1214.1 | K5: =J5/XD9U!K5 -> 23.10591 | L5: =K5*_xlfn.XLOOKUP(LEFT(I5,4)+1&RIGHT(I5,3),XD9U!I:I,XD9U!K:K) -> 1219.2989 | M5: =L5/_xlfn.XLOOKUP(LEFT(I5,4)+1&RIGHT(I5,3),cambi_mensili!$F:$F,cambi_mensili!$G:$G) -> 1119.9586 | N5: =M5/1000-1 -> 0.11995855 | P5: =E5-M5 -> 4.4207062
B6: 2015-01 | C6: 1000 | D6: =C6/XD9U!J6 -> 21.67082 | E6: =D6*_xlfn.XLOOKUP(LEFT(B6,4)+1&RIGHT(B6,3),XD9U!I:I,XD9U!J:J) -> 957.09178 | F6: =E6/1000-1 -> -0.042908224 | I6: 2015-01 | J6: =1000*cambi_mensili!$G195 -> 1130.5 | K6: =J6/XD9U!K6 -> 22.29783 | L6: =K6*_xlfn.XLOOKUP(LEFT(I6,4)+1&RIGHT(I6,3),XD9U!I:I,XD9U!K:K) -> 1092.1477 | M6: =L6/_xlfn.XLOOKUP(LEFT(I6,4)+1&RIGHT(I6,3),cambi_mensili!$F:$F,cambi_mensili!$G:$G) -> 1000.1353 | N6: =M6/1000-1 -> 0.00013526576 | P6: =E6-M6 -> -43.04349
B7: 2015-02 | C7: 1000 | D7: =C7/XD9U!J7 -> 21.202163 | E7: =D7*_xlfn.XLOOKUP(LEFT(B7,4)+1&RIGHT(B7,3),XD9U!I:I,XD9U!J:J) -> 974.02735 | F7: =E7/1000-1 -> -0.025972649 | I7: 2015-02 | J7: =1000*cambi_mensili!$G196 -> 1124 | K7: =J7/XD9U!K7 -> 21.023099 | L7: =K7*_xlfn.XLOOKUP(LEFT(I7,4)+1&RIGHT(I7,3),XD9U!I:I,XD9U!K:K) -> 1050.209 | M7: =L7/_xlfn.XLOOKUP(LEFT(I7,4)+1&RIGHT(I7,3),cambi_mensili!$F:$F,cambi_mensili!$G:$G) -> 964.55636 | N7: =M7/1000-1 -> -0.035443641 | P7: =E7-M7 -> 9.4709917
B8: 2015-03 | C8: 1000 | D8: =C8/XD9U!J8 -> 21.001785 | E8: =D8*_xlfn.XLOOKUP(LEFT(B8,4)+1&RIGHT(B8,3),XD9U!I:I,XD9U!J:J) -> 983.72362 | F8: =E8/1000-1 -> -0.016276383 | I8: 2015-03 | J8: =1000*cambi_mensili!$G197 -> 1075.9 | K8: =J8/XD9U!K8 -> 20.34222 | L8: =K8*_xlfn.XLOOKUP(LEFT(I8,4)+1&RIGHT(I8,3),XD9U!I:I,XD9U!K:K) -> 1076.612 | M8: =L8/_xlfn.XLOOKUP(LEFT(I8,4)+1&RIGHT(I8,3),cambi_mensili!$F:$F,cambi_mensili!$G:$G) -> 945.64074 | N8: =M8/1000-1 -> -0.054359264 | P8: =E8-M8 -> 38.082881
B9: 2015-04 | C9: 1000 | D9: =C9/XD9U!J9 -> 20.614306 | E9: =D9*_xlfn.XLOOKUP(LEFT(B9,4)+1&RIGHT(B9,3),XD9U!I:I,XD9U!J:J) -> 963.92496 | F9: =E9/1000-1 -> -0.036075036 | I9: 2015-04 | J9: =1000*cambi_mensili!$G198 -> 1121.5 | K9: =J9/XD9U!K9 -> 21.005807 | L9: =K9*_xlfn.XLOOKUP(LEFT(I9,4)+1&RIGHT(I9,3),XD9U!I:I,XD9U!K:K) -> 1109.9468 | M9: =L9/_xlfn.XLOOKUP(LEFT(I9,4)+1&RIGHT(I9,3),cambi_mensili!$F:$F,cambi_mensili!$G:$G) -> 973.38141 | N9: =M9/1000-1 -> -0.026618585 | P9: =E9-M9 -> -9.4564509
B10: 2015-05 | C10: 1000 | D10: =C10/XD9U!J10 -> 20.181635 | E10: =D10*_xlfn.XLOOKUP(LEFT(B10,4)+1&RIGHT(B10,3),XD9U!I:I,XD9U!J:J) -> 980.72654 | F10: =E10/1000-1 -> -0.019273461 | I10: 2015-05 | J10: =1000*cambi_mensili!$G199 -> 1097 | K10: =J10/XD9U!K10 -> 20.435917 | L10: =K10*_xlfn.XLOOKUP(LEFT(I10,4)+1&RIGHT(I10,3),XD9U!I:I,XD9U!K:K) -> 1103.4373 | M10: =L10/_xlfn.XLOOKUP(LEFT(I10,4)+1&RIGHT(I10,3),cambi_mensili!$F:$F,cambi_mensili!$G:$G) -> 989.27496 | N10: =M10/1000-1 -> -0.010725037 | P10: =E10-M10 -> -8.5484237
B11: 2015-06 | C11: 1000 | D11: =C11/XD9U!J11 -> 20.831163 | E11: =D11*_xlfn.XLOOKUP(LEFT(B11,4)+1&RIGHT(B11,3),XD9U!I:I,XD9U!J:J) -> 993.6465 | F11: =E11/1000-1 -> -0.0063535048 | I11: 2015-06 | J11: =1000*cambi_mensili!$G200 -> 1118.9 | K11: =J11/XD9U!K11 -> 21.21942 | L11: =K11*_xlfn.XLOOKUP(LEFT(I11,4)+1&RIGHT(I11,3),XD9U!I:I,XD9U!K:K) -> 1140.0133 | M11: =L11/_xlfn.XLOOKUP(LEFT(I11,4)+1&RIGHT(I11,3),cambi_mensili!$F:$F,cambi_mensili!$G:$G) -> 1026.854 | N11: =M11/1000-1 -> 0.026853972 | P11: =E11-M11 -> -33.207477
B12: 2015-07 | C12: 1000 | D12: =C12/XD9U!J12 -> 19.860973 | E12: =D12*_xlfn.XLOOKUP(LEFT(B12,4)+1&RIGHT(B12,3),XD9U!I:I,XD9U!J:J) -> 995.03476 | F12: =E12/1000-1 -> -0.0049652433 | I12: 2015-07 | J12: =1000*cambi_mensili!$G201 -> 1096.7 | K12: =J12/XD9U!K12 -> 20.324315 | L12: =K12*_xlfn.XLOOKUP(LEFT(I12,4)+1&RIGHT(I12,3),XD9U!I:I,XD9U!K:K) -> 1141.6167 | M12: =L12/_xlfn.XLOOKUP(LEFT(I12,4)+1&RIGHT(I12,3),cambi_mensili!$F:$F,cambi_mensili!$G:$G) -> 1027.2804 | N12: =M12/1000-1 -> 0.027280406 | P12: =E12-M12 -> -32.245649
B13: 2015-08 | C13: 1000 | D13: =C13/XD9U!J13 -> 22.227162 | E13: =D13*_xlfn.XLOOKUP(LEFT(B13,4)+1&RIGHT(B13,3),XD9U!I:I,XD9U!J:J) -> 1124.4721 | F13: =E13/1000-1 -> 0.1244721 | I13: 2015-08 | J13: =1000*cambi_mensili!$G202 -> 1121.5 | K13: =J13/XD9U!K13 -> 21.994508 | L13: =K13*_xlfn.XLOOKUP(LEFT(I13,4)+1&RIGHT(I13,3),XD9U!I:I,XD9U!K:K) -> 1235.4315 | M13: =L13/_xlfn.XLOOKUP(LEFT(I13,4)+1&RIGHT(I13,3),cambi_mensili!$F:$F,cambi_mensili!$G:$G) -> 1109.8019 | N13: =M13/1000-1 -> 0.10980189 | P13: =E13-M13 -> 14.670216
B14: 2015-09 | C14: 1000 | D14: =C14/XD9U!J14 -> 22.849309 | E14: =D14*_xlfn.XLOOKUP(LEFT(B14,4)+1&RIGHT(B14,3),XD9U!I:I,XD9U!J:J) -> 1143.6079 | F14: =E14/1000-1 -> 0.14360791 | I14: 2015-09 | J14: =1000*cambi_mensili!$G203 -> 1120.3 | K14: =J14/XD9U!K14 -> 22.921739 | L14: =K14*_xlfn.XLOOKUP(LEFT(I14,4)+1&RIGHT(I14,3),XD9U!I:I,XD9U!K:K) -> 1291.067 | M14: =L14/_xlfn.XLOOKUP(LEFT(I14,4)+1&RIGHT(I14,3),cambi_mensili!$F:$F,cambi_mensili!$G:$G) -> 1156.7664 | N14: =M14/1000-1 -> 0.1567664 | P14: =E14-M14 -> -13.158495
B15: 2015-10 | C15: 1000 | D15: =C15/XD9U!J15 -> 20.533881 | E15: =D15*_xlfn.XLOOKUP(LEFT(B15,4)+1&RIGHT(B15,3),XD9U!I:I,XD9U!J:J) -> 1037.3717 | F15: =E15/1000-1 -> 0.037371663 | I15: 2015-10 | J15: =1000*cambi_mensili!$G204 -> 1101.7 | K15: =J15/XD9U!K15 -> 20.646551 | L15: =K15*_xlfn.XLOOKUP(LEFT(I15,4)+1&RIGHT(I15,3),XD9U!I:I,XD9U!K:K) -> 1142.2705 | M15: =L15/_xlfn.XLOOKUP(LEFT(I15,4)+1&RIGHT(I15,3),cambi_mensili!$F:$F,cambi_mensili!$G:$G) -> 1043.5506 | N15: =M15/1000-1 -> 0.043550588 | P15: =E15-M15 -> -6.1789245
B16: 2015-11 | C16: 1000 | D16: =C16/XD9U!J16 -> 19.77066 | E16: =D16*_xlfn.XLOOKUP(LEFT(B16,4)+1&RIGHT(B16,3),XD9U!I:I,XD9U!J:J) -> 1074.7331 | F16: =E16/1000-1 -> 0.074733096 | I16: 2015-11 | J16: =1000*cambi_mensili!$G205 -> 1057.9 | K16: =J16/XD9U!K16 -> 19.797885 | L16: =K16*_xlfn.XLOOKUP(LEFT(I16,4)+1&RIGHT(I16,3),XD9U!I:I,XD9U!K:K) -> 1136.3986 | M16: =L16/_xlfn.XLOOKUP(LEFT(I16,4)+1&RIGHT(I16,3),cambi_mensili!$F:$F,cambi_mensili!$G:$G) -> 1068.546 | N16: =M16/1000-1 -> 0.068545965 | P16: =E16-M16 -> 6.1871314
B17: 2015-12 | C17: 1000 | D17: =C17/XD9U!J17 -> 20.542317 | E17: =D17*_xlfn.XLOOKUP(LEFT(B17,4)+1&RIGHT(B17,3),XD9U!I:I,XD9U!J:J) -> 1156.9433 | F17: =E17/1000-1 -> 0.1569433 | I17: 2015-12 | J17: =1000*cambi_mensili!$G206 -> 1088.7 | K17: =J17/XD9U!K17 -> 20.63104 | L17: =K17*_xlfn.XLOOKUP(LEFT(I17,4)+1&RIGHT(I17,3),XD9U!I:I,XD9U!K:K) -> 1209.4947 | M17: =L17/_xlfn.XLOOKUP(LEFT(I17,4)+1&RIGHT(I17,3),cambi_mensili!$F:$F,cambi_mensili!$G:$G) -> 1147.4194 | N17: =M17/1000-1 -> 0.14741935 | P17: =E17-M17 -> 9.5239489
... B96: 2022-07 | C96: 1000 | D96: =C96/XD9U!J96 -> 8.846426 | E96: =D96*_xlfn.XLOOKUP(LEFT(B96,4)+1&RIGHT(B96,3),XD9U!I:I,XD9U!J:J) -> 1052.7247 | F96: =E96/1000-1 -> 0.052724699 | I96: 2022-07 | J96: =1000*cambi_mensili!$G285 -> 1019.8 | K96: =J96/XD9U!K96 -> 8.849358 | L96: =K96*_xlfn.XLOOKUP(LEFT(I96,4)+1&RIGHT(I96,3),XD9U!I:I,XD9U!K:K) -> 1159.5314 | M96: =L96/_xlfn.XLOOKUP(LEFT(I96,4)+1&RIGHT(I96,3),cambi_mensili!$F:$F,cambi_mensili!$G:$G) -> 1051.92 | N96: =M96/1000-1 -> 0.05191996 | P96: =E96-M96 -> 0.80473922
